{"text_format":"1","workbook":"xlsx","n_sheets":20,"sheets":["Title","Introduction","Ingredients","Nutrients","Formulate","Enzymes","Coefficients","Feed Spec","Mixing Sheet","Graphs","Digestibility","N to TP Factors ","AMEn Calc","Composition Charts","Weende v Armidale","ME Calc","NE Calc","AA Energy","Phospholipids","Sheet1"],"not_rendered":{"charts":5,"images":11,"macros":1,"external_links":0,"defined_names":495,"comments":4,"pivot_tables":0},"unopened":[],"bounds":{"document_bytes":16777216,"sheet_cells":100000,"rows_first":2000,"rows_last":500,"rows_between":2000,"halvings":0,"cell_chars":16384,"cell_head_chars":4096},"cells_cut":0,"cells_raw":0,"read":"whole","date_system":"1900"}

{"sheet":"Title","index":0,"n_rows":67,"n_cols":11,"rows_kept":67,"cut":false,"hidden":false,"merged":[[66,7,66,9],[27,1,27,9],[30,1,30,10],[61,2,61,4],[62,3,62,5],[63,4,63,6],[64,5,64,7],[1,1,1,7],[23,1,23,9],[24,1,24,9],[26,1,26,9],[65,6,65,8]]}
[]
[null,"UffdAu 3.0"]
[null,"User-Friendly Feed Formulation, Data from Australia"]
[null,null,null,null,null,null,null,"15 January 2024"]
[]
[null,null,null,null,null,null,null,null,null,null," "]
[]
[null,"Gene Pesti, The University of Georgia, Athens GA USA"]
[null,"Rashed Alhotan, The University of Georgia, Athens GA USA"]
[null,"Dmitry Vedenov, The University of Georgia, Athens GA USA"]
[null,"Evan Thomson, The University of New England, Armidale NSW Australia"]
[]
[]
[]
[]
[]
[]
[]
[]
[]
[]
[]
[]
[]
[]
[]
[]
[]
[]
[]
[]
[null,"WELCOME TO UFFDAu 3.0"]
[]
[null,"WINDOWS-BASED USER-FRIENDLY"]
[null,"FEED FORMULATION WORKBOOK"]
[]
[]
[]
[]
[null,"THE UFFDAu WORKBOOK CONSISTS OF"]
[null,"A SERIES OF LINKED SPREADSHEETS"]
[]
[null,"TITLE"]
[null,null,"INGREDIENTS"]
[null,null,null,"NUTRIENTS"]
[null,null,null,null,"SENSITIVITY REPORT"]
[null,null,null,null,null,"FORMULATE"]
[null,null,null,null,null,null,"FEED SPECIFICATION"]
[null,null,null,null,null,null,null,"MIXING SHEET"]
[null,null,null,null,null,null,null,null,"GRAPHS"]
[null,null,null,null,null,null,null,null,null,"COEFFICIENTS"]
[]
[]
[]
[]
[]
[]
[null,"UFFDAu AND EXCEL ARE A POWERFUL TEAM"]
[]
[null,"BUT YOU ONLY NEED TO KNOW HOW TO :"]
[]
[null,null,"POINT"]
[null,null,null,"CLICK"]
[null,null,null,null,"COPY"]
[null,null,null,null,null,"PASTE"]
[null,null,null,null,null,null,"TYPE NUMBERS"]
[null,null,null,null,null,null,null,"TYPE LETTERS"]

{"sheet":"Introduction","index":1,"n_rows":41,"n_cols":19,"rows_kept":41,"cut":false,"hidden":false,"merged":[[26,11,27,11],[26,12,27,12],[26,14,27,14],[26,15,27,15]]}
[]
[null,"UFFDAu is capable of solving simple linear programming problems.  In addition, there are examples of how to keep nutrients in specific ratios.  Examples of ratios that can be specified are for 1) mineral balance, essential amino acid balance and  2) digestible lysine to the true protein to assure adequate non-essential amino acids.  "]
[]
[null,"There are three key spreadsheets, called Ingredients, Nutrients and Formulate.  Several other spreadsheets help students to use the results and better understand where some of the input data comes from. "]
[]
[null,"The feed ingredient data that is used in the example problems comes mainly from a recent Australian Feed Composition Database.  The nutrient requirement data is simplified interpretations of various recent breeder recommendations.  "]
[null,null,null,null,null,null,null,null,null,null,null,null,null,null,null,null,null,null," "]
[null,"Because UFFDAu runs in Excel, it is fully customizable for any ingredients or nutrient restrictions for any species that users would like to study. This version uses metric units including energy in kJ/kg  any units for weights, but any units users would rather use can be easily substituted."]
[]
[null,"On the top of the Ingredients Spreadsheet is a box for ingredient composition data to be used in the current problem that is to be formulated.  Beneath the Active Ingredient Composition Matrix box are many more ingredients that can be copied into the Active Ingredient Compositon Matrix Box when needed."]
[]
[null,"On the upper left of the Nutrients Spreadsheet is a box containing the Current Specification.  That is where the nutrient requirements are found for the current problem to be solved.  Many more feed restrictions can be stored to the right of the Current Specificiation.  There are two versions of each feed that can be coppied into the Current Specification cells.  One has amino acid requirements as g/kg of diet.  The other (found beneath) has the amino acids as a proportion of digestible lysine content.  This way of specifiying amino acids is used when keeping the amino acids in balance is thought necessary. "]
[]
[null,"The Formulate Spreadsheet is where the Solver routine of Excel is invoked (by clicking on the <Formulate Now> button) to find the least-cost solution.  If parametric cost ranging is important, the <Get Sensitivity Report> can be chosen to open a new spreadsheet from which shadow prices can be calculated.  Changes should not normally be made to the Formulate spreadsheet as they will be permanent and break the links to the other spreadsheets.  "]
[]
[null,"The Feed Spec Spreadsheet is another presentation of the formulation results to print or store your solutions.  Column P contains the ingredient and nutrient levels of the last feed formulated for copying to other columns to be stored."]
[]
[null,"The Mixing Sheet Spreadsheet calculates how much of each ingredient is needed for a specified batch size of the last formulation result."]
[]
[null,"The Graphs Spreadsheet presents how each nutrient compares to the requirement specified for it."]
[]
[null,"The Enzymes Spreadsheet is used to demonstrate how responses to enzymes can be added to linear feed formulation models.  A linear approximation of enzyme kinetics is used to determine how much of each nutrient is liberated by different enzyme levels."]
[]
[null,"The Coefficients Spreadsheet can be used to update amino acid concentration and digestibility values separately.  Results are automatically transferred to the Ingredients spreadsheet."]
[]
[null,"The Digestibility Spreadsheet calculates protein digestibility from amino acid digestibility values.  It also contains calculations for Non-Starch Polysaccharide digestibility values. "]
[]
[null,"The N to TP Factors Spreadsheet shows how measured amino acid nitrogen to protein conversion factors are used to calculate the true protein content of feed ingredients.   Factors for choline and betaine in feed ingredients are included since they are metabolically converted to sarcosine and then glycine."]
[null,"The AMEn Calc Spreadsheet shows how crude Apparent Metabolizable Energy values are calculated based on the Weende Method of feed ingredient evaluation.  AMEn values are calculated based on Crude Protein, Crude Fat, Crude Fibre, etc.  "]
[]
[null,"The Composition Charts Spreadsheet shows the relationship between the 19th Century Weende Method (Proximate Analysis) and modern chemical concepts and techniques, labeled the Armidale Method.  The spreadsheet shows an example comparing the two methods."]
[]
[null,"The Weende v Armidale Spreadsheet compares analyzed values for 12 example Australian feed ingredients for 19th versus 21st Century analytical techniques.  "]
[]
[null,"The ME Calc Spreadsheet shows how Metabolizable Energy (ME) values are calculated based on metabolic fuel values of ingredient compositions."]
[]
[null,"The NE Calc Spreadsheet shows how Net Energy (NE) values are calculated based on ATP generated by the feed ingredient components."]
[]
[null,"The Ingredient Energy Spreadsheet shows a comparison of AMEn, ME and NE values for the 12 example Australian feed ingredients."]
[]
[null,"The Energy Needs Spreadsheet shows a comparison of AMEn, ME and NE values for 22 example feeds formulated with the 12 example Australian feed ingredients. "]

{"sheet":"Ingredients","index":2,"n_rows":307,"n_cols":40,"rows_kept":307,"cut":false,"hidden":false,"merged":[[1,0,2,0],[167,1,168,1]]}
[null,"UffdAu 3.0","Cost","Min.","Max.","Weight","Dry Matter","AMEn","Metabolisable Energy","Net Energy","Crude Protein","True Protein","Lipids","Crude Fibre","Calcium","Total Phosphorous","Available Phosphorous","Ca:aP","Na","Cl","Choline","Betaine","dLYS","dMET","dTSAA","dTHR","dTRP","dARG","dVAL","TP:dLYS","Total NSP","Soluble NSP","Insoluble NSP","Lignin","18:2","Nutrient","Nutrient","Nutrient","Nutrient","Nutrient"]
[null,"Instructions",null,null,null,null,null,null,null,null,null,null,null,null,null,null,null,2,null,null,null,null,null,null,null,null,null,null,null,{"$f":"(1/(5.58+1*0.7))*100","v":15.923566878980891}]
[null,null,"ACTIVE INGREDIENT COMPOSITION MATRIX",null,null,null,null,null,null,null,null,null,null,null,"ACTIVE INGREDIENT COMPOSITION MATRIX",null,null,null,null,null,null,null,null,null,null,"ACTIVE INGREDIENT COMPOSITION MATRIX"]
[null,"Wheat",380,0,100,1,904,13.29,14.89397441777411,9.2495094835826013,100.86380000000001,{"$f":"(K4/6.25)*5.636","v":90.954940288000017},18.080000000000002,19.888000000000002,0.54239999999999999,2.6215999999999999,0.63280000000000003,{"$f":"Q4-(1/R$2*O4)","v":0.36160000000000003},0.18080000000000002,0.72320000000000007,889,3060,2.4558666666666666,1.3861333333333332,3.1489333333333338,2.5462666666666669,0.84373333333333356,4.3844000000000012,3.9022666666666672,{"$f":"W4-(1/AD$2*L4)","v":-3.2561035834197356},104.71249729113956,20.286868323952643,85.12183260498675,9.8648000000000007,8.136000000000001]
[null,"Soybean Meal (local)",875,0,100,1,885,10.45,13.441414737190389,6.0862386549568379,404.35649999999998,{"$f":"(K5/6.25)*5.636","v":364.63251744000002},17.235374999999998,28.651875,2.2124999999999999,6.1950000000000003,2.2124999999999999,{"$f":"Q5-(1/R$2*O5)","v":1.10625},0.17700000000000002,0.79649999999999999,3360,null,22.921499999999998,5.0445000000000011,9.823500000000001,13.3635,4.9559999999999995,27.612000000000002,17.346,{"$f":"W5-(1/AD$2*L5)","v":2.2577904767995705E-2},150.5480238448003,29.526566441105523,120.99531357314723,0.53789999999999993,4.4249999999999998]
[null,"Meat and Bone Meal",800,0,2,1,940,9.0690825000000004,14.202554576446774,6.0733472948915335,460.08299999999997,{"$f":"(K6/6.25)*5.636","v":414.88444607999992},83.54249999999999,0,113.74,35.908000000000001,44.931999999999995,-11.938000000000002,6.2039999999999997,5.64,1751,null,16.465666666666664,4.9976666666666674,6.9599166666666683,10.269500000000001,1.9035000000000002,25.91266666666667,14.429,-9.5890765471573332,null,null,null,null,32.9]
[null,"Mixed Recycled Vegetable Oil",1240,0,100,1,985,36.6,38.93,25.55,null,null,98.5,null,null,null,null,null,null,null,null,null,null,null,null,null,null,null,null,null,null,null,null,null,150]
[null,"Salt",117,0.4,0.4,1,990,null,null,null,null,null,null,null,null,null,null,null,393,607]
[null,"Vitamin Premix",7200,0.05,0.05,1,990]
[null,"Trace Mineral Premix",2120,7.4999999999999997E-2,7.4999999999999997E-2,1,990]
[null,"Limestone, Fine",104,0,100,1,990,null,null,null,null,null,null,null,380,null,null,-190]
[null,"Dicalcium Phosphate",1920,0,100,1,990,null,null,null,null,null,null,null,230,175,175,60]
[null,"DL-Methionine",9600,0,100,1,998,21.003679999999999,null,null,581,523.91999999999996,null,null,null,null,null,null,null,null,null,null,null,980,980,null,null,null,null,-32.902176000000004]
[null,"L-LysineHCl",5400,0,100,1,985,17.23808,null,null,934,842.24,null,null,null,null,null,null,null,194,null,null,780,null,null,null,null,null,null,727.10732800000005]
[null,"L-Threonine",7400,0,100,1,998,14.602160000000001,null,null,724,652.87,null,null,null,null,null,null,null,null,null,null,null,null,null,985,null,null,null,-41.000236000000008]
[null,"L-Tryptophan ",30000,0,100,1,990,23.890640000000001,null,null,840,757.48,null,null,null,null,null,null,null,null,null,null,null,null,null,null,980,null,null,-47.569744000000007]
[]
[]
[]
[]
[]
[]
[]
[]
[]
[]
[]
[]
[null,"Phytase 3000",5,0.05,0,1,998,0,347.76354679802967,0,0.57177339901477853,0,0,0,0.25847290640394094,0,0.23497536945812814,0.10573891625615765,4.6995073891625626E-2,0,0,0,2.3497536945812813E-2,0,5.1694581280788195E-2,4.5428571428571443E-2,2.6630541871921192E-2,1.7231527093596065E-2,3.1330049261083757E-2,0,0,0,0,0,0,0,0,0,0,0]
[null,null,"STORAGE INGREDIENT COMPOSITION MATRIX",null,null,null,null,null,null,null,null,null,null,null,"STORAGE INGREDIENT COMPOSITION MATRIX",null,null,null,null,null,null,null,null,null,null,"STORAGE INGREDIENT COMPOSITION MATRIX"]
[null,"Wheat",380,0,100,1,904,13.285977750000001,14.89397441777411,9.2495094835826013,100.86380000000001,{"$f":"(K31/6.25)*5.636","v":90.954940288000017},18.080000000000002,19.888000000000002,0.54239999999999999,2.6215999999999999,0.63280000000000003,0.36159999999999998,0.18080000000000002,0.72320000000000007,889,3060,2.4558666666666666,1.3861333333333332,3.1489333333333338,2.5462666666666669,0.84373333333333356,4.3844000000000012,3.9022666666666672,{"$f":"W31-(1/AD$2*L31)","v":-3.2561035834197356},104.71249729113956,20.286868323952643,85.12183260498675,9.8648000000000007,8.136000000000001]
[null,"Sorghum",304,0,100,1,888,12.247171758333337,14.993800423764773,9.4508520579789881,86.158199999999994,{"$f":"(K32/6.25)*5.636","v":77.694018431999993},31.834800000000001,19.580399999999997,0.53279999999999994,2.5752000000000002,0.62159999999999993,0.35519999999999996,0.17760000000000001,0.71040000000000003,660,null,1.3912000000000002,1.0952,2.2939999999999996,1.9832000000000001,0.88800000000000001,1.7168000000000003,3.2560000000000002,-3.4879843575295997,53.943683538508687,5.4254092332701873,49.48032875733908,9.7317,10.656000000000001]
[null,"Barley",400,0,100,1,905,11.830577999999999,14.237479449136655,8.4353353097658044,84.496833333333342,76.195864426666674,23.077500000000001,52.037500000000001,0.36200000000000004,2.4435000000000002,0.63349999999999995,0.45249999999999996,0.13575000000000001,0.99550000000000016,1038,null,2.4434999999999998,1.1463333333333334,2.6848333333333336,1.9909999999999999,0.84466666666666657,3.4390000000000009,3.2881666666666667,-2.3416002859946681,154.35947445181515,41.720029395773999,112.63650387957055,9.8141999999999996,7.6924999999999999]
[null,"Corn",352,0,100,1,900,14.078041000000001,15.270454104486175,9.5715017827625832,77.174999999999997,69.593328,35.730000000000004,18.809999999999999,0.54,2.61,0.63,0.36,0.18000000000000002,0.72000000000000008,530,null,1.9350000000000001,1.3500000000000003,2.97,2.34,0.45,3.2850000000000001,3.42,-2.4354609984000004,70.321745200373286,8.6696179786941929,61.629081882057335,1.2424999999999999,16.2]
[null,"Soybean Meal (Brazil)",890,0,100,1,885,10.71071255,13.547535698719873,6.0972288611376451,417.830625,376.78294440000002,17.235374999999998,31.970625000000002,2.2124999999999999,6.1950000000000003,2.2124999999999999,1.10625,0.17700000000000002,0.79649999999999999,3360,null,22.855125000000001,4.9117500000000005,9.9341250000000016,13.684312500000003,5.0776874999999988,28.574437500000002,16.837125,-0.80684390832000474,150.5480238448003,29.526566441105523,120.99531357314723,0.53789999999999993,4.4249999999999998]
[null,"Soybean Meal (local)",875,0,100,1,885,10.45389275,13.441414737190389,6.0862386549568379,404.35649999999998,364.63251744000002,17.235374999999998,28.651875,2.2124999999999999,6.1950000000000003,2.2124999999999999,1.10625,0.17700000000000002,0.79649999999999999,3360,null,22.921499999999998,5.0445000000000011,9.823500000000001,13.3635,4.9559999999999995,27.612000000000002,17.346,2.2577904767995705E-2,150.5480238448003,29.526566441105523,120.99531357314723,0.53789999999999993,4.4249999999999998]
[null,"Canola Meal (Solvent Extracted) ",444,0,100,1,925,8.9,12.081743671757721,5.8910945975044804,338.38234374999996,305.1396623,26.524374999999996,109.13612500000002,5.5500000000000007,8.51,5.7350000000000003,2.9600000000000004,0.37000000000000005,0.64749999999999996,6450,null,14.36178125,5.2516875000000001,10.4363125,10.643281249999999,3.5184687500000016,17.119437500000007,13.119968750000002,-4.8009895424400035,111.9,10.8,101.1,88.085700000000003,3.0617500000000004]
[null,"Canola Meal (Cold Pressed)",450,0,100,1,896,10.370379033333332,14.067955048488606,7.7583474187918471,327.87626666666665,295.66570222933336,112.2688,93.497599999999991,5.3760000000000003,8.7897600000000011,3.5123199999999999,0.82431999999999994,0.35840000000000005,0.62719999999999998,6450,null,13.820800000000002,4.7936000000000005,9.7216000000000005,9.4304000000000006,3.2927999999999997,15.321600000000002,11.603199999999999,-4.7470061000021353,154.80000000000001,14.9,139.9,89.482500000000002,2.2400000000000002]
[null,"Lupins",1000,0,100,1,910,7.9926169499999986,14.892533817445978,7.4882517613751096,291.15449999999998,262.55148192000001,58.058,107.56200000000001,2.093,5.7329999999999997,2.6389999999999998,1.5925,9.1000000000000011E-2,0.36400000000000005,700,null,13.104000000000003,1.5925000000000002,5.1415000000000006,8.2355,2.0020000000000002,29.893500000000003,9.7825000000000006,-3.3842330645760015,273.16803414762126,25.27991342956696,247.88850637987267,10.817999999999998,11.83]
[null,"Peas",1000,0,100,1,913,11.592083580000001,14.340144808428539,8.1397911658634001,198.39490000000001,178.904585024,17.620900000000002,52.691969,1.3694999999999999,3.1955,1.6434000000000002,0.95865000000000011,1.4608000000000001,0.73040000000000005,700,null,11.5038,1.23255,3.1498500000000003,5.2953999999999999,1.2782,16.844850000000001,6.8018500000000008,0.26859206049279827,110.43691915359183,24.018222969189114,80.034080799787333,3.5680000000000001,9.1300000000000008]
[null,"Meat Meal",900,0,100,1,940,10.757325000000002,15.242132248080091,6.7894986139656517,481.84399999999999,434.50764543999998,108.19399999999999,0,78.207999999999998,50.008000000000003,32.335999999999999,-6.7680000000000025,6.2039999999999997,5.64,1751,null,15.885999999999997,4.5119999999999996,7.5360821534442533,9.5879999999999992,1.6920000000000002,25.285999999999998,13.536000000000001,-11.401080133632005,null,null,null,null,32.9]
[null,"Meat and Bone Meal",800,0,100,1,940,9.0690825000000004,14.202554576446774,6.0733472948915335,460.08299999999997,414.88444607999992,83.54249999999999,0,113.74,35.908000000000001,44.931999999999995,-11.938000000000002,6.2039999999999997,5.64,1751,null,16.465666666666664,4.9976666666666674,6.9599166666666683,10.269500000000001,1.9035000000000002,25.91266666666667,14.429,-9.5890765471573332,null,null,null,null,32.9]
[null,"Tallow",1080,0,100,1,985,29.3,38.93,25.55,null,null,98.5,null,null,null,null,null,null,null,null,null,null,null,null,null,null,null,null,null,null,null,null,null,30]
[null,"Mixed Recycled Vgetable Oil",1240,0,100,1,985,36.6,38.93,25.55,null,null,98.5,null,null,null,null,null,null,null,null,null,null,null,null,null,null,null,null,null,null,null,null,null,150]
[null,"Soybean Oil",1300,0,100,1,985,null,null,null,null,null,98,null,null,null,null,null,null,null,null,null,null,null,null,null,null,null,null,null,null,null,null,null,531]
[null,"Salt",100,0.4,0.4,1,990,null,null,null,null,null,null,null,null,null,null,null,39.299999999999997,60.7]
[null,"Vitamin Premix",7200,0,100,1,990]
[null,"Trace Mineral Premix",2120,0,100,1,990]
[null,"Limestone, Fine",320,0,100,1,990,null,null,null,null,null,null,null,380]
[null,"Limestone, Coarse",320,0,100,1,990,null,null,null,null,null,null,null,380]
[null,"Dicalcium Phosphate",1920,0,100,1,990,null,null,null,null,null,null,null,230,175]
[null,"Mono-Dicalcium Phosphate",1400,0,100,1,990,null,null,null,null,null,null,null,190,210]
[null,"Dicalcium Phosphate",1920,0,100,1,990,null,null,null,null,null,null,null,230,175]
[null,"DL-Methionine",9600,0,100,1,998,21.003679999999999,null,null,null,null,null,null,null,null,null,null,null,null,null,null,null,980,980]
[null,"Methionine Hydroxy Analogue Powder",7800,0,100,1,998,16.777840000000001,null,null,null,null,null,null,null,null,null,null,null,null,null,null,null,672,672]
[null,"L-LysineHCl",5400,0,100,1,985,17.23808,null,null,null,null,null,null,null,null,null,null,null,194,null,null,780]
[null,"L-Threonine",7400,0,100,1,998,14.602160000000001,null,null,null,null,null,null,null,null,null,null,null,null,null,null,null,null,null,985]
[null,"L-Tryptophan ",30000,0,100,1,990,23.890640000000001,null,null,null,null,null,null,null,null,null,null,null,null,null,null,null,null,null,null,980]
[null,"L-Arginine",11000,0,100,1,993,null,null,null,null,null,null,null,null,null,null,null,null,12.1,null,null,null,null,null,null,null,993]
[null,"L-Valine",12000,0,100,1,980,22.007840000000002,null,null,null,null,null,null,null,null,null,null,null,null,null,null,null,null,null,null,null,null,980]
[null,"Phytase",14000,0,100,1,990]
[null,"Xylanase",14400,0,100,1,990]
[null,null,null,null,null,null,0]
[null,null,null,null,null,null,0]
[null,null,null,null,null,null,0]
[null,null,null,null,null,null,0]
[null,null,null,null,null,null,0]
[null,null,null,null,null,null,0]
[null,null,null,null,null,null,0]
[null,null,null,null,null,null,0]
[null,null,null,null,null,null,0]
[null,null,null,null,null,null,0]
[null,"BAKERY MEAL [CR]",175,0,100,1,910,14.756968000000001,null,null,100,90.176000000000002,115,30,1,2.5,1.8,13,11.399999999999999,12.5,12.3,null,{"$f":"Coefficients!B3*Coefficients!J3/100","v":1.7718},{"$f":"Coefficients!C3*Coefficients!K3/100","v":1.3344000000000003},{"$f":"Coefficients!D3*Coefficients!L3/100","v":2.5097600000000004},{"$f":"Coefficients!E3*Coefficients!M3/100","v":1.9322800000000004},{"$f":"Coefficients!F3*Coefficients!N3/100","v":0.7557299999999999},{"$f":"Coefficients!G3*Coefficients!O3/100","v":3.2183999999999999},{"$f":"Coefficients!H3*Coefficients!P3/100","v":3.0663999999999998},{"$f":"W73-(1/AD$2*L73)","v":-3.8912528000000011}]
[null,"BARLEY (>10% CP) [CR]",209,0,100,1,890,11.506,null,null,115,103.70240000000001,19,50,0.8,4.2,1.5,10.999999999999998,0.3,1.4000000000000001,10.27,null,{"$f":"Coefficients!B4*Coefficients!J4/100","v":4.1891200000000008},{"$f":"Coefficients!C4*Coefficients!K4/100","v":1.4171400000000001},{"$f":"Coefficients!D4*Coefficients!L4/100","v":3.4683799999999998},{"$f":"Coefficients!E4*Coefficients!M4/100","v":2.7702},{"$f":"Coefficients!F4*Coefficients!N4/100","v":0},{"$f":"Coefficients!G4*Coefficients!O4/100","v":4.2145000000000001},{"$f":"Coefficients!H4*Coefficients!P4/100","v":5.038120000000001},-2.3233907200000008]
[null,"BLOOD MEAL (Flash Ring) [CR]",950,0,100,1,930,14.309280000000001,null,null,889,801.66464000000008,10,6,0.6,0.9,2.7000000000000003E-2,-2.7299999999999995,3.3,2.7,2.8000000000000003,null,{"$f":"Coefficients!B5*Coefficients!J5/100","v":78.3048},{"$f":"Coefficients!C5*Coefficients!K5/100","v":6.86775},{"$f":"Coefficients!D5*Coefficients!L5/100","v":13.775160000000001},{"$f":"Coefficients!E5*Coefficients!M5/100","v":34.674900000000001},{"$f":"Coefficients!F5*Coefficients!N5/100","v":11.546599999999998},{"$f":"Coefficients!G5*Coefficients!O5/100","v":33.956800000000001},{"$f":"Coefficients!H5*Coefficients!P5/100","v":77.245199999999997},27.960260607999992]
[null,"BLOOD MEAL (Vat) [CR]",950,0,100,1,890,13.472480000000001,null,null,800,721.40800000000002,10,10,2.8000000000000003,2.2000000000000002,2.2000000000000002,7.9999999999999982,3.1,2.8000000000000003,9.9,null,{"$f":"Coefficients!B6*Coefficients!J6/100","v":40.102799999999995},{"$f":"Coefficients!C6*Coefficients!K6/100","v":6.7430000000000003},{"$f":"Coefficients!D6*Coefficients!L6/100","v":12.021600000000001},{"$f":"Coefficients!E6*Coefficients!M6/100","v":22.549199999999999},{"$f":"Coefficients!F6*Coefficients!N6/100","v":6.68},{"$f":"Coefficients!G6*Coefficients!O6/100","v":15.632199999999997},{"$f":"Coefficients!H6*Coefficients!P6/100","v":28.969200000000001},-5.2016224000000122]
[null,"BREWERS GRAINS [CR]",56,0,100,1,930,9.3930800000000012,null,null,279,251.59103999999996,74,117,3,6.6,2,5.0000000000000018,2.6,1.2,21.099999999999998,null,{"$f":"Coefficients!B7*Coefficients!J7/100","v":5.5674000000000001},{"$f":"Coefficients!C7*Coefficients!K7/100","v":4.6572000000000005},{"$f":"Coefficients!D7*Coefficients!L7/100","v":11.416500000000001},{"$f":"Coefficients!E7*Coefficients!M7/100","v":7.2529999999999992},{"$f":"Coefficients!F7*Coefficients!N7/100","v":0},{"$f":"Coefficients!G7*Coefficients!O7/100","v":8.2120999999999995},{"$f":"Coefficients!H7*Coefficients!P7/100","v":13.20228},-10.232517311999999]
[null,"CAMELINA MEAL [CR]",120,0,100,1,900,13.924352000000001,null,null,339,305.69664,120,124,3.3,9.3999999999999986,0,-16.5,1,0,0,null,{"$f":"Coefficients!B8*Coefficients!J8/100","v":14.07714},{"$f":"Coefficients!C8*Coefficients!K8/100","v":5.77121},{"$f":"Coefficients!D8*Coefficients!L8/100","v":11.442699999999997},{"$f":"Coefficients!E8*Coefficients!M8/100","v":11.0383},{"$f":"Coefficients!F8*Coefficients!N8/100","v":3.8316600000000007},{"$f":"Coefficients!G8*Coefficients!O8/100","v":24.986940000000004},{"$f":"Coefficients!H8*Coefficients!P8/100","v":14.378910000000001},-5.1206089920000011]
[null,"CANOLA MEAL [CR]",222,0,100,1,910,8.8282399999999992,null,null,380,342.66880000000003,38,111,6.8,11.7,3,-4.0000000000000036,0,0,67,null,{"$f":"Coefficients!B9*Coefficients!J9/100","v":15.9176},{"$f":"Coefficients!C9*Coefficients!K9/100","v":6.8368300000000009},{"$f":"Coefficients!D9*Coefficients!L9/100","v":14.024399999999998},{"$f":"Coefficients!E9*Coefficients!M9/100","v":11.6625},{"$f":"Coefficients!F9*Coefficients!N9/100","v":3.8226},{"$f":"Coefficients!G9*Coefficients!O9/100","v":20.345800000000001},{"$f":"Coefficients!H9*Coefficients!P9/100","v":16.1311},-5.6020006400000035]
[null,"CASEIN [CR]",1000,0,100,1,900,17.23808,null,null,800,721.40800000000002,5,2,6,10,10,70,0.1,0,2.09,null,{"$f":"Coefficients!B10*Coefficients!J10/100","v":64.953000000000003},{"$f":"Coefficients!C10*Coefficients!K10/100","v":25.328699999999998},{"$f":"Coefficients!D10*Coefficients!L10/100","v":27.861000000000004},{"$f":"Coefficients!E10*Coefficients!M10/100","v":35.248800000000003},{"$f":"Coefficients!F10*Coefficients!N10/100","v":9.113999999999999},{"$f":"Coefficients!G10*Coefficients!O10/100","v":32.521000000000001},{"$f":"Coefficients!H10*Coefficients!P10/100","v":63.729599999999998},19.648577599999996]
[null,"CORN [CR]",176,0,100,1,860,14.112632000000001,null,null,75,67.632000000000005,35,19,0.1,2.3000000000000003,0.9,8.4999999999999982,0.2,0.4,11,null,{"$f":"Coefficients!B11*Coefficients!J11/100","v":1.9840799999999998},{"$f":"Coefficients!C11*Coefficients!K11/100","v":1.6574399999999998},{"$f":"Coefficients!D11*Coefficients!L11/100","v":3.15144},{"$f":"Coefficients!E11*Coefficients!M11/100","v":2.4345500000000002},{"$f":"Coefficients!F11*Coefficients!N11/100","v":0.56952000000000003},{"$f":"Coefficients!G11*Coefficients!O11/100","v":3.6392000000000002},{"$f":"Coefficients!H11*Coefficients!P11/100","v":3.7073399999999999},-2.2632096000000015]
[null,"Corn DDGS [CR]",227,0,100,1,920,11.715199999999999,null,null,270,243.47520000000003,90,85,1.4000000000000001,8.9,5.5,48.000000000000007,2,1.7,34,null,{"$f":"Coefficients!B12*Coefficients!J12/100","v":5.6},{"$f":"Coefficients!C12*Coefficients!K12/100","v":4.3707000000000003},{"$f":"Coefficients!D12*Coefficients!L12/100","v":9.0625999999999998},{"$f":"Coefficients!E12*Coefficients!M12/100","v":6.6166400000000012},{"$f":"Coefficients!F12*Coefficients!N12/100","v":1.5246000000000002},{"$f":"Coefficients!G12*Coefficients!O12/100","v":8.7439},{"$f":"Coefficients!H12*Coefficients!P12/100","v":10.645320000000002},-9.6902425600000051]
[null,"CORN GLUTEN FEED [CR]",130,0,100,1,880,7.3220000000000001,null,null,210,189.36959999999999,20,100,2,9,2.2000000000000002,12,1.5,2.2000000000000002,24.2,null,{"$f":"Coefficients!B13*Coefficients!J13/100","v":4.2138},{"$f":"Coefficients!C13*Coefficients!K13/100","v":4.1960000000000006},{"$f":"Coefficients!D13*Coefficients!L13/100","v":8.0123999999999995},{"$f":"Coefficients!E13*Coefficients!M13/100","v":6.7680000000000007},{"$f":"Coefficients!F13*Coefficients!N13/100","v":0},{"$f":"Coefficients!G13*Coefficients!O13/100","v":8.81},{"$f":"Coefficients!H13*Coefficients!P13/100","v":8.4999200000000013},-7.6786108800000017]
[null,"CORN GLUTEN MEAL [CR]",630,0,100,1,900,15.648160000000001,null,null,600,541.05600000000004,20,25,0.2,5,1.8,16.999999999999996,0.3,0.5,22,null,{"$f":"Coefficients!B14*Coefficients!J14/100","v":8.8129999999999988},{"$f":"Coefficients!C14*Coefficients!K14/100","v":18.203900000000001},{"$f":"Coefficients!D14*Coefficients!L14/100","v":26.595899999999997},{"$f":"Coefficients!E14*Coefficients!M14/100","v":18.260000000000002},{"$f":"Coefficients!F14*Coefficients!N14/100","v":2.5454999999999997},{"$f":"Coefficients!G14*Coefficients!O14/100","v":17.954999999999998},{"$f":"Coefficients!H14*Coefficients!P14/100","v":25.420500000000001},-25.16531680000001]
[null,"COTTONSEED MEAL [CR]",300,0,100,1,900,8.4098399999999991,null,null,410,369.72159999999997,21,113,1.6,10,3.2,24,0.4,0.4,27.059999999999995,null,{"$f":"Coefficients!B15*Coefficients!J15/100","v":10.6777},{"$f":"Coefficients!C15*Coefficients!K15/100","v":3.6663899999999994},{"$f":"Coefficients!D15*Coefficients!L15/100","v":8.0681999999999992},{"$f":"Coefficients!E15*Coefficients!M15/100","v":8.9994399999999999},{"$f":"Coefficients!F15*Coefficients!N15/100","v":4.1735199999999999},{"$f":"Coefficients!G15*Coefficients!O15/100","v":39.745140000000006},{"$f":"Coefficients!H15*Coefficients!P15/100","v":13.884780000000001},-12.540816480000002]
[null,"FEATHER MEAL [CR]",580,0,100,1,930,12.04992,null,null,850,766.49600000000009,40,15,2,7,7,60,7,2.8000000000000003,8.8000000000000007,null,{"$f":"Coefficients!B16*Coefficients!J16/100","v":13.450049999999999},{"$f":"Coefficients!C16*Coefficients!K16/100","v":4.8301499999999997},{"$f":"Coefficients!D16*Coefficients!L16/100","v":29.285699999999999},{"$f":"Coefficients!E16*Coefficients!M16/100","v":27.945200000000003},{"$f":"Coefficients!F16*Coefficients!N16/100","v":4.0925000000000002},{"$f":"Coefficients!G16*Coefficients!O16/100","v":47.943499999999993},{"$f":"Coefficients!H16*Coefficients!P16/100","v":47.311000000000007},-34.685898800000018]
[null,"FISH MEAL, Menhaden [CR]",1125,0,100,1,920,12.3428,null,null,620,559.09120000000007,92,10,48,30,30,60.000000000000007,6.8,8,30.8,null,{"$f":"Coefficients!B17*Coefficients!J17/100","v":42.398699999999998},{"$f":"Coefficients!C17*Coefficients!K17/100","v":15.786199999999999},{"$f":"Coefficients!D17*Coefficients!L17/100","v":19.5976},{"$f":"Coefficients!E17*Coefficients!M17/100","v":25.077249999999999},{"$f":"Coefficients!F17*Coefficients!N17/100","v":4.4170000000000007},{"$f":"Coefficients!G17*Coefficients!O17/100","v":33.788049999999998},{"$f":"Coefficients!H17*Coefficients!P17/100","v":25.863600000000002},7.2877726399999858]
[null,"MEAT & BONE MEAL (High Quality) [CR]",450,0,100,1,920,10.585519999999999,null,null,500,450.88,85,28,92,47,47,10.000000000000053,8,7.5,20,null,{"$f":"Coefficients!B18*Coefficients!J18/100","v":21.6996},{"$f":"Coefficients!C18*Coefficients!K18/100","v":5.8732199999999999},{"$f":"Coefficients!D18*Coefficients!L18/100","v":8.0909999999999993},{"$f":"Coefficients!E18*Coefficients!M18/100","v":13.968900000000001},{"$f":"Coefficients!F18*Coefficients!N18/100","v":2.0558199999999998},{"$f":"Coefficients!G18*Coefficients!O18/100","v":28.88035},{"$f":"Coefficients!H18*Coefficients!P18/100","v":19.091249999999999},-6.6156640000000024]
[null,"MEAT & BONE MEAL (Low Quality) [CR]",400,0,100,1,920,9.9370000000000012,null,null,450,405.79200000000003,85,25,110,59,59,40.000000000000036,6,7,19.8,null,{"$f":"Coefficients!B19*Coefficients!J19/100","v":16.929000000000002},{"$f":"Coefficients!C19*Coefficients!K19/100","v":4.299360000000001},{"$f":"Coefficients!D19*Coefficients!L19/100","v":5.9826700000000006},{"$f":"Coefficients!E19*Coefficients!M19/100","v":12.233940000000002},{"$f":"Coefficients!F19*Coefficients!N19/100","v":1.4340599999999997},{"$f":"Coefficients!G19*Coefficients!O19/100","v":22.14},{"$f":"Coefficients!H19*Coefficients!P19/100","v":18.957599999999999},-8.5547376000000028]
[null,"OAT GROATS [CR]",210,0,100,1,920,13.8072,null,null,160,144.2816,60,26,0.70000000000000007,4.5,1.7,13.5,0.5,0,12.32,null,{"$f":"Coefficients!B20*Coefficients!J20/100","v":3.5891999999999999},{"$f":"Coefficients!C20*Coefficients!K20/100","v":1.7913999999999999},{"$f":"Coefficients!D20*Coefficients!L20/100","v":3.9477199999999999},{"$f":"Coefficients!E20*Coefficients!M20/100","v":4.1590000000000007},{"$f":"Coefficients!F20*Coefficients!N20/100","v":0},{"$f":"Coefficients!G20*Coefficients!O20/100","v":8.2700999999999993},{"$f":"Coefficients!H20*Coefficients!P20/100","v":5.7122000000000002},-5.4716844800000004]
[null,"OATS [CR]",262,0,100,1,900,10.6692,null,null,105,94.684799999999996,40,105,1,3.5,1.4000000000000001,9.0000000000000018,0.70000000000000007,1.2,10.700000000000001,null,{"$f":"Coefficients!B21*Coefficients!J21/100","v":3.4663999999999997},{"$f":"Coefficients!C21*Coefficients!K21/100","v":1.7183999999999999},{"$f":"Coefficients!D21*Coefficients!L21/100","v":3.4620399999999996},{"$f":"Coefficients!E21*Coefficients!M21/100","v":2.3254000000000001},{"$f":"Coefficients!F21*Coefficients!N21/100","v":1.4039999999999997},{"$f":"Coefficients!G21*Coefficients!O21/100","v":7.4527999999999999},{"$f":"Coefficients!H21*Coefficients!P21/100","v":5.3642399999999997},-2.4798054400000011]
[null,"PEANUT MEAL [CR]",400,0,100,1,900,11.200568000000001,null,null,470,423.8272,25,84,0.8,5.6999999999999993,1.8,14,0.70000000000000007,0.3,19.48,null,{"$f":"Coefficients!B22*Coefficients!J22/100","v":11.821039999999998},{"$f":"Coefficients!C22*Coefficients!K22/100","v":4.2670000000000003},{"$f":"Coefficients!D22*Coefficients!L22/100","v":8.9187999999999992},{"$f":"Coefficients!E22*Coefficients!M22/100","v":9.3139200000000013},{"$f":"Coefficients!F22*Coefficients!N22/100","v":3.3835200000000003},{"$f":"Coefficients!G22*Coefficients!O22/100","v":42.435400000000001},{"$f":"Coefficients!H22*Coefficients!P22/100","v":15.973199999999999},-14.795308160000006]
[null,"POULTRY BY-PROD, feed grade [CR]",400,0,100,1,940,12.71936,null,null,530,477.93280000000004,140,25,50,27,27,20.000000000000018,3,5.5,59.8,null,{"$f":"Coefficients!B23*Coefficients!J23/100","v":17.198999999999998},{"$f":"Coefficients!C23*Coefficients!K23/100","v":7.5329800000000002},{"$f":"Coefficients!D23*Coefficients!L23/100","v":13.07544},{"$f":"Coefficients!E23*Coefficients!M23/100","v":14.477879999999997},{"$f":"Coefficients!F23*Coefficients!N23/100","v":3.8650000000000002},{"$f":"Coefficients!G23*Coefficients!O23/100","v":30.191000000000003},{"$f":"Coefficients!H23*Coefficients!P23/100","v":18.910320000000002},-12.81517984000001]
[null,"RAPESEED MEAL  [CR]",222,0,100,1,920,7.4056800000000003,null,null,360,324.6336,26,132,6.6,9.3000000000000007,3,-3.0000000000000027,0.9,0,67,null,{"$f":"Coefficients!B24*Coefficients!J24/100","v":16.779800000000002},{"$f":"Coefficients!C24*Coefficients!K24/100","v":6.2571300000000001},{"$f":"Coefficients!D24*Coefficients!L24/100","v":9.8881200000000007},{"$f":"Coefficients!E24*Coefficients!M24/100","v":12.617599999999999},{"$f":"Coefficients!F24*Coefficients!N24/100","v":3.6970200000000006},{"$f":"Coefficients!G24*Coefficients!O24/100","v":17.427720000000001},{"$f":"Coefficients!H24*Coefficients!P24/100","v":15.14789},-3.6071900800000023]
[null,"RICE (Rough) [CR]",300,0,100,1,890,12.30096,null,null,73,65.828479999999999,17,100,0.4,2.6,0.9,7,0.4,0.6,10.14,null,{"$f":"Coefficients!B25*Coefficients!J25/100","v":1.9116},{"$f":"Coefficients!C25*Coefficients!K25/100","v":1.2541200000000001},{"$f":"Coefficients!D25*Coefficients!L25/100","v":1.9210400000000001},{"$f":"Coefficients!E25*Coefficients!M25/100","v":2.2048199999999998},{"$f":"Coefficients!F25*Coefficients!N25/100","v":1.0895999999999999},{"$f":"Coefficients!G25*Coefficients!O25/100","v":5.4492399999999996},{"$f":"Coefficients!H25*Coefficients!P25/100","v":4.00936},-2.2224285440000004]
[null,"SOYBEAN MEAL (44% CP) [CR]",435,0,100,1,900,9.3721600000000009,null,null,440,396.77440000000001,5,70,2.5,6,2,7.5000000000000009,0.4,0.2,27.43,null,{"$f":"Coefficients!B26*Coefficients!J26/100","v":24.070500000000003},{"$f":"Coefficients!C26*Coefficients!K26/100","v":5.8077499999999995},{"$f":"Coefficients!D26*Coefficients!L26/100","v":14.49221},{"$f":"Coefficients!E26*Coefficients!M26/100","v":14.021600000000001},{"$f":"Coefficients!F26*Coefficients!N26/100","v":5.07},{"$f":"Coefficients!G26*Coefficients!O26/100","v":30.6068},{"$f":"Coefficients!H26*Coefficients!P26/100","v":20.764800000000001},-0.84693232000000052]
[null,"SOYBEAN MEAL (48% CP) [CR]",445,0,100,1,880,10.284272000000001,null,null,478,431.04128000000003,10,30,3.1,6.7,2.1,5.4999999999999991,0.4,0.2,28.5,null,{"$f":"Coefficients!B27*Coefficients!J27/100","v":27.421599999999998},{"$f":"Coefficients!C27*Coefficients!K27/100","v":6.454699999999999},{"$f":"Coefficients!D27*Coefficients!L27/100","v":12.40518},{"$f":"Coefficients!E27*Coefficients!M27/100","v":17.696000000000002},{"$f":"Coefficients!F27*Coefficients!N27/100","v":6.1999000000000004},{"$f":"Coefficients!G27*Coefficients!O27/100","v":33.418800000000005},{"$f":"Coefficients!H27*Coefficients!P27/100","v":24.540300000000002},0.35220761599999406]
[null,"SOYBEANS (Full Fat) [CR]",400,0,100,1,900,14.016400000000001,null,null,380,342.66880000000003,180,50,2.5,5.8999999999999995,2,7.5000000000000009,0.4,0.3,24.2,null,{"$f":"Coefficients!B28*Coefficients!J28/100","v":21.081599999999998},{"$f":"Coefficients!C28*Coefficients!K28/100","v":4.6542600000000007},{"$f":"Coefficients!D28*Coefficients!L28/100","v":8.8824100000000001},{"$f":"Coefficients!E28*Coefficients!M28/100","v":14.226420000000001},{"$f":"Coefficients!F28*Coefficients!N28/100","v":4.5536399999999997},{"$f":"Coefficients!G28*Coefficients!O28/100","v":25.163600000000002},{"$f":"Coefficients!H28*Coefficients!P28/100","v":17.238679999999999},-0.4380006400000056]
[null,"SESAMESEED MEAL [CR]",250,0,100,1,930,9.2466400000000011,null,null,438,394.97087999999997,86,97,19.899999999999999,13.7,2.6,-73.5,0,0,0,null,{"$f":"Coefficients!B29*Coefficients!J29/100","v":11.05},{"$f":"Coefficients!C29*Coefficients!K29/100","v":4.9920000000000009},{"$f":"Coefficients!D29*Coefficients!L29/100","v":7.4463999999999997},{"$f":"Coefficients!E29*Coefficients!M29/100","v":1.3529999999999998},{"$f":"Coefficients!F29*Coefficients!N29/100","v":0},{"$f":"Coefficients!G29*Coefficients!O29/100","v":23.52},{"$f":"Coefficients!H29*Coefficients!P29/100","v":8.9411000000000005},-13.754171264]
[null,"SORGHUM [CR]",152,0,100,1,890,13.84904,null,null,110,99.193600000000004,28,20,0.4,2.9,1,8,0.3,0.9,6.7799999999999994,null,{"$f":"Coefficients!B30*Coefficients!J30/100","v":1.9691100000000004},{"$f":"Coefficients!C30*Coefficients!K30/100","v":0.84870000000000001},{"$f":"Coefficients!D30*Coefficients!L30/100","v":2.4012000000000007},{"$f":"Coefficients!E30*Coefficients!M30/100","v":2.0679300000000005},{"$f":"Coefficients!F30*Coefficients!N30/100","v":0.71216999999999986},{"$f":"Coefficients!G30*Coefficients!O30/100","v":3.2044000000000001},{"$f":"Coefficients!H30*Coefficients!P30/100","v":4.3656100000000011},-4.2602480800000002]
[null,"SUNFLOWER MEAL [CR]",210,0,100,1,930,7.3638400000000006,null,null,420,378.73919999999998,23,210,4,10,2.5,4.9999999999999991,2,0.1,29,null,{"$f":"Coefficients!B31*Coefficients!J31/100","v":13.6629},{"$f":"Coefficients!C31*Coefficients!K31/100","v":13.672499999999999},{"$f":"Coefficients!D31*Coefficients!L31/100","v":18.920000000000002},{"$f":"Coefficients!E31*Coefficients!M31/100","v":12.558},{"$f":"Coefficients!F31*Coefficients!N31/100","v":0},{"$f":"Coefficients!G31*Coefficients!O31/100","v":32.5745},{"$f":"Coefficients!H31*Coefficients!P31/100","v":19.7225},-10.121921760000003]
[null,"TRITICALE [CR]",263,0,100,1,900,13.179600000000001,null,null,125,112.72,15,0,0.5,3,1,7.5000000000000009,0,0.70000000000000007,4.6000000000000005,null,{"$f":"Coefficients!B32*Coefficients!J32/100","v":3.5696700000000003},{"$f":"Coefficients!C32*Coefficients!K32/100","v":2.34598},{"$f":"Coefficients!D32*Coefficients!L32/100","v":4.36904},{"$f":"Coefficients!E32*Coefficients!M32/100","v":3.21048},{"$f":"Coefficients!F32*Coefficients!N32/100","v":1.2502000000000002},{"$f":"Coefficients!G32*Coefficients!O32/100","v":4.1654400000000003},{"$f":"Coefficients!H32*Coefficients!P32/100","v":4.5094199999999995},-3.5091460000000003]
[null,"WHEAT, hard, grain [CR]",190,0,100,1,880,13.26328,null,null,135,121.73760000000001,19,30,0.5,4.0999999999999996,1.2,9.5,0.6,0.70000000000000007,7.7799999999999994,null,{"$f":"Coefficients!B33*Coefficients!J33/100","v":3.2704000000000004},{"$f":"Coefficients!C33*Coefficients!K33/100","v":2.1985000000000001},{"$f":"Coefficients!D33*Coefficients!L33/100","v":4.8444000000000003},{"$f":"Coefficients!E33*Coefficients!M33/100","v":2.90815},{"$f":"Coefficients!F33*Coefficients!N33/100","v":1.5904799999999997},{"$f":"Coefficients!G33*Coefficients!O33/100","v":5.2458},{"$f":"Coefficients!H33*Coefficients!P33/100","v":5.9615999999999998},-4.3747212800000019]
[null,"WHEAT BRAN [CR]",175,0,100,1,890,5.4392000000000005,null,null,148,133.46048000000002,40,100,1.4000000000000001,11.7,3.8,31,0.6,1.4000000000000001,9.8000000000000007,null,{"$f":"Coefficients!B34*Coefficients!J34/100","v":4.4963999999999995},{"$f":"Coefficients!C34*Coefficients!K34/100","v":1.5658000000000001},{"$f":"Coefficients!D34*Coefficients!L34/100","v":3.8014999999999999},{"$f":"Coefficients!E34*Coefficients!M34/100","v":3.5687999999999995},{"$f":"Coefficients!F34*Coefficients!N34/100","v":2.4687000000000001},{"$f":"Coefficients!G34*Coefficients!O34/100","v":9.0340100000000021},{"$f":"Coefficients!H34*Coefficients!P34/100","v":5.3326000000000002},-3.884918144000002]
[null,"WHEAT MIDDLINGS [CR]",145,0,100,1,890,8.7445599999999999,null,null,150,135.26400000000001,36,85,1.5,9.1,2.8000000000000003,20.500000000000004,0.6,0.70000000000000007,11,null,{"$f":"Coefficients!B35*Coefficients!J35/100","v":5.5587},{"$f":"Coefficients!C35*Coefficients!K35/100","v":0.95831999999999995},{"$f":"Coefficients!D35*Coefficients!L35/100","v":2.5172000000000003},{"$f":"Coefficients!E35*Coefficients!M35/100","v":3.8935000000000004},{"$f":"Coefficients!F35*Coefficients!N35/100","v":1.6784000000000001},{"$f":"Coefficients!G35*Coefficients!O35/100","v":8.6509999999999998},{"$f":"Coefficients!H35*Coefficients!P35/100","v":6.3591999999999995},-2.9358792000000022]
[null,"WHEAT SHORTS [CR]",160,0,100,1,890,10.585519999999999,null,null,160,144.2816,42,60,1.1000000000000001,7.6,2.1,15.5,0.70000000000000007,0.8,9.3000000000000007,null,{"$f":"Coefficients!B36*Coefficients!J36/100","v":6.3398400000000006},{"$f":"Coefficients!C36*Coefficients!K36/100","v":1.4412599999999998},{"$f":"Coefficients!D36*Coefficients!L36/100","v":3.2052199999999997},{"$f":"Coefficients!E36*Coefficients!M36/100","v":3.9384999999999994},{"$f":"Coefficients!F36*Coefficients!N36/100","v":1.9487900000000002},{"$f":"Coefficients!G36*Coefficients!O36/100","v":8.2782999999999998},{"$f":"Coefficients!H36*Coefficients!P36/100","v":6.2970600000000001},-2.7210444799999998]
[]
[null,null,null,null,null,null,null,null,null,null,0,0,0,0,0,0,0,null,0,0,0]
[38,"BARLEY [SID]",209,0,100,1,890,11.506,null,null,115,103.70240000000001,19,50,0.8,4.2,1.5,10.999999999999998,0.3,1.4000000000000001,10.27,null,{"$f":"Coefficients!B38*Coefficients!J38/100","v":4.6640000000000006},{"$f":"Coefficients!C38*Coefficients!K38/100","v":1.5839999999999999},{"$f":"Coefficients!D38*Coefficients!L38/100","v":3.827},{"$f":"Coefficients!E38*Coefficients!M38/100","v":3.0599999999999996},{"$f":"Coefficients!F38*Coefficients!N38/100","v":1.4450000000000003},{"$f":"Coefficients!G38*Coefficients!O38/100","v":4.25},{"$f":"Coefficients!H38*Coefficients!P38/100","v":5.27},{"$f":"W109-(1/AD$2*L109)","v":-1.8485107200000011}]
[{"$f":"A109+1","v":39},"BLOOD MEAL CP <80% [SID]",950,0,100,1,890,13.472480000000001,null,null,800,721.40800000000002,10,10,2.8000000000000003,2.2000000000000002,2.2000000000000002,7.9999999999999982,3.1,2.8000000000000003,9.9,null,{"$f":"Coefficients!B39*Coefficients!J39/100","v":59.34},{"$f":"Coefficients!C39*Coefficients!K39/100","v":9.1},{"$f":"Coefficients!D39*Coefficients!L39/100","v":19.920000000000002},{"$f":"Coefficients!E39*Coefficients!M39/100","v":33.44},{"$f":"Coefficients!F39*Coefficients!N39/100","v":8.5},{"$f":"Coefficients!G39*Coefficients!O39/100","v":20.445},{"$f":"Coefficients!H39*Coefficients!P39/100","v":45.76},14.035577599999996]
[{"$f":"A110+1","v":40},"BLOOD MEAL CP >80% [SID]",950,0,100,1,930,14.309280000000001,null,null,889,801.66464000000008,10,6,0.6,0.9,0.9,6,3.3,2.7,2.8000000000000003,null,{"$f":"Coefficients!B40*Coefficients!J40/100","v":76.11},{"$f":"Coefficients!C40*Coefficients!K40/100","v":6.8250000000000002},{"$f":"Coefficients!D40*Coefficients!L40/100","v":13.363000000000001},{"$f":"Coefficients!E40*Coefficients!M40/100","v":34.32},{"$f":"Coefficients!F40*Coefficients!N40/100","v":11.05},{"$f":"Coefficients!G40*Coefficients!O40/100","v":33.06},{"$f":"Coefficients!H40*Coefficients!P40/100","v":75.680000000000007},25.765460607999991]
[41,"BREWERS GRAINS. DRIED [SID]",56,0,100,1,930,9.3930800000000012,null,null,279,251.59103999999996,74,117,3,6.6,2,5.0000000000000018,2.6,1.2,21.099999999999998,null,{"$f":"Coefficients!B41*Coefficients!J41/100","v":5.58},{"$f":"Coefficients!C41*Coefficients!K41/100","v":4.62},{"$f":"Coefficients!D41*Coefficients!L41/100","v":11.4},{"$f":"Coefficients!E41*Coefficients!M41/100","v":6.3},{"$f":"Coefficients!F41*Coefficients!N41/100","v":2.68},{"$f":"Coefficients!G41*Coefficients!O41/100","v":8.19},{"$f":"Coefficients!H41*Coefficients!P41/100","v":13.181999999999999},-10.219917312]
[42,"CASEIN [SID]",1000,0,100,1,900,17.23808,null,null,800,721.40800000000002,5,2,6,10,10,70,0.1,0,2.09,null,{"$f":"Coefficients!B42*Coefficients!J42/100","v":67.900000000000006},{"$f":"Coefficients!C42*Coefficients!K42/100","v":26.73},{"$f":"Coefficients!D42*Coefficients!L42/100","v":28.5},{"$f":"Coefficients!E42*Coefficients!M42/100","v":37.24},{"$f":"Coefficients!F42*Coefficients!N42/100","v":9.5},{"$f":"Coefficients!G42*Coefficients!O42/100","v":32.979999999999997},{"$f":"Coefficients!H42*Coefficients!P42/100","v":66.64},22.595577599999999]
[43,"CORN [SID]",176,0,100,1,860,14.112632000000001,null,null,75,67.632000000000005,35,19,0.1,2.3000000000000003,0.9,8.4999999999999982,0.2,0.4,11,null,{"$f":"Coefficients!B43*Coefficients!J43/100","v":2.2079999999999997},{"$f":"Coefficients!C43*Coefficients!K43/100","v":1.6919999999999999},{"$f":"Coefficients!D43*Coefficients!L43/100","v":3.2399999999999993},{"$f":"Coefficients!E43*Coefficients!M43/100","v":2.4649999999999999},{"$f":"Coefficients!F43*Coefficients!N43/100","v":0.56700000000000006},{"$f":"Coefficients!G43*Coefficients!O43/100","v":3.72},{"$f":"Coefficients!H43*Coefficients!P43/100","v":3.8640000000000003},-2.0392896000000014]
[44,"Corn DDGS [SID]",227,0,100,1,920,11.715199999999999,null,null,270,243.47520000000003,90,85,1.4000000000000001,8.9,5.5,48.000000000000007,2,1.7,34,null,{"$f":"Coefficients!B44*Coefficients!J44/100","v":6},{"$f":"Coefficients!C44*Coefficients!K44/100","v":4.3859999999999992},{"$f":"Coefficients!D44*Coefficients!L44/100","v":9.2659999999999982},{"$f":"Coefficients!E44*Coefficients!M44/100","v":6.6240000000000006},{"$f":"Coefficients!F44*Coefficients!N44/100","v":1.6},{"$f":"Coefficients!G44*Coefficients!O44/100","v":8.0299999999999994},{"$f":"Coefficients!H44*Coefficients!P44/100","v":10.773},-9.2902425600000047]
[45,"CORN GLUTEN FEED [SID]",130,0,100,1,880,7.3220000000000001,null,null,210,189.36959999999999,20,100,2,9,2.2000000000000002,12,1.5,2.2000000000000002,24.2,null,{"$f":"Coefficients!B45*Coefficients!J45/100","v":4.32},{"$f":"Coefficients!C45*Coefficients!K45/100","v":4.25},{"$f":"Coefficients!D45*Coefficients!L45/100","v":8.25},{"$f":"Coefficients!E45*Coefficients!M45/100","v":6.84},{"$f":"Coefficients!F45*Coefficients!N45/100","v":0.86},{"$f":"Coefficients!G45*Coefficients!O45/100","v":8.8000000000000007},{"$f":"Coefficients!H45*Coefficients!P45/100","v":8.7360000000000007},-7.5724108800000014]
[46,"CORN GLUTEN MEAL. CP 60% [SID]",630,0,100,1,900,15.648160000000001,null,null,600,541.05600000000004,20,25,0.2,5,1.8,16.999999999999996,0.3,0.5,22,null,{"$f":"Coefficients!B46*Coefficients!J46/100","v":7.6},{"$f":"Coefficients!C46*Coefficients!K46/100","v":16.72},{"$f":"Coefficients!D46*Coefficients!L46/100","v":24.07},{"$f":"Coefficients!E46*Coefficients!M46/100","v":15.8},{"$f":"Coefficients!F46*Coefficients!N46/100","v":1.98},{"$f":"Coefficients!G46*Coefficients!O46/100","v":16.34},{"$f":"Coefficients!H46*Coefficients!P46/100","v":22.95},-26.378316800000007]
[47,"COTTONSEED MEAL",300,0,100,1,900,8.4098399999999991,null,null,410,369.72159999999997,21,113,1.6,10,3.2,24,0.4,0.4,27.059999999999995,null,{"$f":"Coefficients!B47*Coefficients!J47/100","v":11.05},{"$f":"Coefficients!C47*Coefficients!K47/100","v":3.6719999999999997},{"$f":"Coefficients!D47*Coefficients!L47/100","v":8.2490000000000006},{"$f":"Coefficients!E47*Coefficients!M47/100","v":9.1120000000000001},{"$f":"Coefficients!F47*Coefficients!N47/100","v":4.16},{"$f":"Coefficients!G47*Coefficients!O47/100","v":41.008000000000003},{"$f":"Coefficients!H47*Coefficients!P47/100","v":13.468},-12.168516480000001]
[48,"FEATHER MEAL [SID]",580,0,100,1,930,12.04992,null,null,850,766.49600000000009,40,15,2,7,7,60,7,2.8000000000000003,8.8000000000000007,null,{"$f":"Coefficients!B48*Coefficients!J48/100","v":11.685},{"$f":"Coefficients!C48*Coefficients!K48/100","v":3.9649999999999999},{"$f":"Coefficients!D48*Coefficients!L48/100","v":23.715},{"$f":"Coefficients!E48*Coefficients!M48/100","v":20.14},{"$f":"Coefficients!F48*Coefficients!N48/100","v":2.2999999999999998},{"$f":"Coefficients!G48*Coefficients!O48/100","v":39.1},{"$f":"Coefficients!H48*Coefficients!P48/100","v":38.524999999999999},-36.450948800000013]
[49,"FISH MEAL, Menhaden [SID]",1125,0,100,1,920,12.3428,null,null,620,559.09120000000007,92,10,48,30,30,60.000000000000007,6.8,8,30.8,null,{"$f":"Coefficients!B49*Coefficients!J49/100","v":40.42},{"$f":"Coefficients!C49*Coefficients!K49/100","v":14.62},{"$f":"Coefficients!D49*Coefficients!L49/100","v":18.04},{"$f":"Coefficients!E49*Coefficients!M49/100","v":22},{"$f":"Coefficients!F49*Coefficients!N49/100","v":3.9},{"$f":"Coefficients!G49*Coefficients!O49/100","v":29.93},{"$f":"Coefficients!H49*Coefficients!P49/100","v":23.24},5.3090726399999895]
[50,"MEAT & BONE MEAL. CP<45% [SID]",400,0,100,1,920,9.9370000000000012,null,null,450,405.79200000000003,85,25,110,59,59,40.000000000000036,6,7,19.8,null,{"$f":"Coefficients!B50*Coefficients!J50/100","v":15.18},{"$f":"Coefficients!C50*Coefficients!K50/100","v":3.8160000000000003},{"$f":"Coefficients!D50*Coefficients!L50/100","v":4.8979999999999997},{"$f":"Coefficients!E50*Coefficients!M50/100","v":9.7959999999999994},{"$f":"Coefficients!F50*Coefficients!N50/100","v":0.95399999999999996},{"$f":"Coefficients!G50*Coefficients!O50/100","v":20.79},{"$f":"Coefficients!H50*Coefficients!P50/100","v":16.8},-10.303737600000005]
[51,"MEAT & BONE MEAL. CP>50% [SID]",450,0,100,1,920,10.585519999999999,null,null,500,450.88,85,28,92,47,47,10.000000000000053,8,7.5,20,null,{"$f":"Coefficients!B51*Coefficients!J51/100","v":17.940000000000001},{"$f":"Coefficients!C51*Coefficients!K51/100","v":4.8240000000000007},{"$f":"Coefficients!D51*Coefficients!L51/100","v":6.2},{"$f":"Coefficients!E51*Coefficients!M51/100","v":10.54},{"$f":"Coefficients!F51*Coefficients!N51/100","v":1.3780000000000001},{"$f":"Coefficients!G51*Coefficients!O51/100","v":25.795000000000002},{"$f":"Coefficients!H51*Coefficients!P51/100","v":15.75},-10.375264000000001]
[52,"MEAT MEAL [SID]",400,0,100,1,920,8.3680000000000003,null,null,544,490.55744000000004,71,87,82.699999999999989,41,41,-3.5000000000000142,11.5,9.1,20.77,null,{"$f":"Coefficients!B52*Coefficients!J52/100","v":25.2},{"$f":"Coefficients!C52*Coefficients!K52/100","v":6.375},{"$f":"Coefficients!D52*Coefficients!L52/100","v":10.151999999999999},{"$f":"Coefficients!E52*Coefficients!M52/100","v":13.92},{"$f":"Coefficients!F52*Coefficients!N52/100","v":2.8439999999999999},{"$f":"Coefficients!G52*Coefficients!O52/100","v":31.45},{"$f":"Coefficients!H52*Coefficients!P52/100","v":19.32},-5.6070072320000079]
[53,"OATS [SID]",262,0,100,1,900,10.6692,null,null,105,94.684799999999996,40,105,1,3.5,1.4000000000000001,9.0000000000000018,0.70000000000000007,1.2,10.700000000000001,null,{"$f":"Coefficients!B53*Coefficients!J53/100","v":3.48},{"$f":"Coefficients!C53*Coefficients!K53/100","v":1.74},{"$f":"Coefficients!D53*Coefficients!L53/100","v":3.4849999999999994},{"$f":"Coefficients!E53*Coefficients!M53/100","v":2.3520000000000003},{"$f":"Coefficients!F53*Coefficients!N53/100","v":1.44},{"$f":"Coefficients!G53*Coefficients!O53/100","v":7.52},{"$f":"Coefficients!H53*Coefficients!P53/100","v":5.4560000000000004},-2.4662054400000009]
[54,"PEANUT MEAL [SID]",200,0,100,1,900,11.200568000000001,null,null,470,423.8272,25,84,0.8,5.6999999999999993,1.8,14,0.70000000000000007,0.3,19.48,null,{"$f":"Coefficients!B54*Coefficients!J54/100","v":11.552},{"$f":"Coefficients!C54*Coefficients!K54/100","v":4.3},{"$f":"Coefficients!D54*Coefficients!L54/100","v":9.02},{"$f":"Coefficients!E54*Coefficients!M54/100","v":9.5200000000000014},{"$f":"Coefficients!F54*Coefficients!N54/100","v":4.3499999999999996},{"$f":"Coefficients!G54*Coefficients!O54/100","v":43.315999999999995},{"$f":"Coefficients!H54*Coefficients!P54/100","v":16.02},-15.064348160000005]
[55,"POULTRY BY-PRODUCT MEAL [SID]",400,0,100,1,930,11.760659160000001,null,null,550,495.96800000000002,85,30,85,42.5,36,-64.999999999999986,4.6999999999999993,5.4,59.519999999999996,null,{"$f":"Coefficients!B55*Coefficients!J55/100","v":19.776},{"$f":"Coefficients!C55*Coefficients!K55/100","v":6.2249999999999996},{"$f":"Coefficients!D55*Coefficients!L55/100","v":0},{"$f":"Coefficients!E55*Coefficients!M55/100","v":12.535599999999997},{"$f":"Coefficients!F55*Coefficients!N55/100","v":3.0575999999999999},{"$f":"Coefficients!G55*Coefficients!O55/100","v":26.544},{"$f":"Coefficients!H55*Coefficients!P55/100","v":18.312200000000001},-11.370790400000004]
[56,"RAPESEED MEAL  [SID]",222,0,100,1,920,7.4056800000000003,null,null,360,324.6336,26,132,6.6,9.3000000000000007,3,-3.0000000000000027,0.9,0,67,null,{"$f":"Coefficients!B56*Coefficients!J56/100","v":16.96},{"$f":"Coefficients!C56*Coefficients!K56/100","v":5.628000000000001},{"$f":"Coefficients!D56*Coefficients!L56/100","v":9.68},{"$f":"Coefficients!E56*Coefficients!M56/100","v":11.68},{"$f":"Coefficients!F56*Coefficients!N56/100","v":3.6800000000000006},{"$f":"Coefficients!G56*Coefficients!O56/100","v":17.748000000000001},{"$f":"Coefficients!H56*Coefficients!P56/100","v":14.299000000000001},-3.426990080000003]
[57,"RICE [SID]",300,0,100,1,890,12.30096,null,null,73,65.828479999999999,17,100,0.4,2.6,0.9,7,0.4,0.6,10.14,null,{"$f":"Coefficients!B57*Coefficients!J57/100","v":1.92},{"$f":"Coefficients!C57*Coefficients!K57/100","v":1.2180000000000002},{"$f":"Coefficients!D57*Coefficients!L57/100","v":1.8920000000000001},{"$f":"Coefficients!E57*Coefficients!M57/100","v":2.1870000000000003},{"$f":"Coefficients!F57*Coefficients!N57/100","v":1.032},{"$f":"Coefficients!G57*Coefficients!O57/100","v":5.3689999999999998},{"$f":"Coefficients!H57*Coefficients!P57/100","v":3.9100000000000006},-2.2140285440000005]
[58,"RICE BRAN [SID]",125,0,100,1,910,8.7864000000000004,null,null,129,116.32704000000001,130,114,0.70000000000000007,15,2.1,17.5,0.70000000000000007,0.70000000000000007,11.35,null,{"$f":"Coefficients!B58*Coefficients!J58/100","v":4.3659999999999997},{"$f":"Coefficients!C58*Coefficients!K58/100","v":1.54},{"$f":"Coefficients!D58*Coefficients!L58/100","v":2.16},{"$f":"Coefficients!E58*Coefficients!M58/100","v":3.3119999999999998},{"$f":"Coefficients!F58*Coefficients!N58/100","v":1.1850000000000001},{"$f":"Coefficients!G58*Coefficients!O58/100","v":7.6539999999999999},{"$f":"Coefficients!H58*Coefficients!P58/100","v":5.625},-2.9393381120000024]
[59,"SOYBEAN MEAL (44% CP) [SID]",435,0,100,1,900,9.3721600000000009,null,null,440,396.77440000000001,5,70,2.5,6,2,7.5000000000000009,0.4,0.2,27.43,null,{"$f":"Coefficients!B59*Coefficients!J59/100","v":24.3},{"$f":"Coefficients!C59*Coefficients!K59/100","v":5.915},{"$f":"Coefficients!D59*Coefficients!L59/100","v":11.352},{"$f":"Coefficients!E59*Coefficients!M59/100","v":14.45},{"$f":"Coefficients!F59*Coefficients!N59/100","v":5.34},{"$f":"Coefficients!G59*Coefficients!O59/100","v":31.62},{"$f":"Coefficients!H59*Coefficients!P59/100","v":21.12},-0.61743232000000248]
[60,"SOYBEAN MEAL (48% CP) [SID]",445,0,100,1,880,10.284272000000001,null,null,478,431.04128000000003,10,30,3.1,6.7,2.1,5.4999999999999991,0.4,0.2,28.5,null,{"$f":"Coefficients!B60*Coefficients!J60/100","v":27.18},{"$f":"Coefficients!C60*Coefficients!K60/100","v":6.37},{"$f":"Coefficients!D60*Coefficients!L60/100","v":12.125999999999999},{"$f":"Coefficients!E60*Coefficients!M60/100","v":17},{"$f":"Coefficients!F60*Coefficients!N60/100","v":6.23},{"$f":"Coefficients!G60*Coefficients!O60/100","v":33.479999999999997},{"$f":"Coefficients!H60*Coefficients!P60/100","v":23.76},0.1106076159999958]
[61,"SOYBEANS (Full Fat) [SID]",400,0,100,1,900,14.016400000000001,null,null,380,342.66880000000003,180,50,2.5,5.8999999999999995,2,7.5000000000000009,0.4,0.3,24.2,null,{"$f":"Coefficients!B61*Coefficients!J61/100","v":20.88},{"$f":"Coefficients!C61*Coefficients!K61/100","v":5.6320000000000006},{"$f":"Coefficients!D61*Coefficients!L61/100","v":10.79},{"$f":"Coefficients!E61*Coefficients!M61/100","v":15.415999999999997},{"$f":"Coefficients!F61*Coefficients!N61/100","v":5.3320000000000007},{"$f":"Coefficients!G61*Coefficients!O61/100","v":25.2},{"$f":"Coefficients!H61*Coefficients!P61/100","v":17.170000000000002},-0.63960064000000472]
[62,"SUNFLOWER  MEAL [SID]",210,0,100,1,930,7.3638400000000006,null,null,420,378.73919999999998,23,210,4,10,2.5,4.9999999999999991,2,0.1,29,null,{"$f":"Coefficients!B62*Coefficients!J62/100","v":14.79},{"$f":"Coefficients!C62*Coefficients!K62/100","v":13.8},{"$f":"Coefficients!D62*Coefficients!L62/100","v":19.14},{"$f":"Coefficients!E62*Coefficients!M62/100","v":12.3},{"$f":"Coefficients!F62*Coefficients!N62/100","v":4.3499999999999996},{"$f":"Coefficients!G62*Coefficients!O62/100","v":32.549999999999997},{"$f":"Coefficients!H62*Coefficients!P62/100","v":20.010000000000002},-8.9948217600000042]
[63,"TRITICALE [SID]",263,0,100,1,900,13.179600000000001,null,null,125,112.72,15,0,0.5,3,1,7.5000000000000009,0,0.70000000000000007,4.6000000000000005,null,{"$f":"Coefficients!B63*Coefficients!J63/100","v":3.3150000000000004},{"$f":"Coefficients!C63*Coefficients!K63/100","v":1.9800000000000002},{"$f":"Coefficients!D63*Coefficients!L63/100","v":4.5760000000000005},{"$f":"Coefficients!E63*Coefficients!M63/100","v":3.1319999999999997},{"$f":"Coefficients!F63*Coefficients!N63/100","v":1.204},{"$f":"Coefficients!G63*Coefficients!O63/100","v":3.984},{"$f":"Coefficients!H63*Coefficients!P63/100","v":4.4370000000000003},-3.7638160000000003]
[64,"WHEAT [SID]",190,0,100,1,880,13.26328,null,null,135,121.73760000000001,19,30,0.5,4.0999999999999996,1.2,9.5,0.6,0.70000000000000007,7.7799999999999994,null,{"$f":"Coefficients!B64*Coefficients!J64/100","v":3.44},{"$f":"Coefficients!C64*Coefficients!K64/100","v":2.2749999999999999},{"$f":"Coefficients!D64*Coefficients!L64/100","v":5.0049999999999999},{"$f":"Coefficients!E64*Coefficients!M64/100","v":3.0449999999999999},{"$f":"Coefficients!F64*Coefficients!N64/100","v":1.5479999999999998},{"$f":"Coefficients!G64*Coefficients!O64/100","v":5.0999999999999996},{"$f":"Coefficients!H64*Coefficients!P64/100","v":6.21},-4.205121280000002]
[65,"WHEAT BRAN [SID]",175,0,100,1,890,5.4392000000000005,null,null,148,133.46048000000002,40,100,1.4000000000000001,11.7,3.8,31,0.6,1.4000000000000001,9.8000000000000007,null,{"$f":"Coefficients!B65*Coefficients!J65/100","v":4.38},{"$f":"Coefficients!C65*Coefficients!K65/100","v":1.6},{"$f":"Coefficients!D65*Coefficients!L65/100","v":3.8},{"$f":"Coefficients!E65*Coefficients!M65/100","v":3.552},{"$f":"Coefficients!F65*Coefficients!N65/100","v":2.46},{"$f":"Coefficients!G65*Coefficients!O65/100","v":8.7740000000000009},{"$f":"Coefficients!H65*Coefficients!P65/100","v":5.39},-4.0013181440000016]
[66,"WHEAT MIDDLINGS [SID]",145,0,100,1,890,8.7445599999999999,null,null,150,135.26400000000001,36,85,1.5,9.1,2.8000000000000003,20.500000000000004,0.6,0.70000000000000007,11,null,{"$f":"Coefficients!B66*Coefficients!J66/100","v":5.6},{"$f":"Coefficients!C66*Coefficients!K66/100","v":0.996},{"$f":"Coefficients!D66*Coefficients!L66/100","v":2.4180000000000001},{"$f":"Coefficients!E66*Coefficients!M66/100","v":3.65},{"$f":"Coefficients!F66*Coefficients!N66/100","v":1.58},{"$f":"Coefficients!G66*Coefficients!O66/100","v":8},{"$f":"Coefficients!H66*Coefficients!P66/100","v":6.16},-2.8945792000000026]
[null,null,null,null,null,null,0,0]
[{"$f":"A137+1","v":67},null,null,null,null,null,0,0,null,null,0,0,0,0,0,0,0,0,0,0,0]
[{"$f":"A139+1","v":68},"BIOLYS®",2500,0,100,1,950,15.874096000000002,null,null,750,676.32,0,0,0,0,0,0,0,0,0,null,50.7,0.1,0.2,0.3,0.1,0.6,0.4,{"$f":"W140-(1/AD$2*L140)","v":8.2271039999999971}]
[{"$f":"A140+1","v":69},"DL-METHIONINE",4800,0,100,1,997,21.003679999999999,null,null,581,523.92255999999998,0,0,0,0,0,0,0,0,0,null,0,99,99,0,0,0,0,-32.902336768000005]
[70,"METHIONINE MHA",3900,0,100,1,990,16.794576000000003,null,null,493,444.56768,0,0,0,0,0,0,0,0,0,null,0,86.24,86.24,0,0,0,0,-27.918850304000003]
[71,"L-LYSINE HCL",2700,0,100,1,985,17.23808,null,null,934,842.24383999999986,0,0,0,0,0,0,0,0,0,null,78,0,0,0,0,0,0,25.107086848000002]
[72,"L-THREONINE",3700,0,100,1,995,14.602160000000001,null,null,724,652.8742400000001,0,0,0,0,0,0,0,0,0,null,0,0,0,98.5,0,0,0,-41.000502272000013]
[73,"L-TRYPTOPHAN",16300,0,100,1,990,23.890640000000001,null,null,840,757.47839999999997,0,0,0,0,0,0,0,0,0,null,0,0,0,0,98,0,0,-47.569643520000007]
[74,"L-VALINE",7000,0,100,1,997,22.007840000000002,null,null,721.3,650.43948799999998,0,0,0,0,0,0,0,0,0,null,0,0,0,0,0,0,96.5,-40.847599846400001]
[75,"FAT, ANIMAL",540,0,100,1,990,33.137280000000004,null,null,0,0,980,0,0,0,0,0,0,0,0,null,0,0,0,0,0,0,0,0]
[76,"FAT, YELLOW GREASE",520,0,100,1,990,34.518000000000001,null,null,0,0,980,0,0,0,0,0,0,0,0,null,0,0,0,0,0,0,0,0]
[77,"FAT, VEGETABLE",650,0,100,1,990,36.819200000000002,null,null,0,0,990,0,0,0,0,0,0,0,0,null,0,0,0,0,0,0,0,0]
[78,"DICAL. PHOS.",960,0,100,1,1000,0,null,null,0,0,0,0,220,185,185,750,0.6,0.13,0,null,0,0,0,0,0,0,0,0]
[79,"LIMESTONE",160,0,100,1,1000,0,null,null,0,0,0,0,380,0,0,-1900,0.5,0.3,0,null,0,0,0,0,0,0,0,0]
[80,"OYSTER SHELLS",261,0,100,1,1000,0,null,null,0,0,0,0,380,1,1,-1890,2,0.1,0,null,0,0,0,0,0,0,0,0]
[81,"DEFLUOR. PHOS.",860,0,100,1,1000,0,null,null,0,0,0,0,330,180,180,150,49,0,0,null,0,0,0,0,0,0,0,0]
[82,"ROCK PHOSPHATE",700,0,100,1,1000,0,null,null,0,0,0,0,360,140,140,-400,3,0,0,null,0,0,0,0,0,0,0,0]
[83,"SOFT ROCK PHOS.",700,0,100,1,1000,0,null,null,0,0,0,0,175,95,95,75,1.5,7.0000000000000007E-2,0,null,0,0,0,0,0,0,0,0]
[84,"COMMON SALT",50,0,100,1,1000,0,null,null,0,0,0,0,3,0,0,-15,390,600,0,null,0,0,0,0,0,0,0,0]
[85,"VITAMIN PREMIX",3600,0,100,1,1000,0,null,null,0,0,0,0,0,0,0,0,0,0,880,null,0,0,0,0,0,0,0,0]
[86,"MINERAL PREMIX",1060,0,100,1,1000,0,null,null,0,0,0,0,0,0,0,0,0,0,0,null,0,0,0,0,0,0,0,0]
[87,"CHOLINE CL -70%",2240,0,100,1,1000,0,null,null,0,0,0,0,0,0,0,0,0,0,6075,null,0,0,0,0,0,0,0,0]
[88,"Cupric Sulfate Pentahydrate",1000,0,100,1,1000,0,null,null,0,0,0,0,0,0,0,0,0,0,0,null,0,0,0,0,0,0,0,0]
[89,"COCCIDIOSTAT",9700,0,100,1,1000,0,null,null,0,0,0,0,0,0,0,0,0,0,0,null,0,0,0,0,0,0,0,0]
[90,"ANTIBIOTIC",8220,0,100,1,1000,0,null,null,0,0,0,0,0,0,0,0,0,0,0,null,0,0,0,0,0,0,0,0]
[91]
[]
[]
[]
[]
[null,"New Ingredients",null,null,null,null,null,null,null,null,null,null,null,null,null,null,{"$f":"P168-(1/$P$2*N168)","v":{"$error":"#DIV/0!"}}]
[null,null,null,null,null,null,null,null,null,null,null,null,null,null,null,null,{"$error":"#DIV/0!"},null,null,null,null,null,null,null,null,null,null,null,null,{"$f":"W169-(1/#REF!*#REF!)","v":{"$error":"#REF!"}}]
[null,null,null,null,null,null,null,null,null,null,null,null,null,null,null,null,{"$error":"#DIV/0!"},null,null,null,null,null,null,null,null,null,null,null,null,{"$f":"W170-(1/#REF!*#REF!)","v":{"$error":"#REF!"}}]
[null,null,null,null,null,null,null,null,null,null,null,null,null,null,null,null,{"$error":"#DIV/0!"},null,null,null,null,null,null,null,null,null,null,null,null,{"$f":"W171-(1/#REF!*#REF!)","v":{"$error":"#REF!"}}]
[null,null,null,null,null,null,null,null,null,null,null,null,null,null,null,null,{"$error":"#DIV/0!"},null,null,null,null,null,null,null,null,null,null,null,null,{"$f":"W172-(1/#REF!*#REF!)","v":{"$error":"#REF!"}}]
[null,null,null,null,null,null,null,null,null,null,null,null,null,null,null,null,{"$error":"#DIV/0!"},null,null,null,null,null,null,null,null,null,null,null,null,{"$f":"W173-(1/#REF!*#REF!)","v":{"$error":"#REF!"}}]
[null,null,null,null,null,null,null,null,null,null,null,null,null,null,null,null,{"$error":"#DIV/0!"},null,null,null,null,null,null,null,null,null,null,null,null,{"$f":"W174-(1/#REF!*#REF!)","v":{"$error":"#REF!"}}]
[null,null,null,null,null,null,null,null,null,null,null,null,null,null,null,null,{"$error":"#DIV/0!"},null,null,null,null,null,null,null,null,null,null,null,null,{"$f":"W175-(1/#REF!*#REF!)","v":{"$error":"#REF!"}}]
[null,null,null,null,null,null,null,null,null,null,null,null,null,null,null,null,{"$error":"#DIV/0!"},null,null,null,null,null,null,null,null,null,null,null,null,{"$f":"W176-(1/#REF!*#REF!)","v":{"$error":"#REF!"}}]
[null,null,null,null,null,null,null,null,null,null,null,null,null,null,null,null,{"$error":"#DIV/0!"},null,null,null,null,null,null,null,null,null,null,null,null,{"$f":"W177-(1/#REF!*#REF!)","v":{"$error":"#REF!"}}]
[null,null,null,null,null,null,null,null,null,null,null,null,null,null,null,null,{"$error":"#DIV/0!"},null,null,null,null,null,null,null,null,null,null,null,null,{"$f":"W178-(1/#REF!*#REF!)","v":{"$error":"#REF!"}}]
[null,null,null,null,null,null,null,null,null,null,null,null,null,null,null,null,{"$error":"#DIV/0!"},null,null,null,null,null,null,null,null,null,null,null,null,{"$f":"W179-(1/#REF!*#REF!)","v":{"$error":"#REF!"}}]
[null,null,null,null,null,null,null,null,null,null,null,null,null,null,null,null,{"$error":"#DIV/0!"},null,null,null,null,null,null,null,null,null,null,null,null,{"$f":"W180-(1/#REF!*#REF!)","v":{"$error":"#REF!"}}]
[null,null,null,null,null,null,null,null,null,null,null,null,null,null,null,null,{"$error":"#DIV/0!"},null,null,null,null,null,null,null,null,null,null,null,null,{"$f":"W181-(1/#REF!*#REF!)","v":{"$error":"#REF!"}}]
[null,null,null,null,null,null,null,null,null,null,null,null,null,null,null,null,{"$error":"#DIV/0!"},null,null,null,null,null,null,null,null,null,null,null,null,{"$f":"W182-(1/#REF!*#REF!)","v":{"$error":"#REF!"}}]
[null,null,null,null,null,null,null,null,null,null,null,null,null,null,null,null,{"$error":"#DIV/0!"},null,null,null,null,null,null,null,null,null,null,null,null,{"$f":"W183-(1/#REF!*#REF!)","v":{"$error":"#REF!"}}]
[null,null,null,null,null,null,null,null,null,null,null,null,null,null,null,null,{"$error":"#DIV/0!"},null,null,null,null,null,null,null,null,null,null,null,null,{"$f":"W184-(1/#REF!*#REF!)","v":{"$error":"#REF!"}}]
[null,null,null,null,null,null,null,null,null,null,null,null,null,null,null,null,{"$error":"#DIV/0!"},null,null,null,null,null,null,null,null,null,null,null,null,{"$f":"W185-(1/#REF!*#REF!)","v":{"$error":"#REF!"}}]
[null,null,null,null,null,null,null,null,null,null,null,null,null,null,null,null,{"$error":"#DIV/0!"},null,null,null,null,null,null,null,null,null,null,null,null,{"$f":"W186-(1/#REF!*#REF!)","v":{"$error":"#REF!"}}]
[null,null,null,null,null,null,null,null,null,null,null,null,null,null,null,null,{"$error":"#DIV/0!"},null,null,null,null,null,null,null,null,null,null,null,null,{"$f":"W187-(1/#REF!*#REF!)","v":{"$error":"#REF!"}}]
[null,null,null,null,null,null,null,null,null,null,null,null,null,null,null,null,{"$error":"#DIV/0!"},null,null,null,null,null,null,null,null,null,null,null,null,{"$f":"W188-(1/#REF!*#REF!)","v":{"$error":"#REF!"}}]
[null,null,null,null,null,null,null,null,null,null,null,null,null,null,null,null,{"$error":"#DIV/0!"},null,null,null,null,null,null,null,null,null,null,null,null,{"$f":"W189-(1/#REF!*#REF!)","v":{"$error":"#REF!"}}]
[null,null,null,null,null,null,null,null,null,null,null,null,null,null,null,null,{"$error":"#DIV/0!"},null,null,null,null,null,null,null,null,null,null,null,null,{"$f":"W190-(1/#REF!*#REF!)","v":{"$error":"#REF!"}}]
[null,null,null,null,null,null,null,null,null,null,null,null,null,null,null,null,{"$error":"#DIV/0!"},null,null,null,null,null,null,null,null,null,null,null,null,{"$f":"W191-(1/#REF!*#REF!)","v":{"$error":"#REF!"}}]
[null,null,null,null,null,null,null,null,null,null,null,null,null,null,null,null,{"$error":"#DIV/0!"},null,null,null,null,null,null,null,null,null,null,null,null,{"$f":"W192-(1/#REF!*#REF!)","v":{"$error":"#REF!"}}]
[null,null,null,null,null,null,null,null,null,null,null,null,null,null,null,null,{"$error":"#DIV/0!"},null,null,null,null,null,null,null,null,null,null,null,null,{"$f":"W193-(1/#REF!*#REF!)","v":{"$error":"#REF!"}}]
[null,null,null,null,null,null,null,null,null,null,null,null,null,null,null,null,{"$error":"#DIV/0!"},null,null,null,null,null,null,null,null,null,null,null,null,{"$f":"W194-(1/#REF!*#REF!)","v":{"$error":"#REF!"}}]
[null,null,null,null,null,null,null,null,null,null,null,null,null,null,null,null,{"$error":"#DIV/0!"},null,null,null,null,null,null,null,null,null,null,null,null,{"$f":"W195-(1/#REF!*#REF!)","v":{"$error":"#REF!"}}]
[null,null,null,null,null,null,null,null,null,null,null,null,null,null,null,null,{"$error":"#DIV/0!"},null,null,null,null,null,null,null,null,null,null,null,null,{"$f":"W196-(1/#REF!*#REF!)","v":{"$error":"#REF!"}}]
[null,null,null,null,null,null,null,null,null,null,null,null,null,null,null,null,{"$error":"#DIV/0!"},null,null,null,null,null,null,null,null,null,null,null,null,{"$f":"W197-(1/#REF!*#REF!)","v":{"$error":"#REF!"}}]
[null,null,null,null,null,null,null,null,null,null,null,null,null,null,null,null,{"$error":"#DIV/0!"},null,null,null,null,null,null,null,null,null,null,null,null,{"$f":"W198-(1/#REF!*#REF!)","v":{"$error":"#REF!"}}]
[null,null,null,null,null,null,null,null,null,null,null,null,null,null,null,null,{"$error":"#DIV/0!"},null,null,null,null,null,null,null,null,null,null,null,null,{"$f":"W199-(1/#REF!*#REF!)","v":{"$error":"#REF!"}}]
[null,null,null,null,null,null,null,null,null,null,null,null,null,null,null,null,{"$error":"#DIV/0!"},null,null,null,null,null,null,null,null,null,null,null,null,{"$f":"W200-(1/#REF!*#REF!)","v":{"$error":"#REF!"}}]
[null,null,null,null,null,null,null,null,null,null,null,null,null,null,null,null,{"$error":"#DIV/0!"},null,null,null,null,null,null,null,null,null,null,null,null,{"$f":"W201-(1/#REF!*#REF!)","v":{"$error":"#REF!"}}]
[null,null,null,null,null,null,null,null,null,null,null,null,null,null,null,null,{"$error":"#DIV/0!"},null,null,null,null,null,null,null,null,null,null,null,null,{"$f":"W202-(1/#REF!*#REF!)","v":{"$error":"#REF!"}}]
[null,null,null,null,null,null,null,null,null,null,null,null,null,null,null,null,{"$error":"#DIV/0!"},null,null,null,null,null,null,null,null,null,null,null,null,{"$f":"W203-(1/#REF!*#REF!)","v":{"$error":"#REF!"}}]
[null,null,null,null,null,null,null,null,null,null,null,null,null,null,null,null,{"$error":"#DIV/0!"},null,null,null,null,null,null,null,null,null,null,null,null,{"$f":"W204-(1/#REF!*#REF!)","v":{"$error":"#REF!"}}]
[null,null,null,null,null,null,null,null,null,null,null,null,null,null,null,null,{"$error":"#DIV/0!"},null,null,null,null,null,null,null,null,null,null,null,null,{"$f":"W205-(1/#REF!*#REF!)","v":{"$error":"#REF!"}}]
[null,null,null,null,null,null,null,null,null,null,null,null,null,null,null,null,{"$error":"#DIV/0!"},null,null,null,null,null,null,null,null,null,null,null,null,{"$f":"W206-(1/#REF!*#REF!)","v":{"$error":"#REF!"}}]
[null,null,null,null,null,null,null,null,null,null,null,null,null,null,null,null,{"$error":"#DIV/0!"},null,null,null,null,null,null,null,null,null,null,null,null,{"$f":"W207-(1/#REF!*#REF!)","v":{"$error":"#REF!"}}]
[null,null,null,null,null,null,null,null,null,null,null,null,null,null,null,null,{"$error":"#DIV/0!"},null,null,null,null,null,null,null,null,null,null,null,null,{"$f":"W208-(1/#REF!*#REF!)","v":{"$error":"#REF!"}}]
[null,null,null,null,null,null,null,null,null,null,null,null,null,null,null,null,{"$error":"#DIV/0!"},null,null,null,null,null,null,null,null,null,null,null,null,{"$f":"W209-(1/#REF!*#REF!)","v":{"$error":"#REF!"}}]
[null,null,null,null,null,null,null,null,null,null,null,null,null,null,null,null,{"$error":"#DIV/0!"},null,null,null,null,null,null,null,null,null,null,null,null,{"$f":"W210-(1/#REF!*#REF!)","v":{"$error":"#REF!"}}]
[null,null,null,null,null,null,null,null,null,null,null,null,null,null,null,null,{"$error":"#DIV/0!"},null,null,null,null,null,null,null,null,null,null,null,null,{"$f":"W211-(1/#REF!*#REF!)","v":{"$error":"#REF!"}}]
[null,null,null,null,null,null,null,null,null,null,null,null,null,null,null,null,{"$error":"#DIV/0!"},null,null,null,null,null,null,null,null,null,null,null,null,{"$f":"W212-(1/#REF!*#REF!)","v":{"$error":"#REF!"}}]
[null,null,null,null,null,null,null,null,null,null,null,null,null,null,null,null,{"$error":"#DIV/0!"},null,null,null,null,null,null,null,null,null,null,null,null,{"$f":"W213-(1/#REF!*#REF!)","v":{"$error":"#REF!"}}]
[null,null,null,null,null,null,null,null,null,null,null,null,null,null,null,null,{"$error":"#DIV/0!"},null,null,null,null,null,null,null,null,null,null,null,null,{"$f":"W214-(1/#REF!*#REF!)","v":{"$error":"#REF!"}}]
[null,null,null,null,null,null,null,null,null,null,null,null,null,null,null,null,{"$error":"#DIV/0!"},null,null,null,null,null,null,null,null,null,null,null,null,{"$f":"W215-(1/#REF!*#REF!)","v":{"$error":"#REF!"}}]
[null,null,null,null,null,null,null,null,null,null,null,null,null,null,null,null,{"$error":"#DIV/0!"},null,null,null,null,null,null,null,null,null,null,null,null,{"$f":"W216-(1/#REF!*#REF!)","v":{"$error":"#REF!"}}]
[null,null,null,null,null,null,null,null,null,null,null,null,null,null,null,null,{"$error":"#DIV/0!"},null,null,null,null,null,null,null,null,null,null,null,null,{"$f":"W217-(1/#REF!*#REF!)","v":{"$error":"#REF!"}}]
[null,null,null,null,null,null,null,null,null,null,null,null,null,null,null,null,{"$error":"#DIV/0!"},null,null,null,null,null,null,null,null,null,null,null,null,{"$f":"W218-(1/#REF!*#REF!)","v":{"$error":"#REF!"}}]
[null,null,null,null,null,null,null,null,null,null,null,null,null,null,null,null,{"$error":"#DIV/0!"},null,null,null,null,null,null,null,null,null,null,null,null,{"$f":"W219-(1/#REF!*#REF!)","v":{"$error":"#REF!"}}]
[null,null,null,null,null,null,null,null,null,null,null,null,null,null,null,null,{"$error":"#DIV/0!"},null,null,null,null,null,null,null,null,null,null,null,null,{"$f":"W220-(1/#REF!*#REF!)","v":{"$error":"#REF!"}}]
[null,null,null,null,null,null,null,null,null,null,null,null,null,null,null,null,{"$error":"#DIV/0!"},null,null,null,null,null,null,null,null,null,null,null,null,{"$f":"W221-(1/#REF!*#REF!)","v":{"$error":"#REF!"}}]
[null,null,null,null,null,null,null,null,null,null,null,null,null,null,null,null,{"$error":"#DIV/0!"},null,null,null,null,null,null,null,null,null,null,null,null,{"$f":"W222-(1/#REF!*#REF!)","v":{"$error":"#REF!"}}]
[null,null,null,null,null,null,null,null,null,null,null,null,null,null,null,null,{"$error":"#DIV/0!"},null,null,null,null,null,null,null,null,null,null,null,null,{"$f":"W223-(1/#REF!*#REF!)","v":{"$error":"#REF!"}}]
[null,null,null,null,null,null,null,null,null,null,null,null,null,null,null,null,{"$error":"#DIV/0!"},null,null,null,null,null,null,null,null,null,null,null,null,{"$f":"W224-(1/#REF!*#REF!)","v":{"$error":"#REF!"}}]
[null,null,null,null,null,null,null,null,null,null,null,null,null,null,null,null,{"$error":"#DIV/0!"},null,null,null,null,null,null,null,null,null,null,null,null,{"$f":"W225-(1/#REF!*#REF!)","v":{"$error":"#REF!"}}]
[null,null,null,null,null,null,null,null,null,null,null,null,null,null,null,null,{"$error":"#DIV/0!"},null,null,null,null,null,null,null,null,null,null,null,null,{"$f":"W226-(1/#REF!*#REF!)","v":{"$error":"#REF!"}}]
[null,null,null,null,null,null,null,null,null,null,null,null,null,null,null,null,{"$error":"#DIV/0!"},null,null,null,null,null,null,null,null,null,null,null,null,{"$f":"W227-(1/#REF!*#REF!)","v":{"$error":"#REF!"}}]
[null,null,null,null,null,null,null,null,null,null,null,null,null,null,null,null,{"$error":"#DIV/0!"},null,null,null,null,null,null,null,null,null,null,null,null,{"$f":"W228-(1/#REF!*#REF!)","v":{"$error":"#REF!"}}]
[null,null,null,null,null,null,null,null,null,null,null,null,null,null,null,null,{"$error":"#DIV/0!"},null,null,null,null,null,null,null,null,null,null,null,null,{"$f":"W229-(1/#REF!*#REF!)","v":{"$error":"#REF!"}}]
[null,null,null,null,null,null,null,null,null,null,null,null,null,null,null,null,{"$error":"#DIV/0!"},null,null,null,null,null,null,null,null,null,null,null,null,{"$f":"W230-(1/#REF!*#REF!)","v":{"$error":"#REF!"}}]
[null,null,null,null,null,null,null,null,null,null,null,null,null,null,null,null,{"$error":"#DIV/0!"},null,null,null,null,null,null,null,null,null,null,null,null,{"$f":"W231-(1/#REF!*#REF!)","v":{"$error":"#REF!"}}]
[null,null,null,null,null,null,null,null,null,null,null,null,null,null,null,null,{"$f":"P232-(1/$P$2*N232)","v":{"$error":"#DIV/0!"}},null,null,null,null,null,null,null,null,null,null,null,null,{"$f":"W232-(1/#REF!*#REF!)","v":{"$error":"#REF!"}}]
[null,null,null,null,null,null,null,null,null,null,null,null,null,null,null,null,{"$error":"#DIV/0!"},null,null,null,null,null,null,null,null,null,null,null,null,{"$f":"W233-(1/#REF!*#REF!)","v":{"$error":"#REF!"}}]
[null,null,null,null,null,null,null,null,null,null,null,null,null,null,null,null,{"$error":"#DIV/0!"},null,null,null,null,null,null,null,null,null,null,null,null,{"$f":"W234-(1/#REF!*#REF!)","v":{"$error":"#REF!"}}]
[null,null,null,null,null,null,null,null,null,null,null,null,null,null,null,null,{"$error":"#DIV/0!"},null,null,null,null,null,null,null,null,null,null,null,null,{"$f":"W235-(1/#REF!*#REF!)","v":{"$error":"#REF!"}}]
[null,null,null,null,null,null,null,null,null,null,null,null,null,null,null,null,{"$error":"#DIV/0!"},null,null,null,null,null,null,null,null,null,null,null,null,{"$f":"W236-(1/#REF!*#REF!)","v":{"$error":"#REF!"}}]
[null,null,null,null,null,null,null,null,null,null,null,null,null,null,null,null,{"$error":"#DIV/0!"},null,null,null,null,null,null,null,null,null,null,null,null,{"$f":"W237-(1/#REF!*#REF!)","v":{"$error":"#REF!"}}]
[null,null,null,null,null,null,null,null,null,null,null,null,null,null,null,null,{"$error":"#DIV/0!"},null,null,null,null,null,null,null,null,null,null,null,null,{"$f":"W238-(1/#REF!*#REF!)","v":{"$error":"#REF!"}}]
[null,null,null,null,null,null,null,null,null,null,null,null,null,null,null,null,{"$error":"#DIV/0!"},null,null,null,null,null,null,null,null,null,null,null,null,{"$f":"W239-(1/#REF!*#REF!)","v":{"$error":"#REF!"}}]
[null,null,null,null,null,null,null,null,null,null,null,null,null,null,null,null,{"$error":"#DIV/0!"},null,null,null,null,null,null,null,null,null,null,null,null,{"$f":"W240-(1/#REF!*#REF!)","v":{"$error":"#REF!"}}]
[null,null,null,null,null,null,null,null,null,null,null,null,null,null,null,null,{"$error":"#DIV/0!"},null,null,null,null,null,null,null,null,null,null,null,null,{"$f":"W241-(1/#REF!*#REF!)","v":{"$error":"#REF!"}}]
[null,null,null,null,null,null,null,null,null,null,null,null,null,null,null,null,{"$error":"#DIV/0!"},null,null,null,null,null,null,null,null,null,null,null,null,{"$f":"W242-(1/#REF!*#REF!)","v":{"$error":"#REF!"}}]
[null,null,null,null,null,null,null,null,null,null,null,null,null,null,null,null,{"$error":"#DIV/0!"},null,null,null,null,null,null,null,null,null,null,null,null,{"$f":"W243-(1/#REF!*#REF!)","v":{"$error":"#REF!"}}]
[null,null,null,null,null,null,null,null,null,null,null,null,null,null,null,null,{"$error":"#DIV/0!"},null,null,null,null,null,null,null,null,null,null,null,null,{"$f":"W244-(1/#REF!*#REF!)","v":{"$error":"#REF!"}}]
[null,null,null,null,null,null,null,null,null,null,null,null,null,null,null,null,{"$error":"#DIV/0!"},null,null,null,null,null,null,null,null,null,null,null,null,{"$f":"W245-(1/#REF!*#REF!)","v":{"$error":"#REF!"}}]
[null,null,null,null,null,null,null,null,null,null,null,null,null,null,null,null,{"$error":"#DIV/0!"},null,null,null,null,null,null,null,null,null,null,null,null,{"$f":"W246-(1/#REF!*#REF!)","v":{"$error":"#REF!"}}]
[null,null,null,null,null,null,null,null,null,null,null,null,null,null,null,null,{"$error":"#DIV/0!"},null,null,null,null,null,null,null,null,null,null,null,null,{"$f":"W247-(1/#REF!*#REF!)","v":{"$error":"#REF!"}}]
[null,null,null,null,null,null,null,null,null,null,null,null,null,null,null,null,{"$error":"#DIV/0!"},null,null,null,null,null,null,null,null,null,null,null,null,{"$f":"W248-(1/#REF!*#REF!)","v":{"$error":"#REF!"}}]
[null,null,null,null,null,null,null,null,null,null,null,null,null,null,null,null,{"$error":"#DIV/0!"},null,null,null,null,null,null,null,null,null,null,null,null,{"$f":"W249-(1/#REF!*#REF!)","v":{"$error":"#REF!"}}]
[null,null,null,null,null,null,null,null,null,null,null,null,null,null,null,null,{"$error":"#DIV/0!"},null,null,null,null,null,null,null,null,null,null,null,null,{"$f":"W250-(1/#REF!*#REF!)","v":{"$error":"#REF!"}}]
[null,null,null,null,null,null,null,null,null,null,null,null,null,null,null,null,{"$error":"#DIV/0!"},null,null,null,null,null,null,null,null,null,null,null,null,{"$f":"W251-(1/#REF!*#REF!)","v":{"$error":"#REF!"}}]
[null,null,null,null,null,null,null,null,null,null,null,null,null,null,null,null,{"$error":"#DIV/0!"},null,null,null,null,null,null,null,null,null,null,null,null,{"$f":"W252-(1/#REF!*#REF!)","v":{"$error":"#REF!"}}]
[null,null,null,null,null,null,null,null,null,null,null,null,null,null,null,null,{"$error":"#DIV/0!"},null,null,null,null,null,null,null,null,null,null,null,null,{"$f":"W253-(1/#REF!*#REF!)","v":{"$error":"#REF!"}}]
[null,null,null,null,null,null,null,null,null,null,null,null,null,null,null,null,{"$error":"#DIV/0!"},null,null,null,null,null,null,null,null,null,null,null,null,{"$f":"W254-(1/#REF!*#REF!)","v":{"$error":"#REF!"}}]
[null,null,null,null,null,null,null,null,null,null,null,null,null,null,null,null,{"$error":"#DIV/0!"},null,null,null,null,null,null,null,null,null,null,null,null,{"$f":"W255-(1/#REF!*#REF!)","v":{"$error":"#REF!"}}]
[null,null,null,null,null,null,null,null,null,null,null,null,null,null,null,null,{"$error":"#DIV/0!"},null,null,null,null,null,null,null,null,null,null,null,null,{"$f":"W256-(1/#REF!*#REF!)","v":{"$error":"#REF!"}}]
[null,null,null,null,null,null,null,null,null,null,null,null,null,null,null,null,{"$error":"#DIV/0!"},null,null,null,null,null,null,null,null,null,null,null,null,{"$f":"W257-(1/#REF!*#REF!)","v":{"$error":"#REF!"}}]
[null,null,null,null,null,null,null,null,null,null,null,null,null,null,null,null,{"$error":"#DIV/0!"},null,null,null,null,null,null,null,null,null,null,null,null,{"$f":"W258-(1/#REF!*#REF!)","v":{"$error":"#REF!"}}]
[null,null,null,null,null,null,null,null,null,null,null,null,null,null,null,null,{"$error":"#DIV/0!"},null,null,null,null,null,null,null,null,null,null,null,null,{"$f":"W259-(1/#REF!*#REF!)","v":{"$error":"#REF!"}}]
[null,null,null,null,null,null,null,null,null,null,null,null,null,null,null,null,{"$error":"#DIV/0!"},null,null,null,null,null,null,null,null,null,null,null,null,{"$f":"W260-(1/#REF!*#REF!)","v":{"$error":"#REF!"}}]
[null,null,null,null,null,null,null,null,null,null,null,null,null,null,null,null,{"$error":"#DIV/0!"},null,null,null,null,null,null,null,null,null,null,null,null,{"$f":"W261-(1/#REF!*#REF!)","v":{"$error":"#REF!"}}]
[null,null,null,null,null,null,null,null,null,null,null,null,null,null,null,null,{"$error":"#DIV/0!"},null,null,null,null,null,null,null,null,null,null,null,null,{"$f":"W262-(1/#REF!*#REF!)","v":{"$error":"#REF!"}}]
[null,null,null,null,null,null,null,null,null,null,null,null,null,null,null,null,{"$error":"#DIV/0!"},null,null,null,null,null,null,null,null,null,null,null,null,{"$f":"W263-(1/#REF!*#REF!)","v":{"$error":"#REF!"}}]
[null,null,null,null,null,null,null,null,null,null,null,null,null,null,null,null,{"$error":"#DIV/0!"},null,null,null,null,null,null,null,null,null,null,null,null,{"$f":"W264-(1/#REF!*#REF!)","v":{"$error":"#REF!"}}]
[null,null,null,null,null,null,null,null,null,null,null,null,null,null,null,null,{"$error":"#DIV/0!"},null,null,null,null,null,null,null,null,null,null,null,null,{"$f":"W265-(1/#REF!*#REF!)","v":{"$error":"#REF!"}}]
[null,null,null,null,null,null,null,null,null,null,null,null,null,null,null,null,{"$error":"#DIV/0!"},null,null,null,null,null,null,null,null,null,null,null,null,{"$f":"W266-(1/#REF!*#REF!)","v":{"$error":"#REF!"}}]
[null,null,null,null,null,null,null,null,null,null,null,null,null,null,null,null,{"$error":"#DIV/0!"},null,null,null,null,null,null,null,null,null,null,null,null,{"$f":"W267-(1/#REF!*#REF!)","v":{"$error":"#REF!"}}]
[null,null,null,null,null,null,null,null,null,null,null,null,null,null,null,null,{"$error":"#DIV/0!"},null,null,null,null,null,null,null,null,null,null,null,null,{"$f":"W268-(1/#REF!*#REF!)","v":{"$error":"#REF!"}}]
[null,null,null,null,null,null,null,null,null,null,null,null,null,null,null,null,{"$error":"#DIV/0!"},null,null,null,null,null,null,null,null,null,null,null,null,{"$f":"W269-(1/#REF!*#REF!)","v":{"$error":"#REF!"}}]
[null,null,null,null,null,null,null,null,null,null,null,null,null,null,null,null,{"$error":"#DIV/0!"},null,null,null,null,null,null,null,null,null,null,null,null,{"$f":"W270-(1/#REF!*#REF!)","v":{"$error":"#REF!"}}]
[null,null,null,null,null,null,null,null,null,null,null,null,null,null,null,null,{"$error":"#DIV/0!"},null,null,null,null,null,null,null,null,null,null,null,null,{"$f":"W271-(1/#REF!*#REF!)","v":{"$error":"#REF!"}}]
[null,null,null,null,null,null,null,null,null,null,null,null,null,null,null,null,{"$error":"#DIV/0!"},null,null,null,null,null,null,null,null,null,null,null,null,{"$f":"W272-(1/#REF!*#REF!)","v":{"$error":"#REF!"}}]
[null,null,null,null,null,null,null,null,null,null,null,null,null,null,null,null,{"$error":"#DIV/0!"},null,null,null,null,null,null,null,null,null,null,null,null,{"$f":"W273-(1/#REF!*#REF!)","v":{"$error":"#REF!"}}]
[null,null,null,null,null,null,null,null,null,null,null,null,null,null,null,null,{"$error":"#DIV/0!"},null,null,null,null,null,null,null,null,null,null,null,null,{"$f":"W274-(1/#REF!*#REF!)","v":{"$error":"#REF!"}}]
[null,null,null,null,null,null,null,null,null,null,null,null,null,null,null,null,{"$error":"#DIV/0!"},null,null,null,null,null,null,null,null,null,null,null,null,{"$f":"W275-(1/#REF!*#REF!)","v":{"$error":"#REF!"}}]
[null,null,null,null,null,null,null,null,null,null,null,null,null,null,null,null,{"$error":"#DIV/0!"},null,null,null,null,null,null,null,null,null,null,null,null,{"$f":"W276-(1/#REF!*#REF!)","v":{"$error":"#REF!"}}]
[null,null,null,null,null,null,null,null,null,null,null,null,null,null,null,null,{"$error":"#DIV/0!"},null,null,null,null,null,null,null,null,null,null,null,null,{"$f":"W277-(1/#REF!*#REF!)","v":{"$error":"#REF!"}}]
[null,null,null,null,null,null,null,null,null,null,null,null,null,null,null,null,{"$error":"#DIV/0!"},null,null,null,null,null,null,null,null,null,null,null,null,{"$f":"W278-(1/#REF!*#REF!)","v":{"$error":"#REF!"}}]
[null,null,null,null,null,null,null,null,null,null,null,null,null,null,null,null,{"$error":"#DIV/0!"},null,null,null,null,null,null,null,null,null,null,null,null,{"$f":"W279-(1/#REF!*#REF!)","v":{"$error":"#REF!"}}]
[null,null,null,null,null,null,null,null,null,null,null,null,null,null,null,null,{"$error":"#DIV/0!"},null,null,null,null,null,null,null,null,null,null,null,null,{"$f":"W280-(1/#REF!*#REF!)","v":{"$error":"#REF!"}}]
[null,null,null,null,null,null,null,null,null,null,null,null,null,null,null,null,{"$error":"#DIV/0!"},null,null,null,null,null,null,null,null,null,null,null,null,{"$f":"W281-(1/#REF!*#REF!)","v":{"$error":"#REF!"}}]
[null,null,null,null,null,null,null,null,null,null,null,null,null,null,null,null,{"$error":"#DIV/0!"},null,null,null,null,null,null,null,null,null,null,null,null,{"$f":"W282-(1/#REF!*#REF!)","v":{"$error":"#REF!"}}]
[null,null,null,null,null,null,null,null,null,null,null,null,null,null,null,null,{"$error":"#DIV/0!"},null,null,null,null,null,null,null,null,null,null,null,null,{"$f":"W283-(1/#REF!*#REF!)","v":{"$error":"#REF!"}}]
[null,null,null,null,null,null,null,null,null,null,null,null,null,null,null,null,{"$error":"#DIV/0!"},null,null,null,null,null,null,null,null,null,null,null,null,{"$f":"W284-(1/#REF!*#REF!)","v":{"$error":"#REF!"}}]
[null,null,null,null,null,null,null,null,null,null,null,null,null,null,null,null,{"$error":"#DIV/0!"},null,null,null,null,null,null,null,null,null,null,null,null,{"$f":"W285-(1/#REF!*#REF!)","v":{"$error":"#REF!"}}]
[null,null,null,null,null,null,null,null,null,null,null,null,null,null,null,null,{"$error":"#DIV/0!"},null,null,null,null,null,null,null,null,null,null,null,null,{"$f":"W286-(1/#REF!*#REF!)","v":{"$error":"#REF!"}}]
[null,null,null,null,null,null,null,null,null,null,null,null,null,null,null,null,{"$error":"#DIV/0!"},null,null,null,null,null,null,null,null,null,null,null,null,{"$f":"W287-(1/#REF!*#REF!)","v":{"$error":"#REF!"}}]
[null,null,null,null,null,null,null,null,null,null,null,null,null,null,null,null,{"$error":"#DIV/0!"},null,null,null,null,null,null,null,null,null,null,null,null,{"$f":"W288-(1/#REF!*#REF!)","v":{"$error":"#REF!"}}]
[null,null,null,null,null,null,null,null,null,null,null,null,null,null,null,null,{"$error":"#DIV/0!"},null,null,null,null,null,null,null,null,null,null,null,null,{"$f":"W289-(1/#REF!*#REF!)","v":{"$error":"#REF!"}}]
[null,null,null,null,null,null,null,null,null,null,null,null,null,null,null,null,{"$error":"#DIV/0!"},null,null,null,null,null,null,null,null,null,null,null,null,{"$f":"W290-(1/#REF!*#REF!)","v":{"$error":"#REF!"}}]
[null,null,null,null,null,null,null,null,null,null,null,null,null,null,null,null,{"$error":"#DIV/0!"},null,null,null,null,null,null,null,null,null,null,null,null,{"$f":"W291-(1/#REF!*#REF!)","v":{"$error":"#REF!"}}]
[null,null,null,null,null,null,null,null,null,null,null,null,null,null,null,null,{"$error":"#DIV/0!"},null,null,null,null,null,null,null,null,null,null,null,null,{"$f":"W292-(1/#REF!*#REF!)","v":{"$error":"#REF!"}}]
[null,null,null,null,null,null,null,null,null,null,null,null,null,null,null,null,{"$error":"#DIV/0!"},null,null,null,null,null,null,null,null,null,null,null,null,{"$f":"W293-(1/#REF!*#REF!)","v":{"$error":"#REF!"}}]
[null,null,null,null,null,null,null,null,null,null,null,null,null,null,null,null,{"$error":"#DIV/0!"},null,null,null,null,null,null,null,null,null,null,null,null,{"$f":"W294-(1/#REF!*#REF!)","v":{"$error":"#REF!"}}]
[null,null,null,null,null,null,null,null,null,null,null,null,null,null,null,null,{"$error":"#DIV/0!"},null,null,null,null,null,null,null,null,null,null,null,null,{"$f":"W295-(1/#REF!*#REF!)","v":{"$error":"#REF!"}}]
[null,null,null,null,null,null,null,null,null,null,null,null,null,null,null,null,{"$f":"P296-(1/$P$2*N296)","v":{"$error":"#DIV/0!"}},null,null,null,null,null,null,null,null,null,null,null,null,{"$f":"W296-(1/#REF!*#REF!)","v":{"$error":"#REF!"}}]
[null,null,null,null,null,null,null,null,null,null,null,null,null,null,null,null,{"$error":"#DIV/0!"},null,null,null,null,null,null,null,null,null,null,null,null,{"$f":"W297-(1/#REF!*#REF!)","v":{"$error":"#REF!"}}]
[null,null,null,null,null,null,null,null,null,null,null,null,null,null,null,null,{"$error":"#DIV/0!"},null,null,null,null,null,null,null,null,null,null,null,null,{"$f":"W298-(1/#REF!*#REF!)","v":{"$error":"#REF!"}}]
[null,null,null,null,null,null,null,null,null,null,null,null,null,null,null,null,{"$error":"#DIV/0!"},null,null,null,null,null,null,null,null,null,null,null,null,{"$f":"W299-(1/#REF!*#REF!)","v":{"$error":"#REF!"}}]
[null,null,null,null,null,null,null,null,null,null,null,null,null,null,null,null,{"$error":"#DIV/0!"},null,null,null,null,null,null,null,null,null,null,null,null,{"$f":"W300-(1/#REF!*#REF!)","v":{"$error":"#REF!"}}]
[null,null,null,null,null,null,null,null,null,null,null,null,null,null,null,null,{"$error":"#DIV/0!"},null,null,null,null,null,null,null,null,null,null,null,null,{"$f":"W301-(1/#REF!*#REF!)","v":{"$error":"#REF!"}}]
[null,null,null,null,null,null,null,null,null,null,null,null,null,null,null,null,{"$error":"#DIV/0!"},null,null,null,null,null,null,null,null,null,null,null,null,{"$f":"W302-(1/#REF!*#REF!)","v":{"$error":"#REF!"}}]
[null,null,null,null,null,null,null,null,null,null,null,null,null,null,null,null,{"$error":"#DIV/0!"},null,null,null,null,null,null,null,null,null,null,null,null,{"$f":"W303-(1/#REF!*#REF!)","v":{"$error":"#REF!"}}]
[null,null,null,null,null,null,null,null,null,null,null,null,null,null,null,null,{"$error":"#DIV/0!"},null,null,null,null,null,null,null,null,null,null,null,null,{"$f":"W304-(1/#REF!*#REF!)","v":{"$error":"#REF!"}}]
[null,null,null,null,null,null,null,null,null,null,null,null,null,null,null,null,{"$error":"#DIV/0!"},null,null,null,null,null,null,null,null,null,null,null,null,{"$f":"W305-(1/#REF!*#REF!)","v":{"$error":"#REF!"}}]
[null,null,null,null,null,null,null,null,null,null,null,null,null,null,null,null,{"$error":"#DIV/0!"},null,null,null,null,null,null,null,null,null,null,null,null,{"$f":"W306-(1/#REF!*#REF!)","v":{"$error":"#REF!"}}]
[null,null,null,null,null,null,null,null,null,null,null,null,null,null,null,null,{"$error":"#DIV/0!"},null,null,null,null,null,null,null,null,null,null,null,null,{"$f":"W307-(1/#REF!*#REF!)","v":{"$error":"#REF!"}}]

{"sheet":"Nutrients","index":3,"n_rows":77,"n_cols":50,"rows_kept":77,"cut":false,"hidden":false,"merged":[[41,66,41,67],[41,68,41,69],[41,70,41,71],[41,72,41,73],[41,74,41,75],[3,66,3,67],[3,68,3,69],[3,70,3,71],[3,72,3,73],[3,74,3,75],[3,62,3,63],[3,64,3,65],[41,56,41,57],[41,58,41,59],[41,60,41,61],[41,62,41,63],[41,64,41,65],[3,2,3,3],[3,56,3,57],[3,58,3,59],[3,60,3,61],[3,14,3,15],[3,16,3,17],[3,18,3,19],[3,20,3,21],[3,8,3,9],[3,10,3,11],[3,12,3,13],[3,40,3,41],[3,30,3,31],[3,32,3,33],[3,34,3,35],[3,38,3,39],[1,2,1,3],[2,2,2,3],[1,6,1,7],[2,6,2,7],[0,1,0,2],[3,24,3,25],[3,26,3,27],[3,28,3,29],[41,28,41,29],[41,6,41,7],[41,8,41,9],[41,10,41,11],[41,12,41,13],[41,14,41,15],[41,16,41,17],[3,6,3,7],[3,54,3,55],[41,48,41,49],[41,50,41,51],[41,52,41,53],[41,54,41,55],[3,52,3,53],[3,50,3,51],[3,42,3,43],[41,42,41,43],[3,44,3,45],[41,44,41,45],[3,46,3,47],[41,46,41,47],[3,36,3,37],[3,22,3,23],[19,5,25,5],[57,5,63,5],[3,48,3,49],[41,30,41,31],[41,32,41,33],[41,34,41,35],[41,36,41,37],[41,38,41,39],[41,40,41,41],[41,18,41,19],[41,20,41,21],[41,22,41,23],[41,24,41,25],[41,26,41,27]]}
[null,"UffdAu 3.0",null,null,null,null,null,null,null,null,null,null,null,null,null,null,null,null,null,null,null,null,null,null,null,null,null,null,null,null,{"$f":"6.3/AF1","v":0.34090909090909088},{"$f":"AE10*105/1000","v":18.48},{"$f":"AG10*120","v":18480}]
[null,null,"     Current Specification",null,null,null,"Stored Specidications"]
[null,null,"     "]
[null,null,"Broiler Starter, 0 to 10 Days",null,null,null,"Broiler Starter, 0 to 10 Days",null,"Broiler Grower, 11 to 24 Days",null,"Broiler Grower, 25 Days to Mkt.",null,"Pullet Starter",null,"Pullet Grower",null,"Pullet Pre-Lay",null,"Turkey Starter (Standard)",null,"Turkey Starter (HD)",null,"Turkey Grower (Standard)",null,"Turkey Grower (HD)",null,"Turkey Finisher (Standard)",null,"Turkey Finisher (HD)",null,"Layer Phase 1 (105g)",null,"Layer Phase 1 (120g)",null,"Layer Phase 3 (105g)",null,"Layer Phase 3 (120g)",null,"Broiler Breeder Starter",null,"Broiler Breeder Grower",null,"Broiler Breeder Developer",null,"Broiler Breeder Layer I",null,"Broiler Breeder Layer II",null,"Broiler Breeder Roosters"]
[null,null,"Minimum","Maximum","Units",null,"Minimum","Maximum","Minimum","Maximum","Minimum","Maximum","Minimum","Maximum","Minimum","Maximum","Minimum","Maximum","Minimum","Maximum","Minimum","Maximum","Minimum","Maximum","Minimum","Maximum","Minimum","Maximum","Minimum","Maximum","Minimum","Maximum","Minimum","Maximum","Minimum","Maximum","Minimum","Maximum","Minimum","Maximum","Minimum","Maximum","Minimum","Maximum","Minimum","Maximum","Minimum","Maximum","Minimum","Maximum"]
[null,{"$f":"Ingredients!G$1","v":"Dry Matter"},0,1000,"%",null,0,1000,0,1000,0,1000,0,1000,0,1000,0,1000,0,1000,0,1000,0,1000,0,1000,0,1000,0,1000,0,1000,0,1000,0,1000,0,1000,0,1000,0,1000,0,1000,0,1000,0,1000,0,1000]
[null,{"$f":"Ingredients!H$1","v":"AMEn"},12.4,100,"MJ/Kg",null,12.4,100,12.8,100,13,100,12,100,11.72,100,11.62,100,{"$f":"4.184*(1403/454)","v":12.929850220264319},100,{"$f":"4.184*(1403/454)","v":12.929850220264319},100,{"$f":"4.184*(1.434/0.454)","v":13.215541850220264},100,13.215541850220264,100,{"$f":"4.184*(1403/454)","v":12.929850220264319},100,{"$f":"4.184*(1542/454)","v":14.210854625550661},100,11.6,100,11.6,100,11.4,100,11.4,100,11.92,100,11.3,100,11.72,100,11.72,100,11.72,100,11.3,100]
[null,{"$f":"Ingredients!I$1","v":"Metabolisable Energy"},0,100,"MJ/Kg",null,0,100,0,100,0,100,0,100,0,100,0,100,0,100,0,100,0,100,0,100,0,100,0,100,0,100,0,100,0,100,0,100,0,100,0,100,0,100,0,100,0,100,0,100]
[null,{"$f":"Ingredients!J$1","v":"Net Energy"},0,100,"MJ/Kg",null,0,100,0,100,0,100,0,100,0,100,0,100,0,100,0,100,0,100,0,100,0,100,0,100,0,100,0,100,0,100,0,100,0,100,0,100,0,100,0,100,0,100,0,100]
[null,{"$f":"Ingredients!K$1","v":"Crude Protein"},230,1000,"g/Kg",null,230,1000,212.5,1000,195,1000,200,1000,175,1000,165,1000,296.5,1000,323.39999999999998,1000,265.5,1000,290.39999999999998,1000,201.3,1000,220,1000,176,1000,154,1000,162,1000,142,1000,190,1000,145,1000,150,1000,150,1000,145,1000,130,1000]
[null,{"$f":"Ingredients!L$1","v":"True Protein"},0,1000,"g/Kg",null,{"$f":"0.16*G10*5.61","v":206.44800000000004},1000,{"$f":"0.16*I10*5.61","v":190.74},1000,{"$f":"0.16*K10*5.61","v":175.03200000000001},1000,{"$f":"0.16*M10*5.61","v":179.52},1000,{"$f":"0.16*O10*5.61","v":157.08000000000001},1000,{"$f":"0.16*Q10*5.61","v":148.10400000000001},1000,{"$f":"0.16*S10*5.61","v":266.13839999999999},1000,{"$f":"0.16*U10*5.61","v":290.28384},1000,{"$f":"0.16*W10*5.61","v":238.31280000000004},1000,{"$f":"0.16*Y10*5.61","v":260.66304000000002},1000,{"$f":"0.16*AA10*5.61","v":180.68688000000003},1000,{"$f":"0.16*AC10*5.61","v":197.47200000000004},1000,{"$f":"0.16*AE10*5.61","v":157.97760000000002},1000,{"$f":"0.16*AG10*5.61","v":138.2304},1000,{"$f":"0.16*AI10*5.61","v":145.41120000000001},1000,{"$f":"0.16*AK10*5.61","v":127.4592},1000,{"$f":"0.16*AM10*5.61","v":170.54400000000001},1000,{"$f":"0.16*AO10*5.61","v":130.15200000000002},1000,{"$f":"0.16*AQ10*5.61","v":134.64000000000001},1000,{"$f":"0.16*AS10*5.61","v":134.64000000000001},1000,{"$f":"0.16*AU10*5.61","v":130.15200000000002},1000,{"$f":"0.16*AW10*5.61","v":116.68800000000002},1000]
[null,{"$f":"Ingredients!M$1","v":"Lipids"},0,1000,"g/Kg",null,0,1000,0,1000,0,1000,0,1000,0,1000,0,1000,0,1000,0,1000,0,1000,0,1000,0,1000,0,1000,0,1000,0,1000,0,1000,0,1000,0,1000,0,1000,0,1000,0,1000,0,1000,0,1000]
[null,{"$f":"Ingredients!N$1","v":"Crude Fibre"},0,1000,"g/Kg",null,0,1000,0,1000,0,1000,0,1000,0,1000,0,1000,0,1000,0,1000,0,1000,0,1000,0,1000,0,1000,0,1000,0,1000,0,1000,0,1000,0,1000,0,1000,0,1000,0,1000,0,1000,0,1000]
[null,{"$f":"Ingredients!O$1","v":"Calcium"},9.5,1000,"g/Kg",null,9.5,1000,7.5,1000,6.5,1000,10,1000,10,1000,27,1000,14.9,1000,14.9,1000,12.4,1000,12.4,1000,10,1000,10,1000,39,1000,34.200000000000003,1000,42.9,1000,37.5,1000,9.5,1000,9.5,1000,12,1000,30,1000,32,1000,9.5,1000]
[null,{"$f":"Ingredients!P$1","v":"Total Phosphorous"},0,100,"g/Kg",null,0,100,0,100,0,100,0,100,0,100,0,100,0,100,0,100,0,100,0,100,0,100,0,100,0,100,0,100,0,100,0,100,0,100,0,100,0,100,0,100,0,100,0,100]
[null,{"$f":"Ingredients!Q$1","v":"Available Phosphorous"},5,100,"g/Kg",null,5,100,4.2,100,3.6,100,4.5,100,4.3,100,4.8,100,7.6,100,7.6,100,6.2,100,6.2,100,5,100,5,100,4,100,3.5,100,3.6,100,3.2,100,4.5,100,4.2,100,4.2,100,4.2,100,3.8,100,4.2,100]
[null,{"$f":"Ingredients!R$1","v":"Ca:aP"},-100,100,"g/Kg",null,-100,100,-100,100,-100,100,-100,100,-100,100,-100,100,-100,100,-100,100,-100,100,-100,100,-100,100,-100,100,-100,100,-100,100,-100,100,-100,100,-100,100,-100,100,-100,100,-100,100,-100,100,-100,100]
[null,{"$f":"Ingredients!S$1","v":"Na"},1.8,100,"mg/g",null,1.8,100,1.8,100,1.8,100,1.8,100,1.7,100,1.8,100,1.7,100,1.7,100,1.6,100,1.6,100,1.5,100,1.5,100,1.7,100,1.5,100,1.7,100,1.5,100,1.5,100,1.5,100,1.5,100,1.5,100,1.5,100,1.5,100]
[null,{"$f":"Ingredients!T$1","v":"Cl"},1.8,100,"mg/Kg",null,1.8,100,1.8,100,1.8,100,1.8,100,1.7,100,1.8,100,2,100,2,100,1.9,100,1.9,100,1.9,100,1.9,100,1.7,100,1.5,100,1.7,100,1.5,100,1.5,100,1.5,100,1.5,100,1.5,100,1.5,100,1.5,100]
[null,{"$f":"Ingredients!U$1","v":"Choline"},1700,10000,"mg/Kg","Amino acids as % of the diet  ",1700,10000,1600,10000,1500,10000,1300,10000,1300,10000,1300,10000,1600,10000,1600,10000,600,10000,600,10000,300,10000,300,10000,400,10000,400,10000,400,10000,400,10000,500,10000,500,10000,500,10000,500,10000,500,10000,500,10000]
[null,{"$f":"Ingredients!V$1","v":"Betaine"},0,10000,"mg/Kg",null,0,10000,0,10000,0,10000,0,10000,0,10000,0,10000,0,10000,0,10000,0,10000,0,10000,0,10000,0,10000,0,10000,0,10000,0,10000,0,10000,0,10000,0,10000,0,10000,0,10000,0,10000,0,10000]
[null,{"$f":"Ingredients!W$1","v":"dLYS"},0,1000,"g/Kg",null,13.2,1000,11.8,1000,11.8,1000,10.1,1000,8.1999999999999993,1000,7.2,1000,17.5,1000,19.3,1000,15.2,1000,16.7,1000,11,1000,12.1,1000,7.8,1000,6.8,1000,7.3,1000,6.4,1000,9.3000000000000007,1000,6,1000,6.3,1000,6.3,1000,6,1000,5,1000]
[null,{"$f":"Ingredients!X$1","v":"dMET"},5.5,1000,"g/Kg",null,5.5,1000,5.0999999999999996,1000,5.0999999999999996,1000,4.5,1000,3.9,1000,3.5,1000,7.9,1000,8.8000000000000007,1000,7.1,1000,7.8,1000,5.3,1000,5.9,1000,3.9,1000,3.4,1000,3.7,1000,3.2,1000,4.2,1000,3.1,1000,3.3,1000,3.3,1000,3.1,1000,2.8,1000]
[null,{"$f":"Ingredients!Y$1","v":"dTSAA"},10,1000,"g/Kg",null,10,1000,9.1999999999999993,1000,9.1999999999999993,1000,7.7,1000,6.6,1000,6.2,1000,11.4,1000,12.5,1000,10.199999999999999,1000,11.2,1000,7.6,1000,8.5,1000,7,1000,6.1,1000,6.6,1000,5.8,1000,7,1000,5.0999999999999996,1000,5.4,1000,5.4,1000,5.2,1000,4.8,1000]
[null,{"$f":"Ingredients!Z$1","v":"dTHR"},8.8000000000000007,1000,"g/Kg",null,8.8000000000000007,1000,7.4,1000,7.4,1000,6.5,1000,5.5,1000,5,1000,12.1,1000,13.2,1000,10.9,1000,12,1000,8.3000000000000007,1000,9.1,1000,5.5,1000,4.8,1000,5.0999999999999996,1000,4.5,1000,6.5,1000,4.5,1000,4.7,1000,4.7,1000,4.5,1000,4.4000000000000004,1000]
[null,{"$f":"Ingredients!AA$1","v":"dTRP"},2.1,1000,"g/Kg",null,2.1,1000,1.9,1000,1.9,1000,1.8,1000,1.7,1000,1.6,1000,2.6,1000,2.6,1000,2.2000000000000002,1000,2.2000000000000002,1000,1.8,1000,1.8,1000,1.7,1000,1.5,1000,1.6,1000,1.4,1000,2,1000,1.3,1000,1.4,1000,1.4,1000,1.3,1000,1.2,1000]
[null,{"$f":"Ingredients!AB$1","v":"dARG"},14,1000,"g/Kg",null,14,1000,12.7,1000,12.7,1000,10.5,1000,8.5,1000,7.5,1000,11.86,1000,11.86,1000,13.5,1000,13.5,1000,9.5,1000,9.5,1000,8.1,1000,7.1,1000,7.6,1000,6.7,1000,9.8000000000000007,1000,6.6,1000,6.9,1000,6.9,1000,6.6,1000,5.5,1000]
[null,{"$f":"Ingredients!AC$1","v":"dVAL"},10,1000,"g/Kg",null,10,1000,9.1,1000,9.1,1000,7.3,1000,6.4,1000,6.1,1000,12.2,1000,12.2,1000,9.1999999999999993,1000,9.1999999999999993,1000,6.7,1000,6.7,1000,6.8,1000,6,1000,6.4,1000,5.6,1000,6.7,1000,4.5,1000,4.7,1000,4.7,1000,4.5,1000,3.8,1000]
[null,{"$f":"Ingredients!AD$1","v":"TP:dLYS"},0,100,"g/g",null,-100,100,-100,100,-100,100,-100,100,-100,100,-100,100,-100,100,-100,100,-100,100,-100,100,-100,100,-100,100,-100,100,-100,100,-100,100,-100,100,-100,100,-100,100,-100,100,-100,100,-100,100,-100,100]
[null,{"$f":"Ingredients!AE$1","v":"Total NSP"},0,1000,"g/Kg",null,0,1000,0,1000,0,1000,0,1000,0,1000,0,1000,0,1000,0,1000,0,1000,0,1000,0,1000,0,1000,0,1000,0,1000,0,1000,0,1000,0,1000,0,1000,0,1000,0,1000,0,1000,0,1000]
[null,{"$f":"Ingredients!AF$1","v":"Soluble NSP"},0,1000,"g/Kg",null,0,1000,0,1000,0,1000,0,1000,0,1000,0,1000,0,1000,0,1000,0,1000,0,1000,0,1000,0,1000,0,1000,0,1000,0,1000,0,1000,0,1000,0,1000,0,1000,0,1000,0,1000,0,1000]
[null,{"$f":"Ingredients!AG$1","v":"Insoluble NSP"},0,1000,"g/Kg",null,0,1000,0,1000,0,1000,0,1000,0,1000,0,1000,0,1000,0,1000,0,1000,0,1000,0,1000,0,1000,0,1000,0,1000,0,1000,0,1000,0,1000,0,1000,0,1000,0,1000,0,1000,0,1000]
[null,{"$f":"Ingredients!AH$1","v":"Lignin"},0,1000,"g/Kg",null,0,1000,0,1000,0,1000,0,1000,0,1000,0,1000,0,1000,0,1000,0,1000,0,1000,0,1000,0,1000,0,1000,0,1000,0,1000,0,1000,0,1000,0,1000,0,1000,0,1000,0,1000,0,1000]
[null,{"$f":"Ingredients!AI$1","v":"18:2"},12.5,1000,"g/Kg",null,12.5,1000,12,1000,12,1000,12,1000,12,1000,12,1000,12.5,1000,12.5,1000,10,1000,10,1000,9,1000,9,1000,19,1000,19,1000,12.4,1000,10.8,1000,10,1000,10,1000,10,1000,12.5,1000,12.5,1000,10,1000]
[null,{"$f":"Ingredients!AJ$1","v":"Nutrient"},0,100,null,null,0,100,0,100,0,100,0,100,0,100,0,100,0,100,0,100,0,100,0,100,0,100,0,100,0,100,0,100,0,100,0,100,0,100,0,100,0,100,0,100,0,100,0,100]
[null,{"$f":"Ingredients!AK$1","v":"Nutrient"},0,100,null,null,0,100,0,100,0,100,0,100,0,100,0,100,0,100,0,100,0,100,0,100,0,100,0,100,0,100,0,100,0,100,0,100,0,100,0,100,0,100,0,100,0,100,0,100]
[null,{"$f":"Ingredients!AL$1","v":"Nutrient"},0,100,null,null,0,100,0,100,0,100,0,100,0,100,0,100,0,100,0,100,0,100,0,100,0,100,0,100,0,100,0,100,0,100,0,100,0,100,0,100,0,100,0,100,0,100,0,100]
[null,{"$f":"Ingredients!AM$1","v":"Nutrient"},0,100,null," ",0,100,0,100,0,100,0,100,0,100,0,100,0,100,0,100,0,100,0,100,0,100,0,100,0,100,0,100,0,100,0,100,0,100,0,100,0,100,0,100,0,100,0,100]
[null,{"$f":"Ingredients!AN$1","v":"Nutrient"},0,100,null,null,0,100,0,100,0,100,0,100,0,100,0,100,0,100,0,100,0,100,0,100,0,100,0,100,0,100,0,100,0,100,0,100,0,100,0,100,0,100,0,100,0,100,0,100]
[]
[]
[null,null,null,null,null,null,"Broiler Starter, 0 to 10 Days",null,"Broiler Grower, 11 to 24 Days",null,"Broiler Grower, 25 Days to Mkt.",null,"Pullet Starter",null,"Pullet Grower",null,"Pullet Pre-Lay",null,"Turkey Starter (Standard)",null,"Turkey Starter (HD)",null,"Turkey Grower (Standard)",null,"Turkey Grower (Standard)",null,"Turkey Finisher (Standard)",null,"Turkey Finisher (Standard)",null,"Layer Phase 1 (105g)",null,"Layer Phase 1 (120g)",null,"Layer Phase 3 (105g)",null,"Layer Phase 3 (120g)",null,"Broiler Breeder Starter",null,"Broiler Breeder Grower",null,"Broiler Breeder Developer",null,"Broiler Breeder Layer I",null,"Broiler Breeder Layer II",null,"Broiler Breeder Roosters"]
[null,null,null,null,null,null,"Minimum","Maximum","Minimum","Maximum","Minimum","Maximum","Minimum","Maximum","Minimum","Maximum","Minimum","Maximum","Minimum","Maximum","Minimum","Maximum","Minimum","Maximum","Minimum","Maximum","Minimum","Maximum","Minimum","Maximum","Minimum","Maximum","Minimum","Maximum","Minimum","Maximum","Minimum","Maximum","Minimum","Maximum","Minimum","Maximum","Minimum","Maximum","Minimum","Maximum","Minimum","Maximum","Minimum","Maximum"]
[null,null,null,{"$f":"B6","v":"Dry Matter"},{"$f":"E6","v":"%"},null,{"$f":"G6","v":0},{"$f":"H6","v":1000},0,1000,0,1000,0,1000,0,1000,0,1000,0,1000,0,1000,0,1000,0,1000,0,1000,0,1000,0,1000,0,1000,0,1000,0,1000,0,1000,0,1000,0,1000,0,1000,0,1000,0,1000]
[null,null,null,{"$f":"B7","v":"AMEn"},{"$f":"E7","v":"MJ/Kg"},null,12.4,{"$f":"H7","v":100},12.8,100,13,100,12,100,11.72,100,11.62,100,12.929850220264319,100,12.929850220264319,100,13.215541850220264,100,13.215541850220264,100,12.929850220264319,100,14.210854625550661,100,11.6,100,11.6,100,11.4,100,11.4,100,11.92,100,11.3,100,11.72,100,11.72,100,11.72,100,11.3,100]
[null,null,null,"Metabolisable Energy","MJ/Kg",null,0,{"$f":"H8","v":100},0,100,0,100,0,100,0,100,0,100,0,100,0,100,0,100,0,100,0,100,0,100,0,100,0,100,0,100,0,100,0,100,0,100,0,100,0,100,0,100,0,100]
[null,null,null,"Net Energy","MJ/Kg",null,0,{"$f":"H9","v":100},0,100,0,100,0,100,0,100,0,100,0,100,0,100,0,100,0,100,0,100,0,100,0,100,0,100,0,100,0,100,0,100,0,100,0,100,0,100,0,100,0,100]
[null,null,null,"Crude Protein","g/Kg",null,230,{"$f":"H10","v":1000},212.5,1000,195,1000,200,1000,175,1000,165,1000,296.5,1000,323.39999999999998,1000,265.5,1000,290.39999999999998,1000,201.3,1000,220,1000,176,1000,154,1000,162,1000,142,1000,190,1000,145,1000,150,1000,150,1000,145,1000,130,1000]
[null,null,null,"True Protein","g/Kg",null,206.44800000000004,{"$f":"H11","v":1000},190.74,1000,175.03200000000001,1000,179.52,1000,157.08000000000001,1000,148.10400000000001,1000,266.13839999999999,1000,290.28384,1000,238.31280000000004,1000,260.66304000000002,1000,180.68688000000003,1000,197.47200000000004,1000,157.97760000000002,1000,138.2304,1000,145.41120000000001,1000,127.4592,1000,170.54400000000001,1000,130.15200000000002,1000,134.64000000000001,1000,134.64000000000001,1000,130.15200000000002,1000,116.68800000000002,1000]
[null,null,null,"Lipids","g/Kg",null,0,{"$f":"H12","v":1000},0,1000,0,1000,0,1000,0,1000,0,1000,0,1000,0,1000,0,1000,0,1000,0,1000,0,1000,0,1000,0,1000,0,1000,0,1000,0,1000,0,1000,0,1000,0,1000,0,1000,0,1000]
[null,null,null,"Crude Fibre","g/Kg",null,0,{"$f":"H13","v":1000},0,1000,0,1000,0,1000,0,1000,0,1000,0,1000,0,1000,0,1000,0,1000,0,1000,0,1000,0,1000,0,1000,0,1000,0,1000,0,1000,0,1000,0,1000,0,1000,0,1000,0,1000]
[null,null,null,"Calcium","g/Kg",null,9.5,{"$f":"H14","v":1000},7.5,1000,6.5,1000,10,1000,10,1000,27,1000,14.9,1000,14.9,1000,12.4,1000,12.4,1000,10,1000,10,1000,39,1000,34.200000000000003,1000,42.9,1000,37.5,1000,9.5,1000,9.5,1000,12,1000,30,1000,32,1000,9.5,1000]
[null,null,null,"Total Phosphorous","g/Kg",null,0,{"$f":"H15","v":100},0,100,0,100,0,100,0,100,0,100,0,100,0,100,0,100,0,100,0,100,0,100,0,100,0,100,0,100,0,100,0,100,0,100,0,100,0,100,0,100,0,100]
[null,null,null,"Available Phosphorous","g/Kg",null,5,{"$f":"H16","v":100},4.2,100,3.6,100,4.5,100,4.3,100,4.8,100,7.6,100,7.6,100,6.2,100,6.2,100,5,100,5,100,4,100,3.5,100,3.6,100,3.2,100,4.5,100,4.2,100,4.2,100,4.2,100,3.8,100,4.2,100]
[null,null,null,"Ca:aP","g/Kg",null,-100,{"$f":"H17","v":100},-100,100,-100,100,-100,100,-100,100,-100,100,-100,100,-100,100,-100,100,-100,100,-100,100,-100,100,-100,100,-100,100,-100,100,-100,100,-100,100,-100,100,-100,100,-100,100,-100,100,-100,100]
[null,null,null,"Na","mg/g",null,1.8,{"$f":"H18","v":100},1.8,100,1.8,100,1.8,100,1.7,100,1.8,100,1.7,100,1.7,100,1.6,100,1.6,100,1.5,100,1.5,100,1.7,100,1.5,100,1.7,100,1.5,100,1.5,100,1.5,100,1.5,100,1.5,100,1.5,100,1.5,100]
[null,null,null,"Cl","mg/Kg",null,1.8,{"$f":"H19","v":100},1.8,100,1.8,100,1.8,100,1.7,100,1.8,100,2,100,2,100,1.9,100,1.9,100,1.9,100,1.9,100,1.7,100,1.5,100,1.7,100,1.5,100,1.5,100,1.5,100,1.5,100,1.5,100,1.5,100,1.5,100]
[null,null,null,"Choline","mg/Kg","Amino acids referenced to dLys",1700,{"$f":"H20","v":10000},1600,10000,1500,10000,1300,10000,1300,10000,1300,10000,1600,10000,1600,10000,600,10000,600,10000,300,10000,300,10000,400,10000,400,10000,400,10000,400,10000,500,10000,500,10000,500,10000,500,10000,500,10000,500,10000]
[null,null,null,"Betaine","mg/Kg",null,0,{"$f":"H21","v":10000},0,10000,0,10000,0,10000,0,10000,0,10000,0,10000,0,10000,0,10000,0,10000,0,10000,0,10000,0,10000,0,10000,0,10000,0,10000,0,10000,0,10000,0,10000,0,10000,0,10000,0,10000]
[null,null,null,"dLYS","g/Kg",null,13.2,{"$f":"H22","v":1000},11.8,1000,11.8,1000,10.1,1000,8.1999999999999993,1000,7.2,1000,17.5,1000,19.3,1000,15.2,1000,16.7,1000,11,1000,12.1,1000,7.8,1000,6.8,1000,7.3,1000,6.4,1000,9.3000000000000007,1000,6,1000,6.3,1000,6.3,1000,6,1000,5,1000]
[null,null,null,"dMET","g/Kg",null,{"$f":"G60*0.416666666666667","v":5.5000000000000044},100,{"$f":"I60*0.432203389830508","v":5.0999999999999943},100,{"$f":"K60*0.432203389830508","v":5.0999999999999943},100,{"$f":"M60*0.445544554455446","v":4.5000000000000044},100,{"$f":"O60*0.475609756097561","v":3.9},100,{"$f":"Q60*0.486111111111111","v":3.4999999999999991},100,{"$f":"S60*0.451428571428571","v":7.8999999999999924},100,{"$f":"U60*0.455958549222798","v":8.8000000000000007},100,{"$f":"W60*0.464566929133858","v":7.0614173228346413},100,{"$f":"Y60*0.421428571428571","v":7.0378571428571348},100,{"$f":"AA60*0.504854368932039","v":5.55339805825243},100,{"$f":"AC60*0.743362831858407","v":8.9946902654867245},100,{"$f":"AE60*0.5","v":3.9},100,{"$f":"AG60*0.5","v":3.4},100,{"$f":"AI60*0.506849315068493","v":3.6999999999999984},100,{"$f":"AK60*0.5","v":3.2},100,{"$f":"AM60*0.451612903225806","v":4.1999999999999957},100,{"$f":"AO60*0.516666666666667","v":3.1000000000000023},100,{"$f":"AQ60*0.523809523809524","v":3.3000000000000007},100,{"$f":"AS60*0.523809523809524","v":3.3000000000000007},100,{"$f":"AU60*0.516666666666667","v":3.1000000000000023},100,{"$f":"AW60*0.56","v":2.8000000000000003},100]
[null,null,null,"dTSAA","g/Kg",null,{"$f":"G60*0.757575757575758","v":10.000000000000005},100,{"$f":"I60*0.779661016949152","v":9.199999999999994},100,{"$f":"K60*0.779661016949152","v":9.199999999999994},100,{"$f":"M60*0.762376237623762","v":7.6999999999999966},100,{"$f":"O60*0.804878048780488","v":6.6000000000000005},100,{"$f":"Q60*0.861111111111111","v":6.1999999999999993},100,{"$f":"S60*0.651428571428571","v":11.399999999999993},100,{"$f":"U60*0.647668393782383","v":12.499999999999991},100,{"$f":"W60*0.677165354330709","v":10.292913385826777},100,{"$f":"Y60*0.614285714285714","v":10.258571428571424},100,{"$f":"AA60*0.737864077669903","v":8.1165048543689338},100,{"$f":"AC60*0.752212389380531","v":9.1017699115044248},100,{"$f":"AE60*0.897435897435897","v":6.9999999999999964},100,{"$f":"AG60*0.897058823529412","v":6.1000000000000014},100,{"$f":"AI60*0.904109589041096","v":6.6000000000000005},100,{"$f":"AK60*0.90625","v":5.8000000000000007},100,{"$f":"AM60*0.752688172043011","v":7.0000000000000027},100,{"$f":"AO60*0.85","v":5.0999999999999996},100,{"$f":"AQ60*0.857142857142857","v":5.3999999999999986},100,{"$f":"AS60*0.857142857142857","v":5.3999999999999986},100,{"$f":"AU60*0.866666666666667","v":5.200000000000002},100,{"$f":"AW60*0.96","v":4.8},100]
[null,null,null,"dTHR","g/Kg",null,{"$f":"G60*0.666666666666667","v":8.8000000000000043},100,{"$f":"I60*0.627118644067797","v":7.4000000000000057},100,{"$f":"K60*0.627118644067797","v":7.4000000000000057},100,{"$f":"M60*0.643564356435644","v":6.5000000000000044},100,{"$f":"O60*0.670731707317073","v":5.4999999999999982},100,{"$f":"Q60*0.694444444444444","v":4.9999999999999964},100,{"$f":"S60*0.691428571428571","v":12.099999999999991},100,{"$f":"U60*0.683937823834197","v":13.200000000000003},100,{"$f":"W60*0.732283464566929","v":11.130708661417321},100,{"$f":"Y60*0.728571428571429","v":12.167142857142863},100,{"$f":"AA60*0.757281553398058","v":8.330097087378638},100,{"$f":"AC60*0.690265486725664","v":8.3522123893805347},100,{"$f":"AE60*0.705128205128205","v":5.4999999999999982},100,{"$f":"AG60*0.705882352941177","v":4.8000000000000034},100,{"$f":"AI60*0.698630136986301","v":5.0999999999999979},100,{"$f":"AK60*0.703125","v":4.5},100,{"$f":"AM60*0.698924731182796","v":6.5000000000000027},100,{"$f":"AO60*0.75","v":4.5},100,{"$f":"AQ60*0.746031746031746","v":4.7},100,{"$f":"AS60*0.746031746031746","v":4.7},100,{"$f":"AU60*0.75","v":4.5},100,{"$f":"AW60*0.88","v":4.4000000000000004},100]
[null,null,null,"dTRP","g/Kg",null,{"$f":"G60*0.159090909090909","v":2.0999999999999988},100,{"$f":"I60*0.161016949152542","v":1.8999999999999957},100,{"$f":"K60*0.161016949152542","v":1.8999999999999957},100,{"$f":"M60*0.178217821782178","v":1.7999999999999976},100,{"$f":"O60*0.207317073170732","v":1.7000000000000022},100,{"$f":"Q60*0.222222222222222","v":1.5999999999999983},100,{"$f":"S60*0.148571428571429","v":2.6000000000000072},100,{"$f":"U60*0.134715025906736","v":2.600000000000005},100,{"$f":"W60*0.173228346456693","v":2.6330708661417335},100,{"$f":"Y60*0.157142857142857","v":2.6242857142857119},100,{"$f":"AA60*0.174757281553398","v":1.922330097087378},100,{"$f":"AC60*0.15929203539823","v":1.9274336283185829},100,{"$f":"AE60*0.217948717948718","v":1.7000000000000004},100,{"$f":"AG60*0.220588235294118","v":1.5000000000000024},100,{"$f":"AI60*0.219178082191781","v":1.6000000000000012},100,{"$f":"AK60*0.21875","v":1.4000000000000001},100,{"$f":"AM60*0.21505376344086","v":1.9999999999999982},100,0.21666666666666701,100,{"$f":"AQ60*0.222222222222222","v":1.3999999999999986},100,{"$f":"AS60*0.222222222222222","v":1.3999999999999986},100,{"$f":"AU60*1.88333333333333","v":11.299999999999979},100,{"$f":"AW60*0.24","v":1.2},100]
[null,null,null,"dARG","g/Kg",null,{"$f":"G60*1.06060606060606","v":13.999999999999993},100,{"$f":"I60*1.07627118644068","v":12.700000000000024},100,{"$f":"K60*1.07627118644068","v":12.700000000000024},100,{"$f":"M60*1.03960396039604","v":10.500000000000005},100,{"$f":"O60*1.03658536585366","v":8.5000000000000107},100,{"$f":"Q60*1.04166666666667","v":7.5000000000000249},100,{"$f":"S60*0.677714285714286","v":11.860000000000007},100,{"$f":"U60*0.614507772020725","v":11.859999999999994},100,{"$f":"W60*1.06299212598425","v":16.157480314960601},100,{"$f":"Y60*0.964285714285714","v":16.103571428571424},100,{"$f":"AA60*0.922330097087379","v":10.145631067961169},100,{"$f":"AC60*0.84070796460177","v":10.172566371681416},100,{"$f":"AE60*1.03846153846154","v":8.1000000000000121},100,{"$f":"AG60*1.04411764705882","v":7.0999999999999757},100,{"$f":"AI60*1.04109589041096","v":7.6000000000000076},100,{"$f":"AK60*1.046875","v":6.7},100,{"$f":"AM60*1.05376344086022","v":9.8000000000000451},100,{"$f":"AO60*1.1","v":6.6000000000000005},100,{"$f":"AQ60*1.0952380952381","v":6.9000000000000297},100,{"$f":"AS60*1.0952380952381","v":6.9000000000000297},100,{"$f":"AU60*1.1","v":6.6000000000000005},100,{"$f":"AW60*1.1","v":5.5},100]
[null,null,null,"dVAL","g/Kg",null,{"$f":"G60*0.757575757575758","v":10.000000000000005},100,{"$f":"I60*0.771186440677966","v":9.1},100,{"$f":"K60*0.771186440677966","v":9.1},100,{"$f":"M60*0.722772277227723","v":7.3000000000000016},100,0.78048780487804892,100,{"$f":"Q60*0.847222222222222","v":6.0999999999999988},100,{"$f":"S60*0.697142857142857","v":12.199999999999998},100,{"$f":"U60*0.632124352331606","v":12.199999999999998},100,{"$f":"W60*0.724409448818898","v":11.011023622047249},100,{"$f":"Y60*0.657142857142857","v":10.974285714285712},100,{"$f":"AA60*0.650485436893204","v":7.1553398058252444},100,{"$f":"AC60*0.592920353982301","v":7.1743362831858422},100,{"$f":"AE60*0.871794871794872","v":6.8000000000000016},100,{"$f":"AG60*0.882352941176471","v":6.0000000000000027},100,{"$f":"AI60*0.876712328767123","v":6.3999999999999977},100,{"$f":"AK60*0.875","v":5.6000000000000005},100,{"$f":"AM60*0.720430107526882","v":6.7000000000000028},100,{"$f":"AO60*0.75","v":4.5},100,{"$f":"AQ60*0.746031746031746","v":4.7},100,{"$f":"AS60*0.746031746031746","v":4.7},100,{"$f":"AU60*0.75","v":4.5},100,{"$f":"AW60*0.76","v":3.8},100]
[null,null,null,"TP:dLYS","g/g",null,{"$f":"G29","v":-100},{"$f":"H29","v":100},-100,100,-100,100,-100,100,-100,100,-100,100,-100,100,-100,100,-100,100,-100,100,-100,100,-100,100,-100,100,-100,100,-100,100,-100,100,-100,100,-100,100,-100,100,-100,100,-100,100,-100,100]
[null,null,null,"Total NSP","g/Kg",null,0,{"$f":"H30","v":1000},0,1000,0,1000,0,1000,0,1000,0,1000,0,1000,0,1000,0,1000,0,1000,0,1000,0,1000,0,1000,0,1000,0,1000,0,1000,0,1000,0,1000,0,1000,0,1000,0,1000,0,1000]
[null,null,null,"Soluble NSP","g/Kg",null,0,1000,0,1000,0,1000,0,1000,0,1000,0,1000,0,1000,0,1000,0,1000,0,1000,0,1000,0,1000,0,1000,0,1000,0,1000,0,1000,0,1000,0,1000,0,1000,0,1000,0,1000,0,1000]
[null,null,null,"Insoluble NSP","g/Kg",null,0,1000,0,1000,0,1000,0,1000,0,1000,0,1000,0,1000,0,1000,0,1000,0,1000,0,1000,0,1000,0,1000,0,1000,0,1000,0,1000,0,1000,0,1000,0,1000,0,1000,0,1000,0,1000]
[null,null,null,"Lignin","g/Kg",null,0,1000,0,1000,0,1000,0,1000,0,1000,0,1000,0,1000,0,1000,0,1000,0,1000,0,1000,0,1000,0,1000,0,1000,0,1000,0,1000,0,1000,0,1000,0,1000,0,1000,0,1000,0,1000]
[null,null,null,"18:2","g/Kg",null,12.5,1000,12,1000,12,1000,12,1000,12,1000,12,1000,12.5,1000,12.5,1000,10,1000,10,1000,9,1000,9,1000,19,1000,19,1000,12.4,1000,10.8,1000,10,1000,10,1000,10,1000,12.5,1000,12.5,1000,10,1000]
[null,null,null,"Nutrient",null,null,0,100,0,100,0,100,0,100,0,100,0,100,0,{"$f":"T35","v":100},0,100,0,100,0,100,0,100,0,100,0,100,0,100,0,100,0,100,0,100,0,100,0,100,0,100,0,100,0,100]
[null,null,null,"Nutrient",null,null,0,100,0,100,0,100,0,100,0,100,0,100,0,100,0,100,0,100,0,100,0,100,0,100,0,100,0,100,0,100,0,100,0,100,0,100,0,100,0,100,0,100,0,100]
[null,null,null,"Nutrient",null,null,0,100,0,100,0,100,0,100,0,100,0,100,0,100,0,100,0,100,0,100,0,100,0,100,0,100,0,100,0,100,0,100,0,100,0,100,0,100,0,100,0,100,0,100]
[null,null,null,"Nutrient",null,null,0,100,0,100,0,100,0,100,0,100,0,100,0,100,0,100,0,100,0,100,0,100,0,100,0,100,0,100,0,100,0,100,0,100,0,100,0,100,0,100,0,100,0,100]
[null,null,null,"Nutrient",null,null,0,100,0,100,0,100,0,100,0,100,0,100,0,100,0,100,0,100,0,100,0,100,0,100,0,100,0,100,0,100,0,100,0,100,0,100,0,100,0,100,0,100,0,100]

{"sheet":"Formulate","index":4,"n_rows":41,"n_cols":71,"rows_kept":41,"cut":false,"hidden":false,"merged":[[11,13,12,16],[7,13,9,16],[2,1,2,11],[0,8,0,9],[0,5,0,7],[5,7,6,7],[5,8,6,8],[5,9,6,9],[5,10,6,10],[5,11,6,11]]}
[null,"UffdAu 3.0",null,null,null,"Formula Cost = ",null,null,{"$f":"K1/100","v":707.29101244876767},null,{"$f":"SUMPRODUCT($E$8:$E$32,AJ7:AJ31)","v":70729.101244876772}]
[]
[]
[null,"Feed Name:",null,{"$f":"Nutrients!C4","v":"Broiler Starter, 0 to 10 Days"}]
[null,null,null,null,null,null,null,null,null,null,null,null,null,null,null,null,null,null,null,null,null,null,null,null,null,null,null,null,null,null,null,null,null,"$/Ingred.",null,{"$f":"Ingredients!C1","v":"Cost"},{"$f":"Ingredients!F1","v":"Weight"},{"$f":"Ingredients!G1","v":"Dry Matter"},{"$f":"Ingredients!H1","v":"AMEn"},{"$f":"Ingredients!I1","v":"Metabolisable Energy"},{"$f":"Ingredients!J1","v":"Net Energy"},{"$f":"Ingredients!K1","v":"Crude Protein"},{"$f":"Ingredients!L1","v":"True Protein"},{"$f":"Ingredients!M1","v":"Lipids"},{"$f":"Ingredients!N1","v":"Crude Fibre"},{"$f":"Ingredients!O1","v":"Calcium"},{"$f":"Ingredients!P1","v":"Total Phosphorous"},{"$f":"Ingredients!Q1","v":"Available Phosphorous"},{"$f":"Ingredients!R1","v":"Ca:aP"},{"$f":"Ingredients!S1","v":"Na"},{"$f":"Ingredients!T1","v":"Cl"},{"$f":"Ingredients!U1","v":"Choline"},{"$f":"Ingredients!V1","v":"Betaine"},{"$f":"Ingredients!W1","v":"dLYS"},{"$f":"Ingredients!X1","v":"dMET"},{"$f":"Ingredients!Y1","v":"dTSAA"},{"$f":"Ingredients!Z1","v":"dTHR"},{"$f":"Ingredients!AA1","v":"dTRP"},{"$f":"Ingredients!AB1","v":"dARG"},{"$f":"Ingredients!AC1","v":"dVAL"},{"$f":"Ingredients!AD1","v":"TP:dLYS"},{"$f":"Ingredients!AE1","v":"Total NSP"},{"$f":"Ingredients!AF1","v":"Soluble NSP"},{"$f":"Ingredients!AG1","v":"Insoluble NSP"},{"$f":"Ingredients!AH1","v":"Lignin"},{"$f":"Ingredients!AI1","v":"18:2"},{"$f":"Ingredients!AJ1","v":"Nutrient"},{"$f":"Ingredients!AK1","v":"Nutrient"},{"$f":"Ingredients!AL1","v":"Nutrient"},{"$f":"Ingredients!AM1","v":"Nutrient"},{"$f":"Ingredients!AN1","v":"Nutrient"}]
[null,"Ingredient","Cost","Min.","Amount","Max.",null,"Nutrient","Required","Supplied","Max.","Units"]
[null,null,"$/Ton","%","%","%",null,null,null,null,null,null,null,null,null,null,null,null,null,null,null,null,null,null,null,null,null,null,null,null,null,null,null,{"$f":"E8*AJ7","v":19508.740959727467},{"$f":"Ingredients!B4","v":"Wheat"},{"$f":"Ingredients!C4","v":380},{"$f":"Ingredients!F4","v":1},{"$f":"Ingredients!G4/100","v":9.0399999999999991},{"$f":"Ingredients!H4/100","v":0.13289999999999999},{"$f":"Ingredients!I4/100","v":0.14893974417774111},{"$f":"Ingredients!J4/100","v":9.2495094835826019E-2},{"$f":"Ingredients!K4/100","v":1.0086380000000001},{"$f":"Ingredients!L4/100","v":0.90954940288000019},{"$f":"Ingredients!M4/100","v":0.18080000000000002},{"$f":"Ingredients!N4/100","v":0.19888000000000003},{"$f":"Ingredients!O4/100","v":5.424E-3},{"$f":"Ingredients!P4/100","v":2.6216E-2},{"$f":"Ingredients!Q4/100","v":6.3280000000000003E-3},{"$f":"Ingredients!R4/100","v":3.6160000000000003E-3},{"$f":"Ingredients!S4/100","v":1.8080000000000001E-3},{"$f":"Ingredients!T4/100","v":7.2320000000000006E-3},{"$f":"Ingredients!U4/100","v":8.89},{"$f":"Ingredients!V4/100","v":30.6},{"$f":"Ingredients!W4/100","v":2.4558666666666666E-2},{"$f":"Ingredients!X4/100","v":1.3861333333333331E-2},{"$f":"Ingredients!Y4/100","v":3.1489333333333341E-2},{"$f":"Ingredients!Z4/100","v":2.5462666666666668E-2},{"$f":"Ingredients!AA4/100","v":8.4373333333333349E-3},{"$f":"Ingredients!AB4/100","v":4.3844000000000015E-2},{"$f":"Ingredients!AC4/100","v":3.9022666666666671E-2},{"$f":"Ingredients!AD4/100","v":-3.2561035834197359E-2},{"$f":"Ingredients!AE4/100","v":1.0471249729113956},{"$f":"Ingredients!AF4/100","v":0.20286868323952642},{"$f":"Ingredients!AG4/100","v":0.85121832604986747},{"$f":"Ingredients!AH4/100","v":9.8648000000000013E-2},{"$f":"Ingredients!AI4/100","v":8.1360000000000016E-2},{"$f":"Ingredients!AJ4/100","v":0},{"$f":"Ingredients!AK4/100","v":0},{"$f":"Ingredients!AL4/100","v":0},{"$f":"Ingredients!AM4/100","v":0},{"$f":"Ingredients!AN4/100","v":0}]
[null,{"$f":"Ingredients!B4","v":"Wheat"},{"$f":"Ingredients!C4","v":380},{"$f":"Ingredients!D4","v":0},51.338791999282812,{"$f":"Ingredients!E4","v":100},null,{"$f":"Nutrients!B6","v":"Dry Matter"},{"$f":"Nutrients!C6","v":0},{"$f":"SUMPRODUCT($E$8:$E$32,AL7:AL31)","v":902.57752668327794},{"$f":"Nutrients!D6","v":1000},{"$f":"Nutrients!E6","v":"%"},null,"THESE BUTTONS ARE NOT WORKING IN THIS VERSION",null,null,null,null,null,null,null,null,null,null,null,null,null,null,null,null,null,null," ",35139.095205184647,{"$f":"Ingredients!B5","v":"Soybean Meal (local)"},{"$f":"Ingredients!C5","v":875},{"$f":"Ingredients!F5","v":1},{"$f":"Ingredients!G5/100","v":8.85},{"$f":"Ingredients!H5/100","v":0.1045},{"$f":"Ingredients!I5/100","v":0.13441414737190388},{"$f":"Ingredients!J5/100","v":6.0862386549568381E-2},{"$f":"Ingredients!K5/100","v":4.0435650000000001},{"$f":"Ingredients!L5/100","v":3.6463251744000003},{"$f":"Ingredients!M5/100","v":0.17235374999999997},{"$f":"Ingredients!N5/100","v":0.28651874999999999},{"$f":"Ingredients!O5/100","v":2.2124999999999999E-2},{"$f":"Ingredients!P5/100","v":6.1950000000000005E-2},{"$f":"Ingredients!Q5/100","v":2.2124999999999999E-2},{"$f":"Ingredients!R5/100","v":1.1062499999999999E-2},{"$f":"Ingredients!S5/100","v":1.7700000000000001E-3},{"$f":"Ingredients!T5/100","v":7.9649999999999999E-3},{"$f":"Ingredients!U5/100","v":33.6},{"$f":"Ingredients!V5/100","v":0},{"$f":"Ingredients!W5/100","v":0.22921499999999997},{"$f":"Ingredients!X5/100","v":5.0445000000000011E-2},{"$f":"Ingredients!Y5/100","v":9.8235000000000017E-2},{"$f":"Ingredients!Z5/100","v":0.133635},{"$f":"Ingredients!AA5/100","v":4.9559999999999993E-2},{"$f":"Ingredients!AB5/100","v":0.27612000000000003},{"$f":"Ingredients!AC5/100","v":0.17346},{"$f":"Ingredients!AD5/100","v":2.2577904767995705E-4},{"$f":"Ingredients!AE5/100","v":1.505480238448003},{"$f":"Ingredients!AF5/100","v":0.29526566441105523},{"$f":"Ingredients!AG5/100","v":1.2099531357314723},{"$f":"Ingredients!AH5/100","v":5.3789999999999992E-3},{"$f":"Ingredients!AI5/100","v":4.4249999999999998E-2},{"$f":"Ingredients!AJ5/100","v":0},{"$f":"Ingredients!AK5/100","v":0},{"$f":"Ingredients!AL5/100","v":0},{"$f":"Ingredients!AM5/100","v":0},{"$f":"Ingredients!AN5/100","v":0}]
[null,{"$f":"Ingredients!B5","v":"Soybean Meal (local)"},{"$f":"Ingredients!C5","v":875},{"$f":"Ingredients!D5","v":0},40.158965948782452,{"$f":"Ingredients!E5","v":100},null,{"$f":"Nutrients!B7","v":"AMEn"},{"$f":"Nutrients!C7","v":12.4},{"$f":"SUMPRODUCT($E$8:$E$32,AM7:AM31)","v":12.39999999999994},{"$f":"Nutrients!D7","v":100},{"$f":"Nutrients!E7","v":"MJ/Kg"},null,null,null,null,null,null,null,null,null,null,null,null,null,null,null,null,null,null,null,null,null,1600,{"$f":"Ingredients!B6","v":"Meat and Bone Meal"},{"$f":"Ingredients!C6","v":800},{"$f":"Ingredients!F6","v":1},{"$f":"Ingredients!G6/100","v":9.4},{"$f":"Ingredients!H6/100","v":9.0690825000000003E-2},{"$f":"Ingredients!I6/100","v":0.14202554576446774},{"$f":"Ingredients!J6/100","v":6.0733472948915332E-2},{"$f":"Ingredients!K6/100","v":4.6008299999999993},{"$f":"Ingredients!L6/100","v":4.1488444607999995},{"$f":"Ingredients!M6/100","v":0.83542499999999986},{"$f":"Ingredients!N6/100","v":0},{"$f":"Ingredients!O6/100","v":1.1374},{"$f":"Ingredients!P6/100","v":0.35908000000000001},{"$f":"Ingredients!Q6/100","v":0.44931999999999994},{"$f":"Ingredients!R6/100","v":-0.11938000000000003},{"$f":"Ingredients!S6/100","v":6.2039999999999998E-2},{"$f":"Ingredients!T6/100","v":5.6399999999999999E-2},{"$f":"Ingredients!U6/100","v":17.510000000000002},{"$f":"Ingredients!V6/100","v":0},{"$f":"Ingredients!W6/100","v":0.16465666666666665},{"$f":"Ingredients!X6/100","v":4.9976666666666676E-2},{"$f":"Ingredients!Y6/100","v":6.9599166666666684E-2},{"$f":"Ingredients!Z6/100","v":0.10269500000000001},{"$f":"Ingredients!AA6/100","v":1.9035000000000003E-2},{"$f":"Ingredients!AB6/100","v":0.25912666666666673},{"$f":"Ingredients!AC6/100","v":0.14429},{"$f":"Ingredients!AD6/100","v":-9.5890765471573325E-2},{"$f":"Ingredients!AE6/100","v":0},{"$f":"Ingredients!AF6/100","v":0},{"$f":"Ingredients!AG6/100","v":0},{"$f":"Ingredients!AH6/100","v":0},{"$f":"Ingredients!AI6/100","v":0.32899999999999996},{"$f":"Ingredients!AJ6/100","v":0},{"$f":"Ingredients!AK6/100","v":0},{"$f":"Ingredients!AL6/100","v":0},{"$f":"Ingredients!AM6/100","v":0},{"$f":"Ingredients!AN6/100","v":0}]
[null,{"$f":"Ingredients!B6","v":"Meat and Bone Meal"},{"$f":"Ingredients!C6","v":800},{"$f":"Ingredients!D6","v":0},2,{"$f":"Ingredients!E6","v":2},null,{"$f":"Nutrients!B8","v":"Metabolisable Energy"},{"$f":"Nutrients!C8","v":0},{"$f":"SUMPRODUCT($E$8:$E$32,AN7:AN31)","v":14.423075748072797},{"$f":"Nutrients!D8","v":100},{"$f":"Nutrients!E8","v":"MJ/Kg"},null,null,null,null,null,null,null,null,null,null,null,null,null,null,null,null,null,null,null,null,null,3486.8587942911531,{"$f":"Ingredients!B7","v":"Mixed Recycled Vegetable Oil"},{"$f":"Ingredients!C7","v":1240},{"$f":"Ingredients!F7","v":1},{"$f":"Ingredients!G7/100","v":9.85},{"$f":"Ingredients!H7/100","v":0.36599999999999999},{"$f":"Ingredients!I7/100","v":0.38929999999999998},{"$f":"Ingredients!J7/100","v":0.2555},{"$f":"Ingredients!K7/100","v":0},{"$f":"Ingredients!L7/100","v":0},{"$f":"Ingredients!M7/100","v":0.98499999999999999},{"$f":"Ingredients!N7/100","v":0},{"$f":"Ingredients!O7/100","v":0},{"$f":"Ingredients!P7/100","v":0},{"$f":"Ingredients!Q7/100","v":0},{"$f":"Ingredients!R7/100","v":0},{"$f":"Ingredients!S7/100","v":0},{"$f":"Ingredients!T7/100","v":0},{"$f":"Ingredients!U7/100","v":0},{"$f":"Ingredients!V7/100","v":0},{"$f":"Ingredients!W7/100","v":0},{"$f":"Ingredients!X7/100","v":0},{"$f":"Ingredients!Y7/100","v":0},{"$f":"Ingredients!Z7/100","v":0},{"$f":"Ingredients!AA7/100","v":0},{"$f":"Ingredients!AB7/100","v":0},{"$f":"Ingredients!AC7/100","v":0},{"$f":"Ingredients!AD7/100","v":0},{"$f":"Ingredients!AE7/100","v":0},{"$f":"Ingredients!AF7/100","v":0},{"$f":"Ingredients!AG7/100","v":0},{"$f":"Ingredients!AH7/100","v":0},{"$f":"Ingredients!AI7/100","v":1.5},{"$f":"Ingredients!AJ7/100","v":0},{"$f":"Ingredients!AK7/100","v":0},{"$f":"Ingredients!AL7/100","v":0},{"$f":"Ingredients!AM7/100","v":0},{"$f":"Ingredients!AN7/100","v":0}]
[null,{"$f":"Ingredients!B7","v":"Mixed Recycled Vegetable Oil"},{"$f":"Ingredients!C7","v":1240},{"$f":"Ingredients!D7","v":0},2.8119828986218978,{"$f":"Ingredients!E7","v":100},null,{"$f":"Nutrients!B9","v":"Net Energy"},{"$f":"Nutrients!C9","v":0},{"$f":"SUMPRODUCT($E$8:$E$32,AO7:AO31)","v":8.0326855202318868},{"$f":"Nutrients!D9","v":100},{"$f":"Nutrients!E9","v":"MJ/Kg"},null,null,null,null,null,null,null,null,null,null,null,null,null,null,null,null,null,null,null,null,null,46.800000000000004,{"$f":"Ingredients!B8","v":"Salt"},{"$f":"Ingredients!C8","v":117},{"$f":"Ingredients!F8","v":1},{"$f":"Ingredients!G8/100","v":9.9},{"$f":"Ingredients!H8/100","v":0},{"$f":"Ingredients!I8/100","v":0},{"$f":"Ingredients!J8/100","v":0},{"$f":"Ingredients!K8/100","v":0},{"$f":"Ingredients!L8/100","v":0},{"$f":"Ingredients!M8/100","v":0},{"$f":"Ingredients!N8/100","v":0},{"$f":"Ingredients!O8/100","v":0},{"$f":"Ingredients!P8/100","v":0},{"$f":"Ingredients!Q8/100","v":0},{"$f":"Ingredients!R8/100","v":0},{"$f":"Ingredients!S8/100","v":3.93},{"$f":"Ingredients!T8/100","v":6.07},{"$f":"Ingredients!U8/100","v":0},{"$f":"Ingredients!V8/100","v":0},{"$f":"Ingredients!W8/100","v":0},{"$f":"Ingredients!X8/100","v":0},{"$f":"Ingredients!Y8/100","v":0},{"$f":"Ingredients!Z8/100","v":0},{"$f":"Ingredients!AA8/100","v":0},{"$f":"Ingredients!AB8/100","v":0},{"$f":"Ingredients!AC8/100","v":0},{"$f":"Ingredients!AD8/100","v":0},{"$f":"Ingredients!AE8/100","v":0},{"$f":"Ingredients!AF8/100","v":0},{"$f":"Ingredients!AG8/100","v":0},{"$f":"Ingredients!AH8/100","v":0},{"$f":"Ingredients!AI8/100","v":0},{"$f":"Ingredients!AJ8/100","v":0},{"$f":"Ingredients!AK8/100","v":0},{"$f":"Ingredients!AL8/100","v":0},{"$f":"Ingredients!AM8/100","v":0},{"$f":"Ingredients!AN8/100","v":0}]
[null,{"$f":"Ingredients!B8","v":"Salt"},{"$f":"Ingredients!C8","v":117},{"$f":"Ingredients!D8","v":0.4},0.4,{"$f":"Ingredients!E8","v":0.4},null,{"$f":"Nutrients!B10","v":"Crude Protein"},{"$f":"Nutrients!C10","v":230},{"$f":"SUMPRODUCT($E$8:$E$32,AP7:AP31)","v":230.00000000000048},{"$f":"Nutrients!D10","v":1000},{"$f":"Nutrients!E10","v":"g/Kg"},null,"CHOOSE DATA AND THEN SOLVER",null,null,null,null,null,null,null,null,null,null,null,null,null,null,null,null,null,null,null,360,{"$f":"Ingredients!B9","v":"Vitamin Premix"},{"$f":"Ingredients!C9","v":7200},{"$f":"Ingredients!F9","v":1},{"$f":"Ingredients!G9/100","v":9.9},{"$f":"Ingredients!H9/100","v":0},{"$f":"Ingredients!I9/100","v":0},{"$f":"Ingredients!J9/100","v":0},{"$f":"Ingredients!K9/100","v":0},{"$f":"Ingredients!L9/100","v":0},{"$f":"Ingredients!M9/100","v":0},{"$f":"Ingredients!N9/100","v":0},{"$f":"Ingredients!O9/100","v":0},{"$f":"Ingredients!P9/100","v":0},{"$f":"Ingredients!Q9/100","v":0},{"$f":"Ingredients!R9/100","v":0},{"$f":"Ingredients!S9/100","v":0},{"$f":"Ingredients!T9/100","v":0},{"$f":"Ingredients!U9/100","v":0},{"$f":"Ingredients!V9/100","v":0},{"$f":"Ingredients!W9/100","v":0},{"$f":"Ingredients!X9/100","v":0},{"$f":"Ingredients!Y9/100","v":0},{"$f":"Ingredients!Z9/100","v":0},{"$f":"Ingredients!AA9/100","v":0},{"$f":"Ingredients!AB9/100","v":0},{"$f":"Ingredients!AC9/100","v":0},{"$f":"Ingredients!AD9/100","v":0},{"$f":"Ingredients!AE9/100","v":0},{"$f":"Ingredients!AF9/100","v":0},{"$f":"Ingredients!AG9/100","v":0},{"$f":"Ingredients!AH9/100","v":0},{"$f":"Ingredients!AI9/100","v":0},{"$f":"Ingredients!AJ9/100","v":0},{"$f":"Ingredients!AK9/100","v":0},{"$f":"Ingredients!AL9/100","v":0},{"$f":"Ingredients!AM9/100","v":0},{"$f":"Ingredients!AN9/100","v":0}]
[null,{"$f":"Ingredients!B9","v":"Vitamin Premix"},{"$f":"Ingredients!C9","v":7200},{"$f":"Ingredients!D9","v":0.05},0.05,{"$f":"Ingredients!E9","v":0.05},null,{"$f":"Nutrients!B11","v":"True Protein"},{"$f":"Nutrients!C11","v":0},{"$f":"SUMPRODUCT($E$8:$E$32,AQ7:AQ31)","v":207.40476952380865},{"$f":"Nutrients!D11","v":1000},{"$f":"Nutrients!E11","v":"g/Kg"},null,null,null,null,null,null,null,null,null,null,null,null,null,null,null,null,null,null,null,null,null,159,{"$f":"Ingredients!B10","v":"Trace Mineral Premix"},{"$f":"Ingredients!C10","v":2120},{"$f":"Ingredients!F10","v":1},{"$f":"Ingredients!G10/100","v":9.9},{"$f":"Ingredients!H10/100","v":0},{"$f":"Ingredients!I10/100","v":0},{"$f":"Ingredients!J10/100","v":0},{"$f":"Ingredients!K10/100","v":0},{"$f":"Ingredients!L10/100","v":0},{"$f":"Ingredients!M10/100","v":0},{"$f":"Ingredients!N10/100","v":0},{"$f":"Ingredients!O10/100","v":0},{"$f":"Ingredients!P10/100","v":0},{"$f":"Ingredients!Q10/100","v":0},{"$f":"Ingredients!R10/100","v":0},{"$f":"Ingredients!S10/100","v":0},{"$f":"Ingredients!T10/100","v":0},{"$f":"Ingredients!U10/100","v":0},{"$f":"Ingredients!V10/100","v":0},{"$f":"Ingredients!W10/100","v":0},{"$f":"Ingredients!X10/100","v":0},{"$f":"Ingredients!Y10/100","v":0},{"$f":"Ingredients!Z10/100","v":0},{"$f":"Ingredients!AA10/100","v":0},{"$f":"Ingredients!AB10/100","v":0},{"$f":"Ingredients!AC10/100","v":0},{"$f":"Ingredients!AD10/100","v":0},{"$f":"Ingredients!AE10/100","v":0},{"$f":"Ingredients!AF10/100","v":0},{"$f":"Ingredients!AG10/100","v":0},{"$f":"Ingredients!AH10/100","v":0},{"$f":"Ingredients!AI10/100","v":0},{"$f":"Ingredients!AJ10/100","v":0},{"$f":"Ingredients!AK10/100","v":0},{"$f":"Ingredients!AL10/100","v":0},{"$f":"Ingredients!AM10/100","v":0},{"$f":"Ingredients!AN10/100","v":0}]
[null,{"$f":"Ingredients!B10","v":"Trace Mineral Premix"},{"$f":"Ingredients!C10","v":2120},{"$f":"Ingredients!D10","v":7.4999999999999997E-2},7.4999999999999997E-2,{"$f":"Ingredients!E10","v":7.4999999999999997E-2},null,{"$f":"Nutrients!B12","v":"Lipids"},{"$f":"Nutrients!C12","v":0},{"$f":"SUMPRODUCT($E$8:$E$32,AR7:AR31)","v":20.644255126007863},{"$f":"Nutrients!D12","v":1000},{"$f":"Nutrients!E12","v":"g/Kg"},null,null,null,null,null,null,null,null,null,null,null,null,null,null,null,null,null,null,null,null,null,61.923850739950907,{"$f":"Ingredients!B11","v":"Limestone, Fine"},{"$f":"Ingredients!C11","v":104},{"$f":"Ingredients!F11","v":1},{"$f":"Ingredients!G11/100","v":9.9},{"$f":"Ingredients!H11/100","v":0},{"$f":"Ingredients!I11/100","v":0},{"$f":"Ingredients!J11/100","v":0},{"$f":"Ingredients!K11/100","v":0},{"$f":"Ingredients!L11/100","v":0},{"$f":"Ingredients!M11/100","v":0},{"$f":"Ingredients!N11/100","v":0},{"$f":"Ingredients!O11/100","v":3.8},{"$f":"Ingredients!P11/100","v":0},{"$f":"Ingredients!Q11/100","v":0},{"$f":"Ingredients!R11/100","v":-1.9},{"$f":"Ingredients!S11/100","v":0},{"$f":"Ingredients!T11/100","v":0},{"$f":"Ingredients!U11/100","v":0},{"$f":"Ingredients!V11/100","v":0},{"$f":"Ingredients!W11/100","v":0},{"$f":"Ingredients!X11/100","v":0},{"$f":"Ingredients!Y11/100","v":0},{"$f":"Ingredients!Z11/100","v":0},{"$f":"Ingredients!AA11/100","v":0},{"$f":"Ingredients!AB11/100","v":0},{"$f":"Ingredients!AC11/100","v":0},{"$f":"Ingredients!AD11/100","v":0},{"$f":"Ingredients!AE11/100","v":0},{"$f":"Ingredients!AF11/100","v":0},{"$f":"Ingredients!AG11/100","v":0},{"$f":"Ingredients!AH11/100","v":0},{"$f":"Ingredients!AI11/100","v":0},{"$f":"Ingredients!AJ11/100","v":0},{"$f":"Ingredients!AK11/100","v":0},{"$f":"Ingredients!AL11/100","v":0},{"$f":"Ingredients!AM11/100","v":0},{"$f":"Ingredients!AN11/100","v":0}]
[null,{"$f":"Ingredients!B11","v":"Limestone, Fine"},{"$f":"Ingredients!C11","v":104},{"$f":"Ingredients!D11","v":0},0.59542164173029721,{"$f":"Ingredients!E11","v":100},null,{"$f":"Nutrients!B13","v":"Crude Fibre"},{"$f":"Nutrients!C13","v":0},{"$f":"SUMPRODUCT($E$8:$E$32,AS7:AS31)","v":21.716555677755082},{"$f":"Nutrients!D13","v":1000},{"$f":"Nutrients!E13","v":"g/Kg"},null,null,null,null,null,null,null,null,null,null,null,null,null,null,null,null,null,null,null,null,null,3168.5167571510706,{"$f":"Ingredients!B12","v":"Dicalcium Phosphate"},{"$f":"Ingredients!C12","v":1920},{"$f":"Ingredients!F12","v":1},{"$f":"Ingredients!G12/100","v":9.9},{"$f":"Ingredients!H12/100","v":0},{"$f":"Ingredients!I12/100","v":0},{"$f":"Ingredients!J12/100","v":0},{"$f":"Ingredients!K12/100","v":0},{"$f":"Ingredients!L12/100","v":0},{"$f":"Ingredients!M12/100","v":0},{"$f":"Ingredients!N12/100","v":0},{"$f":"Ingredients!O12/100","v":2.2999999999999998},{"$f":"Ingredients!P12/100","v":1.75},{"$f":"Ingredients!Q12/100","v":1.75},{"$f":"Ingredients!R12/100","v":0.6},{"$f":"Ingredients!S12/100","v":0},{"$f":"Ingredients!T12/100","v":0},{"$f":"Ingredients!U12/100","v":0},{"$f":"Ingredients!V12/100","v":0},{"$f":"Ingredients!W12/100","v":0},{"$f":"Ingredients!X12/100","v":0},{"$f":"Ingredients!Y12/100","v":0},{"$f":"Ingredients!Z12/100","v":0},{"$f":"Ingredients!AA12/100","v":0},{"$f":"Ingredients!AB12/100","v":0},{"$f":"Ingredients!AC12/100","v":0},{"$f":"Ingredients!AD12/100","v":0},{"$f":"Ingredients!AE12/100","v":0},{"$f":"Ingredients!AF12/100","v":0},{"$f":"Ingredients!AG12/100","v":0},{"$f":"Ingredients!AH12/100","v":0},{"$f":"Ingredients!AI12/100","v":0},{"$f":"Ingredients!AJ12/100","v":0},{"$f":"Ingredients!AK12/100","v":0},{"$f":"Ingredients!AL12/100","v":0},{"$f":"Ingredients!AM12/100","v":0},{"$f":"Ingredients!AN12/100","v":0}]
[null,{"$f":"Ingredients!B12","v":"Dicalcium Phosphate"},{"$f":"Ingredients!C12","v":1920},{"$f":"Ingredients!D12","v":0},1.6502691443495159,{"$f":"Ingredients!E12","v":100},null,{"$f":"Nutrients!B14","v":"Calcium"},{"$f":"Nutrients!C14","v":9.5},{"$f":"SUMPRODUCT($E$8:$E$32,AT7:AT31)","v":9.4999999999999361},{"$f":"Nutrients!D14","v":1000},{"$f":"Nutrients!E14","v":"g/Kg"},null,null,null,null,null,null,null,null,null,null,null,null,null,null,null,null,null,null,null,null,null,4211.4233265225739,{"$f":"Ingredients!B13","v":"DL-Methionine"},{"$f":"Ingredients!C13","v":9600},{"$f":"Ingredients!F13","v":1},{"$f":"Ingredients!G13/100","v":9.98},{"$f":"Ingredients!H13/100","v":0.2100368},{"$f":"Ingredients!I13/100","v":0},{"$f":"Ingredients!J13/100","v":0},{"$f":"Ingredients!K13/100","v":5.81},{"$f":"Ingredients!L13/100","v":5.2391999999999994},{"$f":"Ingredients!M13/100","v":0},{"$f":"Ingredients!N13/100","v":0},{"$f":"Ingredients!O13/100","v":0},{"$f":"Ingredients!P13/100","v":0},{"$f":"Ingredients!Q13/100","v":0},{"$f":"Ingredients!R13/100","v":0},{"$f":"Ingredients!S13/100","v":0},{"$f":"Ingredients!T13/100","v":0},{"$f":"Ingredients!U13/100","v":0},{"$f":"Ingredients!V13/100","v":0},{"$f":"Ingredients!W13/100","v":0},{"$f":"Ingredients!X13/100","v":9.8000000000000007},{"$f":"Ingredients!Y13/100","v":9.8000000000000007},{"$f":"Ingredients!Z13/100","v":0},{"$f":"Ingredients!AA13/100","v":0},{"$f":"Ingredients!AB13/100","v":0},{"$f":"Ingredients!AC13/100","v":0},{"$f":"Ingredients!AD13/100","v":-0.32902176000000005},{"$f":"Ingredients!AE13/100","v":0},{"$f":"Ingredients!AF13/100","v":0},{"$f":"Ingredients!AG13/100","v":0},{"$f":"Ingredients!AH13/100","v":0},{"$f":"Ingredients!AI13/100","v":0},{"$f":"Ingredients!AJ13/100","v":0},{"$f":"Ingredients!AK13/100","v":0},{"$f":"Ingredients!AL13/100","v":0},{"$f":"Ingredients!AM13/100","v":0},{"$f":"Ingredients!AN13/100","v":0}]
[null,{"$f":"Ingredients!B13","v":"DL-Methionine"},{"$f":"Ingredients!C13","v":9600},{"$f":"Ingredients!D13","v":0},0.43868992984610145,{"$f":"Ingredients!E13","v":100},null,{"$f":"Nutrients!B15","v":"Total Phosphorous"},{"$f":"Nutrients!C15","v":0},{"$f":"SUMPRODUCT($E$8:$E$32,AU7:AU31)","v":7.4398767141919233},{"$f":"Nutrients!D15","v":100},{"$f":"Nutrients!E15","v":"g/Kg"},null,null,null,null,null,null,null,null,null,null,null,null,null,null,null,null,null,null,null,null,null,1543.7468305605985,{"$f":"Ingredients!B14","v":"L-LysineHCl"},{"$f":"Ingredients!C14","v":5400},{"$f":"Ingredients!F14","v":1},{"$f":"Ingredients!G14/100","v":9.85},{"$f":"Ingredients!H14/100","v":0.1723808},{"$f":"Ingredients!I14/100","v":0},{"$f":"Ingredients!J14/100","v":0},{"$f":"Ingredients!K14/100","v":9.34},{"$f":"Ingredients!L14/100","v":8.4223999999999997},{"$f":"Ingredients!M14/100","v":0},{"$f":"Ingredients!N14/100","v":0},{"$f":"Ingredients!O14/100","v":0},{"$f":"Ingredients!P14/100","v":0},{"$f":"Ingredients!Q14/100","v":0},{"$f":"Ingredients!R14/100","v":0},{"$f":"Ingredients!S14/100","v":0},{"$f":"Ingredients!T14/100","v":1.94},{"$f":"Ingredients!U14/100","v":0},{"$f":"Ingredients!V14/100","v":0},{"$f":"Ingredients!W14/100","v":7.8},{"$f":"Ingredients!X14/100","v":0},{"$f":"Ingredients!Y14/100","v":0},{"$f":"Ingredients!Z14/100","v":0},{"$f":"Ingredients!AA14/100","v":0},{"$f":"Ingredients!AB14/100","v":0},{"$f":"Ingredients!AC14/100","v":0},{"$f":"Ingredients!AD14/100","v":7.2710732800000004},{"$f":"Ingredients!AE14/100","v":0},{"$f":"Ingredients!AF14/100","v":0},{"$f":"Ingredients!AG14/100","v":0},{"$f":"Ingredients!AH14/100","v":0},{"$f":"Ingredients!AI14/100","v":0},{"$f":"Ingredients!AJ14/100","v":0},{"$f":"Ingredients!AK14/100","v":0},{"$f":"Ingredients!AL14/100","v":0},{"$f":"Ingredients!AM14/100","v":0},{"$f":"Ingredients!AN14/100","v":0}]
[null,{"$f":"Ingredients!B14","v":"L-LysineHCl"},{"$f":"Ingredients!C14","v":5400},{"$f":"Ingredients!D14","v":0},0.28587904269640713,{"$f":"Ingredients!E14","v":100},null,{"$f":"Nutrients!B16","v":"Available Phosphorous"},{"$f":"Nutrients!C16","v":5},{"$f":"SUMPRODUCT($E$8:$E$32,AV7:AV31)","v":4.9999999999999263},{"$f":"Nutrients!D16","v":100},{"$f":"Nutrients!E16","v":"g/Kg"},null,null,null,null,null,null,null,null,null,null,null,null,null,null,null,null,null,null,null,null,null,1442.9955206993086,{"$f":"Ingredients!B15","v":"L-Threonine"},{"$f":"Ingredients!C15","v":7400},{"$f":"Ingredients!F15","v":1},{"$f":"Ingredients!G15/100","v":9.98},{"$f":"Ingredients!H15/100","v":0.1460216},{"$f":"Ingredients!I15/100","v":0},{"$f":"Ingredients!J15/100","v":0},{"$f":"Ingredients!K15/100","v":7.24},{"$f":"Ingredients!L15/100","v":6.5286999999999997},{"$f":"Ingredients!M15/100","v":0},{"$f":"Ingredients!N15/100","v":0},{"$f":"Ingredients!O15/100","v":0},{"$f":"Ingredients!P15/100","v":0},{"$f":"Ingredients!Q15/100","v":0},{"$f":"Ingredients!R15/100","v":0},{"$f":"Ingredients!S15/100","v":0},{"$f":"Ingredients!T15/100","v":0},{"$f":"Ingredients!U15/100","v":0},{"$f":"Ingredients!V15/100","v":0},{"$f":"Ingredients!W15/100","v":0},{"$f":"Ingredients!X15/100","v":0},{"$f":"Ingredients!Y15/100","v":0},{"$f":"Ingredients!Z15/100","v":9.85},{"$f":"Ingredients!AA15/100","v":0},{"$f":"Ingredients!AB15/100","v":0},{"$f":"Ingredients!AC15/100","v":0},{"$f":"Ingredients!AD15/100","v":-0.41000236000000007},{"$f":"Ingredients!AE15/100","v":0},{"$f":"Ingredients!AF15/100","v":0},{"$f":"Ingredients!AG15/100","v":0},{"$f":"Ingredients!AH15/100","v":0},{"$f":"Ingredients!AI15/100","v":0},{"$f":"Ingredients!AJ15/100","v":0},{"$f":"Ingredients!AK15/100","v":0},{"$f":"Ingredients!AL15/100","v":0},{"$f":"Ingredients!AM15/100","v":0},{"$f":"Ingredients!AN15/100","v":0}]
[null,{"$f":"Ingredients!B15","v":"L-Threonine"},{"$f":"Ingredients!C15","v":7400},{"$f":"Ingredients!D15","v":0},0.19499939468909575,{"$f":"Ingredients!E15","v":100},null,{"$f":"Nutrients!B17","v":"Ca:aP"},{"$f":"Nutrients!C17","v":-100},{"$f":"SUMPRODUCT($E$8:$E$32,AW7:AW31)","v":0.24999999999995737},{"$f":"Nutrients!D17","v":100},{"$f":"Nutrients!E17","v":"g/Kg"},null,null,null,null,null,null,null,null,null,null,null,null,null,null,null,null,null,null,null,null,null,0,{"$f":"Ingredients!B16","v":"L-Tryptophan "},{"$f":"Ingredients!C16","v":30000},{"$f":"Ingredients!F16","v":1},{"$f":"Ingredients!G16/100","v":9.9},{"$f":"Ingredients!H16/100","v":0.23890640000000002},{"$f":"Ingredients!I16/100","v":0},{"$f":"Ingredients!J16/100","v":0},{"$f":"Ingredients!K16/100","v":8.4},{"$f":"Ingredients!L16/100","v":7.5747999999999998},{"$f":"Ingredients!M16/100","v":0},{"$f":"Ingredients!N16/100","v":0},{"$f":"Ingredients!O16/100","v":0},{"$f":"Ingredients!P16/100","v":0},{"$f":"Ingredients!Q16/100","v":0},{"$f":"Ingredients!R16/100","v":0},{"$f":"Ingredients!S16/100","v":0},{"$f":"Ingredients!T16/100","v":0},{"$f":"Ingredients!U16/100","v":0},{"$f":"Ingredients!V16/100","v":0},{"$f":"Ingredients!W16/100","v":0},{"$f":"Ingredients!X16/100","v":0},{"$f":"Ingredients!Y16/100","v":0},{"$f":"Ingredients!Z16/100","v":0},{"$f":"Ingredients!AA16/100","v":9.8000000000000007},{"$f":"Ingredients!AB16/100","v":0},{"$f":"Ingredients!AC16/100","v":0},{"$f":"Ingredients!AD16/100","v":-0.47569744000000008},{"$f":"Ingredients!AE16/100","v":0},{"$f":"Ingredients!AF16/100","v":0},{"$f":"Ingredients!AG16/100","v":0},{"$f":"Ingredients!AH16/100","v":0},{"$f":"Ingredients!AI16/100","v":0},{"$f":"Ingredients!AJ16/100","v":0},{"$f":"Ingredients!AK16/100","v":0},{"$f":"Ingredients!AL16/100","v":0},{"$f":"Ingredients!AM16/100","v":0},{"$f":"Ingredients!AN16/100","v":0}]
[null,{"$f":"Ingredients!B16","v":"L-Tryptophan "},{"$f":"Ingredients!C16","v":30000},{"$f":"Ingredients!D16","v":0},0,{"$f":"Ingredients!E16","v":100},null,{"$f":"Nutrients!B18","v":"Na"},{"$f":"Nutrients!C18","v":1.8},{"$f":"SUMPRODUCT($E$8:$E$32,AX7:AX31)","v":1.8599819056640483},{"$f":"Nutrients!D18","v":100},{"$f":"Nutrients!E18","v":"mg/g"},null,null,null,null,null,null,null,null,null,null,null,null,null,null,null,null,null,null,null,null,null,0,{"$f":"Ingredients!B17","v":0},{"$f":"Ingredients!C17","v":0},{"$f":"Ingredients!F17","v":0},{"$f":"Ingredients!G17/100","v":0},{"$f":"Ingredients!H17/100","v":0},{"$f":"Ingredients!I17/100","v":0},{"$f":"Ingredients!J17/100","v":0},{"$f":"Ingredients!K17/100","v":0},{"$f":"Ingredients!L17/100","v":0},{"$f":"Ingredients!M17/100","v":0},{"$f":"Ingredients!N17/100","v":0},{"$f":"Ingredients!O17/100","v":0},{"$f":"Ingredients!P17/100","v":0},{"$f":"Ingredients!Q17/100","v":0},{"$f":"Ingredients!R17/100","v":0},{"$f":"Ingredients!S17/100","v":0},{"$f":"Ingredients!T17/100","v":0},{"$f":"Ingredients!U17/100","v":0},{"$f":"Ingredients!V17/100","v":0},{"$f":"Ingredients!W17/100","v":0},{"$f":"Ingredients!X17/100","v":0},{"$f":"Ingredients!Y17/100","v":0},{"$f":"Ingredients!Z17/100","v":0},{"$f":"Ingredients!AA17/100","v":0},{"$f":"Ingredients!AB17/100","v":0},{"$f":"Ingredients!AC17/100","v":0},{"$f":"Ingredients!AD17/100","v":0},{"$f":"Ingredients!AE17/100","v":0},{"$f":"Ingredients!AF17/100","v":0},{"$f":"Ingredients!AG17/100","v":0},{"$f":"Ingredients!AH17/100","v":0},{"$f":"Ingredients!AI17/100","v":0},{"$f":"Ingredients!AJ17/100","v":0},{"$f":"Ingredients!AK17/100","v":0},{"$f":"Ingredients!AL17/100","v":0},{"$f":"Ingredients!AM17/100","v":0},{"$f":"Ingredients!AN17/100","v":0}]
[null,{"$f":"Ingredients!B17","v":0},{"$f":"Ingredients!C17","v":0},{"$f":"Ingredients!D17","v":0},0,{"$f":"Ingredients!E17","v":0},null,{"$f":"Nutrients!B19","v":"Cl"},{"$f":"Nutrients!C19","v":1.8},{"$f":"SUMPRODUCT($E$8:$E$32,AY7:AY31)","v":3.7865536503518955},{"$f":"Nutrients!D19","v":100},{"$f":"Nutrients!E19","v":"mg/Kg"},null,null,null,null,null,null,null,null,null,null,null,null,null,null,null,null,null,null,null,null,null,0,{"$f":"Ingredients!B18","v":0},{"$f":"Ingredients!C18","v":0},{"$f":"Ingredients!F18","v":0},{"$f":"Ingredients!G18/100","v":0},{"$f":"Ingredients!H18/100","v":0},{"$f":"Ingredients!I18/100","v":0},{"$f":"Ingredients!J18/100","v":0},{"$f":"Ingredients!K18/100","v":0},{"$f":"Ingredients!L18/100","v":0},{"$f":"Ingredients!M18/100","v":0},{"$f":"Ingredients!N18/100","v":0},{"$f":"Ingredients!O18/100","v":0},{"$f":"Ingredients!P18/100","v":0},{"$f":"Ingredients!Q18/100","v":0},{"$f":"Ingredients!R18/100","v":0},{"$f":"Ingredients!S18/100","v":0},{"$f":"Ingredients!T18/100","v":0},{"$f":"Ingredients!U18/100","v":0},{"$f":"Ingredients!V18/100","v":0},{"$f":"Ingredients!W18/100","v":0},{"$f":"Ingredients!X18/100","v":0},{"$f":"Ingredients!Y18/100","v":0},{"$f":"Ingredients!Z18/100","v":0},{"$f":"Ingredients!AA18/100","v":0},{"$f":"Ingredients!AB18/100","v":0},{"$f":"Ingredients!AC18/100","v":0},{"$f":"Ingredients!AD18/100","v":0},{"$f":"Ingredients!AE18/100","v":0},{"$f":"Ingredients!AF18/100","v":0},{"$f":"Ingredients!AG18/100","v":0},{"$f":"Ingredients!AH18/100","v":0},{"$f":"Ingredients!AI18/100","v":0},{"$f":"Ingredients!AJ18/100","v":0},{"$f":"Ingredients!AK18/100","v":0},{"$f":"Ingredients!AL18/100","v":0},{"$f":"Ingredients!AM18/100","v":0},{"$f":"Ingredients!AN18/100","v":0}]
[null,{"$f":"Ingredients!B18","v":0},{"$f":"Ingredients!C18","v":0},{"$f":"Ingredients!D18","v":0},0,{"$f":"Ingredients!E18","v":0},null,{"$f":"Nutrients!B20","v":"Choline"},{"$f":"Nutrients!C20","v":1700},{"$f":"SUMPRODUCT($E$8:$E$32,AZ7:AZ31)","v":1840.7631167527145},{"$f":"Nutrients!D20","v":10000},{"$f":"Nutrients!E20","v":"mg/Kg"},null,null,null,null,null,null,null,null,null,null,null,null,null,null,null,null,null,null,null,null,null,0,{"$f":"Ingredients!B19","v":0},{"$f":"Ingredients!C19","v":0},{"$f":"Ingredients!F19","v":0},{"$f":"Ingredients!G19/100","v":0},{"$f":"Ingredients!H19/100","v":0},{"$f":"Ingredients!I19/100","v":0},{"$f":"Ingredients!J19/100","v":0},{"$f":"Ingredients!K19/100","v":0},{"$f":"Ingredients!L19/100","v":0},{"$f":"Ingredients!M19/100","v":0},{"$f":"Ingredients!N19/100","v":0},{"$f":"Ingredients!O19/100","v":0},{"$f":"Ingredients!P19/100","v":0},{"$f":"Ingredients!Q19/100","v":0},{"$f":"Ingredients!R19/100","v":0},{"$f":"Ingredients!S19/100","v":0},{"$f":"Ingredients!T19/100","v":0},{"$f":"Ingredients!U19/100","v":0},{"$f":"Ingredients!V19/100","v":0},{"$f":"Ingredients!W19/100","v":0},{"$f":"Ingredients!X19/100","v":0},{"$f":"Ingredients!Y19/100","v":0},{"$f":"Ingredients!Z19/100","v":0},{"$f":"Ingredients!AA19/100","v":0},{"$f":"Ingredients!AB19/100","v":0},{"$f":"Ingredients!AC19/100","v":0},{"$f":"Ingredients!AD19/100","v":0},{"$f":"Ingredients!AE19/100","v":0},{"$f":"Ingredients!AF19/100","v":0},{"$f":"Ingredients!AG19/100","v":0},{"$f":"Ingredients!AH19/100","v":0},{"$f":"Ingredients!AI19/100","v":0},{"$f":"Ingredients!AJ19/100","v":0},{"$f":"Ingredients!AK19/100","v":0},{"$f":"Ingredients!AL19/100","v":0},{"$f":"Ingredients!AM19/100","v":0},{"$f":"Ingredients!AN19/100","v":0}]
[null,{"$f":"Ingredients!B19","v":0},{"$f":"Ingredients!C19","v":0},{"$f":"Ingredients!D19","v":0},0,{"$f":"Ingredients!E19","v":0},null,{"$f":"Nutrients!B21","v":"Betaine"},{"$f":"Nutrients!C21","v":0},{"$f":"SUMPRODUCT($E$8:$E$32,BA7:BA31)","v":1570.9670351780542},{"$f":"Nutrients!D21","v":10000},{"$f":"Nutrients!E21","v":"mg/Kg"},null,null,null,null,null,null,null,null,null,null,null,null,null,null,null,null,null,null,null,null,null,0,{"$f":"Ingredients!B20","v":0},{"$f":"Ingredients!C20","v":0},{"$f":"Ingredients!F20","v":0},{"$f":"Ingredients!G20/100","v":0},{"$f":"Ingredients!H20/100","v":0},{"$f":"Ingredients!I20/100","v":0},{"$f":"Ingredients!J20/100","v":0},{"$f":"Ingredients!K20/100","v":0},{"$f":"Ingredients!L20/100","v":0},{"$f":"Ingredients!M20/100","v":0},{"$f":"Ingredients!N20/100","v":0},{"$f":"Ingredients!O20/100","v":0},{"$f":"Ingredients!P20/100","v":0},{"$f":"Ingredients!Q20/100","v":0},{"$f":"Ingredients!R20/100","v":0},{"$f":"Ingredients!S20/100","v":0},{"$f":"Ingredients!T20/100","v":0},{"$f":"Ingredients!U20/100","v":0},{"$f":"Ingredients!V20/100","v":0},{"$f":"Ingredients!W20/100","v":0},{"$f":"Ingredients!X20/100","v":0},{"$f":"Ingredients!Y20/100","v":0},{"$f":"Ingredients!Z20/100","v":0},{"$f":"Ingredients!AA20/100","v":0},{"$f":"Ingredients!AB20/100","v":0},{"$f":"Ingredients!AC20/100","v":0},{"$f":"Ingredients!AD20/100","v":0},{"$f":"Ingredients!AE20/100","v":0},{"$f":"Ingredients!AF20/100","v":0},{"$f":"Ingredients!AG20/100","v":0},{"$f":"Ingredients!AH20/100","v":0},{"$f":"Ingredients!AI20/100","v":0},{"$f":"Ingredients!AJ20/100","v":0},{"$f":"Ingredients!AK20/100","v":0},{"$f":"Ingredients!AL20/100","v":0},{"$f":"Ingredients!AM20/100","v":0},{"$f":"Ingredients!AN20/100","v":0}]
[null,{"$f":"Ingredients!B20","v":0},{"$f":"Ingredients!C20","v":0},{"$f":"Ingredients!D20","v":0},0,{"$f":"Ingredients!E20","v":0},null,{"$f":"Nutrients!B22","v":"dLYS"},{"$f":"Nutrients!C22","v":0},{"$f":"SUMPRODUCT($E$8:$E$32,BB7:BB31)","v":13.025019526095198},{"$f":"Nutrients!D22","v":1000},{"$f":"Nutrients!E22","v":"g/Kg"},null,null,null,null,null,null,null,null,null,null,null,null,null,null,null,null,null,null,null,null,null,0,{"$f":"Ingredients!B21","v":0},{"$f":"Ingredients!C21","v":0},{"$f":"Ingredients!F21","v":0},{"$f":"Ingredients!G21/100","v":0},{"$f":"Ingredients!H21/100","v":0},{"$f":"Ingredients!I21/100","v":0},{"$f":"Ingredients!J21/100","v":0},{"$f":"Ingredients!K21/100","v":0},{"$f":"Ingredients!L21/100","v":0},{"$f":"Ingredients!M21/100","v":0},{"$f":"Ingredients!N21/100","v":0},{"$f":"Ingredients!O21/100","v":0},{"$f":"Ingredients!P21/100","v":0},{"$f":"Ingredients!Q21/100","v":0},{"$f":"Ingredients!R21/100","v":0},{"$f":"Ingredients!S21/100","v":0},{"$f":"Ingredients!T21/100","v":0},{"$f":"Ingredients!U21/100","v":0},{"$f":"Ingredients!V21/100","v":0},{"$f":"Ingredients!W21/100","v":0},{"$f":"Ingredients!X21/100","v":0},{"$f":"Ingredients!Y21/100","v":0},{"$f":"Ingredients!Z21/100","v":0},{"$f":"Ingredients!AA21/100","v":0},{"$f":"Ingredients!AB21/100","v":0},{"$f":"Ingredients!AC21/100","v":0},{"$f":"Ingredients!AD21/100","v":0},{"$f":"Ingredients!AE21/100","v":0},{"$f":"Ingredients!AF21/100","v":0},{"$f":"Ingredients!AG21/100","v":0},{"$f":"Ingredients!AH21/100","v":0},{"$f":"Ingredients!AI21/100","v":0},{"$f":"Ingredients!AJ21/100","v":0},{"$f":"Ingredients!AK21/100","v":0},{"$f":"Ingredients!AL21/100","v":0},{"$f":"Ingredients!AM21/100","v":0},{"$f":"Ingredients!AN21/100","v":0}]
[null,{"$f":"Ingredients!B21","v":0},{"$f":"Ingredients!C21","v":0},{"$f":"Ingredients!D21","v":0},0,{"$f":"Ingredients!E21","v":0},null,{"$f":"Nutrients!B23","v":"dMET"},{"$f":"Nutrients!C23","v":5.5},{"$f":"SUMPRODUCT($E$8:$E$32,BC7:BC31)","v":7.1365577919441847},{"$f":"Nutrients!D23","v":1000},{"$f":"Nutrients!E23","v":"g/Kg"},null,null,null,null,null,null,null,null,null,null,null,null,null,null,null,null,null,null,null,null,null,0,{"$f":"Ingredients!B22","v":0},{"$f":"Ingredients!C22","v":0},{"$f":"Ingredients!F22","v":0},{"$f":"Ingredients!G22/100","v":0},{"$f":"Ingredients!H22/100","v":0},{"$f":"Ingredients!I22/100","v":0},{"$f":"Ingredients!J22/100","v":0},{"$f":"Ingredients!K22/100","v":0},{"$f":"Ingredients!L22/100","v":0},{"$f":"Ingredients!M22/100","v":0},{"$f":"Ingredients!N22/100","v":0},{"$f":"Ingredients!O22/100","v":0},{"$f":"Ingredients!P22/100","v":0},{"$f":"Ingredients!Q22/100","v":0},{"$f":"Ingredients!R22/100","v":0},{"$f":"Ingredients!S22/100","v":0},{"$f":"Ingredients!T22/100","v":0},{"$f":"Ingredients!U22/100","v":0},{"$f":"Ingredients!V22/100","v":0},{"$f":"Ingredients!W22/100","v":0},{"$f":"Ingredients!X22/100","v":0},{"$f":"Ingredients!Y22/100","v":0},{"$f":"Ingredients!Z22/100","v":0},{"$f":"Ingredients!AA22/100","v":0},{"$f":"Ingredients!AB22/100","v":0},{"$f":"Ingredients!AC22/100","v":0},{"$f":"Ingredients!AD22/100","v":0},{"$f":"Ingredients!AE22/100","v":0},{"$f":"Ingredients!AF22/100","v":0},{"$f":"Ingredients!AG22/100","v":0},{"$f":"Ingredients!AH22/100","v":0},{"$f":"Ingredients!AI22/100","v":0},{"$f":"Ingredients!AJ22/100","v":0},{"$f":"Ingredients!AK22/100","v":0},{"$f":"Ingredients!AL22/100","v":0},{"$f":"Ingredients!AM22/100","v":0},{"$f":"Ingredients!AN22/100","v":0}]
[null,{"$f":"Ingredients!B22","v":0},{"$f":"Ingredients!C22","v":0},{"$f":"Ingredients!D22","v":0},0,{"$f":"Ingredients!E22","v":0},null,{"$f":"Nutrients!B24","v":"dTSAA"},{"$f":"Nutrients!C24","v":10},{"$f":"SUMPRODUCT($E$8:$E$32,BD7:BD31)","v":9.9999999999998579},{"$f":"Nutrients!D24","v":1000},{"$f":"Nutrients!E24","v":"g/Kg"},null,null,null,null,null,null,null,null,null,null,null,null,null,null,null,null,null,null,null,null,null,0,{"$f":"Ingredients!B23","v":0},{"$f":"Ingredients!C23","v":0},{"$f":"Ingredients!F23","v":0},{"$f":"Ingredients!G23/100","v":0},{"$f":"Ingredients!H23/100","v":0},{"$f":"Ingredients!I23/100","v":0},{"$f":"Ingredients!J23/100","v":0},{"$f":"Ingredients!K23/100","v":0},{"$f":"Ingredients!L23/100","v":0},{"$f":"Ingredients!M23/100","v":0},{"$f":"Ingredients!N23/100","v":0},{"$f":"Ingredients!O23/100","v":0},{"$f":"Ingredients!P23/100","v":0},{"$f":"Ingredients!Q23/100","v":0},{"$f":"Ingredients!R23/100","v":0},{"$f":"Ingredients!S23/100","v":0},{"$f":"Ingredients!T23/100","v":0},{"$f":"Ingredients!U23/100","v":0},{"$f":"Ingredients!V23/100","v":0},{"$f":"Ingredients!W23/100","v":0},{"$f":"Ingredients!X23/100","v":0},{"$f":"Ingredients!Y23/100","v":0},{"$f":"Ingredients!Z23/100","v":0},{"$f":"Ingredients!AA23/100","v":0},{"$f":"Ingredients!AB23/100","v":0},{"$f":"Ingredients!AC23/100","v":0},{"$f":"Ingredients!AD23/100","v":0},{"$f":"Ingredients!AE23/100","v":0},{"$f":"Ingredients!AF23/100","v":0},{"$f":"Ingredients!AG23/100","v":0},{"$f":"Ingredients!AH23/100","v":0},{"$f":"Ingredients!AI23/100","v":0},{"$f":"Ingredients!AJ23/100","v":0},{"$f":"Ingredients!AK23/100","v":0},{"$f":"Ingredients!AL23/100","v":0},{"$f":"Ingredients!AM23/100","v":0},{"$f":"Ingredients!AN23/100","v":0}]
[null,{"$f":"Ingredients!B23","v":0},{"$f":"Ingredients!C23","v":0},{"$f":"Ingredients!D23","v":0},0,{"$f":"Ingredients!E23","v":0},null,{"$f":"Nutrients!B25","v":"dTHR"},{"$f":"Nutrients!C25","v":8.8000000000000007},{"$f":"SUMPRODUCT($E$8:$E$32,BE7:BE31)","v":8.8000000000002085},{"$f":"Nutrients!D25","v":1000},{"$f":"Nutrients!E25","v":"g/Kg"},null,null,null,null,null,null,null,null,null,null,null,null,null,null,null,null,null,null,null,null,null,0,{"$f":"Ingredients!B24","v":0},{"$f":"Ingredients!C24","v":0},{"$f":"Ingredients!F24","v":0},{"$f":"Ingredients!G24/100","v":0},{"$f":"Ingredients!H24/100","v":0},{"$f":"Ingredients!I24/100","v":0},{"$f":"Ingredients!J24/100","v":0},{"$f":"Ingredients!K24/100","v":0},{"$f":"Ingredients!L24/100","v":0},{"$f":"Ingredients!M24/100","v":0},{"$f":"Ingredients!N24/100","v":0},{"$f":"Ingredients!O24/100","v":0},{"$f":"Ingredients!P24/100","v":0},{"$f":"Ingredients!Q24/100","v":0},{"$f":"Ingredients!R24/100","v":0},{"$f":"Ingredients!S24/100","v":0},{"$f":"Ingredients!T24/100","v":0},{"$f":"Ingredients!U24/100","v":0},{"$f":"Ingredients!V24/100","v":0},{"$f":"Ingredients!W24/100","v":0},{"$f":"Ingredients!X24/100","v":0},{"$f":"Ingredients!Y24/100","v":0},{"$f":"Ingredients!Z24/100","v":0},{"$f":"Ingredients!AA24/100","v":0},{"$f":"Ingredients!AB24/100","v":0},{"$f":"Ingredients!AC24/100","v":0},{"$f":"Ingredients!AD24/100","v":0},{"$f":"Ingredients!AE24/100","v":0},{"$f":"Ingredients!AF24/100","v":0},{"$f":"Ingredients!AG24/100","v":0},{"$f":"Ingredients!AH24/100","v":0},{"$f":"Ingredients!AI24/100","v":0},{"$f":"Ingredients!AJ24/100","v":0},{"$f":"Ingredients!AK24/100","v":0},{"$f":"Ingredients!AL24/100","v":0},{"$f":"Ingredients!AM24/100","v":0},{"$f":"Ingredients!AN24/100","v":0}]
[null,{"$f":"Ingredients!B24","v":0},{"$f":"Ingredients!C24","v":0},{"$f":"Ingredients!D24","v":0},0,{"$f":"Ingredients!E24","v":0},null,{"$f":"Nutrients!B26","v":"dTRP"},{"$f":"Nutrients!C26","v":2.1},{"$f":"SUMPRODUCT($E$8:$E$32,BF7:BF31)","v":2.4615108534502737},{"$f":"Nutrients!D26","v":1000},{"$f":"Nutrients!E26","v":"g/Kg"},null,null,null,null,null,null,null,null,null,null,null,null,null,null,null,null,null,null,null,null,null,0,{"$f":"Ingredients!B25","v":0},{"$f":"Ingredients!C25","v":0},{"$f":"Ingredients!F25","v":0},{"$f":"Ingredients!G25/100","v":0},{"$f":"Ingredients!H25/100","v":0},{"$f":"Ingredients!I25/100","v":0},{"$f":"Ingredients!J25/100","v":0},{"$f":"Ingredients!K25/100","v":0},{"$f":"Ingredients!L25/100","v":0},{"$f":"Ingredients!M25/100","v":0},{"$f":"Ingredients!N25/100","v":0},{"$f":"Ingredients!O25/100","v":0},{"$f":"Ingredients!P25/100","v":0},{"$f":"Ingredients!Q25/100","v":0},{"$f":"Ingredients!R25/100","v":0},{"$f":"Ingredients!S25/100","v":0},{"$f":"Ingredients!T25/100","v":0},{"$f":"Ingredients!U25/100","v":0},{"$f":"Ingredients!V25/100","v":0},{"$f":"Ingredients!W25/100","v":0},{"$f":"Ingredients!X25/100","v":0},{"$f":"Ingredients!Y25/100","v":0},{"$f":"Ingredients!Z25/100","v":0},{"$f":"Ingredients!AA25/100","v":0},{"$f":"Ingredients!AB25/100","v":0},{"$f":"Ingredients!AC25/100","v":0},{"$f":"Ingredients!AD25/100","v":0},{"$f":"Ingredients!AE25/100","v":0},{"$f":"Ingredients!AF25/100","v":0},{"$f":"Ingredients!AG25/100","v":0},{"$f":"Ingredients!AH25/100","v":0},{"$f":"Ingredients!AI25/100","v":0},{"$f":"Ingredients!AJ25/100","v":0},{"$f":"Ingredients!AK25/100","v":0},{"$f":"Ingredients!AL25/100","v":0},{"$f":"Ingredients!AM25/100","v":0},{"$f":"Ingredients!AN25/100","v":0}]
[null,{"$f":"Ingredients!B25","v":0},{"$f":"Ingredients!C25","v":0},{"$f":"Ingredients!D25","v":0},0,{"$f":"Ingredients!E25","v":0},null,{"$f":"Nutrients!B27","v":"dARG"},0,{"$f":"SUMPRODUCT($E$8:$E$32,BG7:BG31)","v":13.857845007527702},{"$f":"Nutrients!D27","v":1000},{"$f":"Nutrients!E27","v":"g/Kg"},null,null,null,null,null,null,null,null,null,null,null,null,null,null,null,null,null,null,null,null,null,0,{"$f":"Ingredients!B26","v":0},{"$f":"Ingredients!C26","v":0},{"$f":"Ingredients!F26","v":0},{"$f":"Ingredients!G26/100","v":0},{"$f":"Ingredients!H26/100","v":0},{"$f":"Ingredients!I26/100","v":0},{"$f":"Ingredients!J26/100","v":0},{"$f":"Ingredients!K26/100","v":0},{"$f":"Ingredients!L26/100","v":0},{"$f":"Ingredients!M26/100","v":0},{"$f":"Ingredients!N26/100","v":0},{"$f":"Ingredients!O26/100","v":0},{"$f":"Ingredients!P26/100","v":0},{"$f":"Ingredients!Q26/100","v":0},{"$f":"Ingredients!R26/100","v":0},{"$f":"Ingredients!S26/100","v":0},{"$f":"Ingredients!T26/100","v":0},{"$f":"Ingredients!U26/100","v":0},{"$f":"Ingredients!V26/100","v":0},{"$f":"Ingredients!W26/100","v":0},{"$f":"Ingredients!X26/100","v":0},{"$f":"Ingredients!Y26/100","v":0},{"$f":"Ingredients!Z26/100","v":0},{"$f":"Ingredients!AA26/100","v":0},{"$f":"Ingredients!AB26/100","v":0},{"$f":"Ingredients!AC26/100","v":0},{"$f":"Ingredients!AD26/100","v":0},{"$f":"Ingredients!AE26/100","v":0},{"$f":"Ingredients!AF26/100","v":0},{"$f":"Ingredients!AG26/100","v":0},{"$f":"Ingredients!AH26/100","v":0},{"$f":"Ingredients!AI26/100","v":0},{"$f":"Ingredients!AJ26/100","v":0},{"$f":"Ingredients!AK26/100","v":0},{"$f":"Ingredients!AL26/100","v":0},{"$f":"Ingredients!AM26/100","v":0},{"$f":"Ingredients!AN26/100","v":0}]
[null,{"$f":"Ingredients!B26","v":0},{"$f":"Ingredients!C26","v":0},{"$f":"Ingredients!D26","v":0},0,{"$f":"Ingredients!E26","v":0},null,{"$f":"Nutrients!B28","v":"dVAL"},0,{"$f":"SUMPRODUCT($E$8:$E$32,BH7:BH31)","v":9.2579308007331509},{"$f":"Nutrients!D28","v":1000},{"$f":"Nutrients!E28","v":"g/Kg"},null,null,null,null,null,null,null,null,null,null,null,null,null,null,null,null,null,null,null,null,null,0,{"$f":"Ingredients!B27","v":0},{"$f":"Ingredients!C27","v":0},{"$f":"Ingredients!F27","v":0},{"$f":"Ingredients!G27/100","v":0},{"$f":"Ingredients!H27/100","v":0},{"$f":"Ingredients!I27/100","v":0},{"$f":"Ingredients!J27/100","v":0},{"$f":"Ingredients!K27/100","v":0},{"$f":"Ingredients!L27/100","v":0},{"$f":"Ingredients!M27/100","v":0},{"$f":"Ingredients!N27/100","v":0},{"$f":"Ingredients!O27/100","v":0},{"$f":"Ingredients!P27/100","v":0},{"$f":"Ingredients!Q27/100","v":0},{"$f":"Ingredients!R27/100","v":0},{"$f":"Ingredients!S27/100","v":0},{"$f":"Ingredients!T27/100","v":0},{"$f":"Ingredients!U27/100","v":0},{"$f":"Ingredients!V27/100","v":0},{"$f":"Ingredients!W27/100","v":0},{"$f":"Ingredients!X27/100","v":0},{"$f":"Ingredients!Y27/100","v":0},{"$f":"Ingredients!Z27/100","v":0},{"$f":"Ingredients!AA27/100","v":0},{"$f":"Ingredients!AB27/100","v":0},{"$f":"Ingredients!AC27/100","v":0},{"$f":"Ingredients!AD27/100","v":0},{"$f":"Ingredients!AE27/100","v":0},{"$f":"Ingredients!AF27/100","v":0},{"$f":"Ingredients!AG27/100","v":0},{"$f":"Ingredients!AH27/100","v":0},{"$f":"Ingredients!AI27/100","v":0},{"$f":"Ingredients!AJ27/100","v":0},{"$f":"Ingredients!AK27/100","v":0},{"$f":"Ingredients!AL27/100","v":0},{"$f":"Ingredients!AM27/100","v":0},{"$f":"Ingredients!AN27/100","v":0}]
[null,{"$f":"Ingredients!B27","v":0},{"$f":"Ingredients!C27","v":0},{"$f":"Ingredients!D27","v":0},0,{"$f":"Ingredients!E27","v":0},null,{"$f":"Nutrients!B29","v":"TP:dLYS"},{"$f":"Nutrients!C29","v":0},{"$f":"SUMPRODUCT($E$8:$E$32,BI7:BI31)","v":1.2559397966072083E-14},{"$f":"Nutrients!D29","v":100},{"$f":"Nutrients!E29","v":"g/g"},null,null,null,null,null,null,null,null,null,null,null,null,null,null,null,null,null,null,null,null,null,0,{"$f":"Ingredients!B28","v":0},{"$f":"Ingredients!C28","v":0},{"$f":"Ingredients!F28","v":0},{"$f":"Ingredients!G28/100","v":0},{"$f":"Ingredients!H28/100","v":0},{"$f":"Ingredients!I28/100","v":0},{"$f":"Ingredients!J28/100","v":0},{"$f":"Ingredients!K28/100","v":0},{"$f":"Ingredients!L28/100","v":0},{"$f":"Ingredients!M28/100","v":0},{"$f":"Ingredients!N28/100","v":0},{"$f":"Ingredients!O28/100","v":0},{"$f":"Ingredients!P28/100","v":0},{"$f":"Ingredients!Q28/100","v":0},{"$f":"Ingredients!R28/100","v":0},{"$f":"Ingredients!S28/100","v":0},{"$f":"Ingredients!T28/100","v":0},{"$f":"Ingredients!U28/100","v":0},{"$f":"Ingredients!V28/100","v":0},{"$f":"Ingredients!W28/100","v":0},{"$f":"Ingredients!X28/100","v":0},{"$f":"Ingredients!Y28/100","v":0},{"$f":"Ingredients!Z28/100","v":0},{"$f":"Ingredients!AA28/100","v":0},{"$f":"Ingredients!AB28/100","v":0},{"$f":"Ingredients!AC28/100","v":0},{"$f":"Ingredients!AD28/100","v":0},{"$f":"Ingredients!AE28/100","v":0},{"$f":"Ingredients!AF28/100","v":0},{"$f":"Ingredients!AG28/100","v":0},{"$f":"Ingredients!AH28/100","v":0},{"$f":"Ingredients!AI28/100","v":0},{"$f":"Ingredients!AJ28/100","v":0},{"$f":"Ingredients!AK28/100","v":0},{"$f":"Ingredients!AL28/100","v":0},{"$f":"Ingredients!AM28/100","v":0},{"$f":"Ingredients!AN28/100","v":0}]
[null,{"$f":"Ingredients!B28","v":0},{"$f":"Ingredients!C28","v":0},{"$f":"Ingredients!D28","v":0},0,{"$f":"Ingredients!E28","v":0},null,{"$f":"Nutrients!B30","v":"Total NSP"},{"$f":"Nutrients!C30","v":0},{"$f":"SUMPRODUCT($E$8:$E$32,BJ7:BJ31)","v":114.21666081395102},{"$f":"Nutrients!D30","v":1000},{"$f":"Nutrients!E30","v":"g/Kg"}]
[null,null,null,null,null,null,null,{"$f":"Nutrients!B31","v":"Soluble NSP"},{"$f":"Nutrients!C31","v":0},{"$f":"SUMPRODUCT($E$8:$E$32,BK7:BK31)","v":22.272596894930633},{"$f":"Nutrients!D31","v":1000},{"$f":"Nutrients!E31","v":"g/Kg"},null,null,null,null,null,null,null,null,null,null,null,null,null,null,null,null,null,null,null,null,null,null,"Final Value",null,{"$f":"SUMPRODUCT($E$8:$E$32,AK7:AK31)","v":99.999999999998593}]
[null,"TOTAL",null,null,{"$f":"SUM(E8:E32)","v":99.999999999998593},null,null,{"$f":"Nutrients!B32","v":"Insoluble NSP"},{"$f":"Nutrients!C32","v":0},{"$f":"SUMPRODUCT($E$8:$E$32,BL7:BL31)","v":92.290987364514592},{"$f":"Nutrients!D32","v":1000},{"$f":"Nutrients!E32","v":"g/Kg"}]
[null,null,null,null,null,null,null,{"$f":"Nutrients!B33","v":"Lignin"},{"$f":"Nutrients!C33","v":0},{"$f":"SUMPRODUCT($E$8:$E$32,BM7:BM31)","v":5.2804842309837525},{"$f":"Nutrients!D33","v":1000},{"$f":"Nutrients!E33","v":"g/Kg"}]
[null,null,null,null,null,null,null,{"$f":"Nutrients!B34","v":"18:2"},0,{"$f":"SUMPRODUCT($E$8:$E$32,BN7:BN31)","v":10.829932708228121},{"$f":"Nutrients!D34","v":1000},{"$f":"Nutrients!E34","v":"g/Kg"}]
[null,null,null,null,null,null,null,{"$f":"Nutrients!B35","v":"Nutrient"},{"$f":"Nutrients!C35","v":0},{"$f":"SUMPRODUCT($E$8:$E$32,BO7:BO31)","v":0},{"$f":"Nutrients!D35","v":100},{"$f":"Nutrients!E35","v":0},null,null,null,null,null,null,null,null,null,null,null,null,null,null,null,null,null,null,null,null,null,null,"COST=",{"$f":"SUM(AH7:AH31)","v":70729.101244876772}]
[null,null,null,null,null,null,null,{"$f":"Nutrients!B36","v":"Nutrient"},{"$f":"Nutrients!C36","v":0},{"$f":"SUMPRODUCT($E$8:$E$32,BP7:BP31)","v":0},{"$f":"Nutrients!D36","v":100},{"$f":"Nutrients!E36","v":0}]
[null,null,null,null,null,null,null,{"$f":"Nutrients!B37","v":"Nutrient"},{"$f":"Nutrients!C37","v":0},{"$f":"SUMPRODUCT($E$8:$E$32,BQ7:BQ31)","v":0},{"$f":"Nutrients!D37","v":100},{"$f":"Nutrients!E37","v":0}]
[null,null,null,null,null,null,null,{"$f":"Nutrients!B38","v":"Nutrient"},{"$f":"Nutrients!C38","v":0},{"$f":"SUMPRODUCT($E$8:$E$32,BR7:BR31)","v":0},{"$f":"Nutrients!D38","v":100},{"$f":"Nutrients!E38","v":0}]
[null,null,null,null,null,null,null,{"$f":"Nutrients!B39","v":"Nutrient"},{"$f":"Nutrients!C39","v":0},{"$f":"SUMPRODUCT($E$8:$E$32,BS7:BS31)","v":0},{"$f":"Nutrients!D39","v":100},{"$f":"Nutrients!E39","v":0}]

{"sheet":"Enzymes","index":5,"n_rows":182,"n_cols":40,"rows_kept":182,"cut":false,"hidden":false,"merged":[[3,14,3,17],[3,19,3,22],[3,24,3,25],[4,24,4,25]]}
[null,"UffdAu 3.0",{"$f":"Ingredients!C1","v":"Cost"},{"$f":"Ingredients!D1","v":"Min."},{"$f":"Ingredients!E1","v":"Max."},{"$f":"Ingredients!F1","v":"Weight"},{"$f":"Ingredients!G1","v":"Dry Matter"},{"$f":"Ingredients!H1","v":"AMEn"},{"$f":"Ingredients!I1","v":"Metabolisable Energy"},{"$f":"Ingredients!J1","v":"Net Energy"},{"$f":"Ingredients!K1","v":"Crude Protein"},{"$f":"Ingredients!L1","v":"True Protein"},{"$f":"Ingredients!M1","v":"Lipids"},{"$f":"Ingredients!N1","v":"Crude Fibre"},{"$f":"Ingredients!O1","v":"Calcium"},{"$f":"Ingredients!P1","v":"Total Phosphorous"},{"$f":"Ingredients!Q1","v":"Available Phosphorous"},{"$f":"Ingredients!R1","v":"Ca:aP"},{"$f":"Ingredients!S1","v":"Na"},{"$f":"Ingredients!T1","v":"Cl"},{"$f":"Ingredients!U1","v":"Choline"},{"$f":"Ingredients!V1","v":"Betaine"},{"$f":"Ingredients!W1","v":"dLYS"},{"$f":"Ingredients!X1","v":"dMET"},{"$f":"Ingredients!Y1","v":"dTSAA"},{"$f":"Ingredients!Z1","v":"dTHR"},{"$f":"Ingredients!AA1","v":"dTRP"},{"$f":"Ingredients!AB1","v":"dARG"},{"$f":"Ingredients!AC1","v":"dVAL"},{"$f":"Ingredients!AD1","v":"TP:dLYS"},{"$f":"Ingredients!AE1","v":"Total NSP"},{"$f":"Ingredients!AF1","v":"Soluble NSP"},{"$f":"Ingredients!AG1","v":"Insoluble NSP"},{"$f":"Ingredients!AH1","v":"Lignin"},{"$f":"Ingredients!AI1","v":"18:2"},{"$f":"Ingredients!AJ1","v":"Nutrient"},{"$f":"Ingredients!AK1","v":"Nutrient"},{"$f":"Ingredients!AL1","v":"Nutrient"},{"$f":"Ingredients!AM1","v":"Nutrient"},{"$f":"Ingredients!AN1","v":"Nutrient"}]
[null,null,null,null,null,null,null,null,null,null,null,null,null,null,null,null,null,null,null,null,null,null,null,null,null,null,null,null,null,{"$f":"Ingredients!AD2","v":15.923566878980891}]
[]
[1,"In Row 8, enter the matrix values for your standard level of phytase",null,null,null,null,null,null,null,null,null,null,null,null,"Points Difining L-B Line",null,null,null,null,"Points on L-B Line",null,null,null,null,"L-B Slope = ",null,{"$f":"(V6-V5)/(U6-U5)","v":131.72043010752685}]
[2,"Enter the value in Cell M6 for the total amount of phytate P  in your diet without any enzymes",null,null,null,null,null,null,null,null,null,null,null,null,null,"Infinity",{"$f":"M6","v":2.48},null,null,null,0,{"$f":"1/Q5","v":0.40322580645161293},null,null,"Km =",null,{"$f":"AA4*Q5","v":326.66666666666657}]
[null,null,null,null,null,null,null,null,null,null,null,null,2.48,"g/kg",null,{"$f":"A8","v":500},{"$f":"Q8","v":1.5},null,null,null,{"$f":"1/P6","v":2E-3},{"$f":"1/Q6","v":0.66666666666666663}]
[]
[500,"Phytase 500",2000,0,0.05,1,998,0.222,0.222,null,0.36499999999999999,{"$f":"(K8/6.25)*5.636","v":0.3291424},null,null,1.65,2.65,1.5,0.36159999999999998,0.03,null,null,null,0.15,null,0.33,0.28999999999999998,0.17,0.11,0.2,{"$f":"W8-(1/AD$2*L8)","v":0.12932985727999999}]
[]
[3,"The program solves the Lineweaver-Burk plot for Km, the Michaleas constant"]
[4,"Observe the  Michaelis-Menten plot (below) to be sure the curve is the right shape"]
[5,"From the Michaelis-Menten plot, choose levels of phytase to consider using."]
[6,"Enter possible phytase levels in cells A16 to A21 to update the matrix values based on phytase activity"]
[]
[null,null,null,null,null,null,"RESPONSE TO DIFFERENT LEVELS OF PHYTASE"]
[{"$f":"A8","v":500},"Phytase 500",2000,0,0.05,1,998,{"$f":"H8","v":0.222},0.222,0,0.36499999999999999,0.3291424,0,0,1.65,0,{"$f":"Q8","v":1.5},{"$f":"R8","v":0.36159999999999998},0.03,0,0,0,0.15,0,0.33,0.28999999999999998,0.17,0.11,0.2,0.12932985727999999,0,0,0,0,0,0,0,0,0,0]
[1000,"Phytase 1000",{"$f":"C16","v":2000},0,{"$f":"E16","v":0.05},1,998,{"$f":"H16*$D178","v":0.2766633165829146},0.2766633165829146,0,0.45487437185929652,0.41018751356783922,0,0,2.056281407035176,0,1.8693467336683418,{"$f":"R16*$D178","v":0.45063718592964824},3.7386934673366838E-2,0,0,0,0.18693467336683417,0,0.41125628140703524,0.36140703517587941,0.21185929648241209,{"$f":"AB16*$D178","v":0.13708542713567839},0.24924623115577893,0.16117489751477387,0,0,0,0,0,0,0,{"$f":"AL16*$D178","v":0},0,0]
[1500,"Phytase 1500",{"$f":"C17","v":2000},0,{"$f":"E17","v":0.05},1,998,0.30140145985401462,0.30140145985401462,0,0.49554744525547451,0.44686486423357669,0,0,2.24014598540146,0,2.0364963503649633,0.49093138686131388,4.0729927007299271E-2,0,0,0,0.20364963503649636,0,0.44802919708029204,0.39372262773722627,0.23080291970802921,0.14934306569343064,0.27153284671532851,0.17558652156262775,0,0,0,0,0,0,0,0,0,0]
[2000,"Phytase 2000",{"$f":"C18","v":2000},0,{"$f":"E18","v":0.05},1,998,0.3155071633237822,0.3155071633237822,0,0.51873925501432661,0.46777831060171915,0,0,2.3449856733524355,0,2.1318051575931225,0.51390716332378217,4.2636103151862462E-2,0,0,0,0.21318051575931229,0,0.46899713467048709,0.4121489971346704,0.24160458452722061,0.15633237822349566,0.28424068767908311,0.18380403785352434,0,0,0,0,0,0,0,0,0,0]
[2500,"Phytase 2500",{"$f":"C19","v":2000},0,{"$f":"E19","v":0.05},1,998,0.32462264150943393,0.32462264150943393,0,0.5337264150943396,0.4812931320754717,0,0,2.4127358490566038,0,2.1933962264150937,0.52875471698113208,4.3867924528301891E-2,0,0,0,0.21933962264150941,0,0.48254716981132079,0.42405660377358484,0.24858490566037736,0.16084905660377355,0.29245283018867929,0.1891144139471698,0,0,0,0,0,0,0,0,0,0]
[3000,"Phytase 3000",{"$f":"C20","v":2000},0,{"$f":"E20","v":0.05},1,998,0.33099799599198393,0.33099799599198393,0,0.54420841683366727,0.49074538196392786,0,0,2.4601202404809621,0,2.2364729458917827,0.53913907815631268,4.4729458917835675E-2,0,0,0,0.22364729458917834,0,0.49202404809619243,0.43238476953907806,0.25346693386773544,0.16400801603206408,0.2981963927855712,0.19282848460184368,0,0,0,0,0,0,0,0,0,0]
[]
[7,"Notice how the martix values are updated just like the diminishing returns function (green line)"]
[8,"The values in lines 16 through 21 are for 0.05% phytase.",null,null,null,null,null,null,null,null,null,null,null,null,"`"]
[null,"   They are adjusted to the standard 1.00 used in the Ingredients data matrix,lines 34 to 39"]
[]
[null,null,null,"MARGINAL RESPONSE TO DIFFERENT LEVELS OF PHYTASE ADJUSTD TO WEIGHT = 1.000"]
[{"$f":"A16","v":500},"Phytase 500",2000,0,0.05,1,998,{"$f":"H16/($E$8/100)","v":444},444,{"$f":"J16/($E$8/100)","v":0},730,658.28480000000002,0,0,3299.9999999999995,0,3000,{"$f":"R8/($E$8/100)","v":723.19999999999993},60,0,0,0,300,0,660,580,340,220,400,258.65971456,0,0,0,0,0,0,0,0,0,0]
[1000,"Phytase 1000",2000,0,0.05,1,998,553.32663316582921,553.32663316582921,{"$f":"J17/($E$8/100)","v":0},909.748743718593,820.37502713567847,0,0,4112.562814070352,0,3738.6934673366836,901.27437185929648,74.773869346733676,0,0,0,373.86934673366835,0,822.51256281407041,722.8140703517588,423.71859296482415,274.1708542713568,498.49246231155786,322.34979502954775,0,0,0,0,0,0,0,0,0,0]
[1500,"Phytase 1500",2000,0,0.05,1,998,602.80291970802921,602.80291970802921,{"$f":"J18/($E$8/100)","v":0},991.09489051094897,893.72972846715334,0,0,4480.2919708029203,0,4072.9927007299266,981.86277372262771,81.459854014598548,0,0,0,407.29927007299273,0,896.05839416058404,787.44525547445255,461.60583941605842,298.68613138686129,543.06569343065701,351.1730431252555,0,0,0,0,0,0,0,0,0,0]
[2000,"Phytase 2000",2000,0,0.05,1,998,631.01432664756442,631.01432664756442,{"$f":"J19/($E$8/100)","v":0},1037.4785100286531,935.55662120343823,0,0,4689.9713467048705,0,4263.6103151862453,1027.8143266475643,85.272206303724928,0,0,0,426.3610315186246,0,937.99426934097414,824.29799426934073,483.20916905444119,312.6647564469913,568.48137535816625,367.60807570704867,0,0,0,0,0,0,0,0,0,0]
[2500,"Phytase 2500",2000,0,0.05,1,998,649.24528301886789,649.24528301886789,{"$f":"J20/($E$8/100)","v":0},1067.4528301886792,962.58626415094341,0,0,4825.4716981132078,0,4386.7924528301874,1057.5094339622642,87.735849056603783,0,0,0,438.67924528301882,0,965.09433962264154,848.11320754716962,497.16981132075472,321.69811320754707,584.90566037735857,378.22882789433959,0,0,0,0,0,0,0,0,0,0]
[3000,"Phytase 3000",2000,0,0.05,1,998,661.99599198396788,661.99599198396788,{"$f":"J21/($E$8/100)","v":0},1088.4168336673345,981.49076392785571,0,0,4920.2404809619238,0,4472.9458917835655,1078.2781563126252,89.458917835671343,0,0,0,447.29458917835666,0,984.04809619238483,864.76953907815607,506.93386773547087,328.01603206412813,596.39278557114233,385.65696920368737,0,0,0,0,0,0,0,0,0,0]
[{"$f":"A28","v":500},"Phytase 500",2000,0,0.05,1,{"$f":"G16","v":998},{"$f":"H28-H27","v":444},444,{"$f":"J16","v":0},{"$f":"K28","v":730},658.28480000000002,0,0,3299.9999999999995,0,3000,723.19999999999993,60,0,0,0,300,0,660,580,340,220,400,258.65971456,0,0,0,0,0,0,0,0,0,0]
[1000,"Phytase 1000",2000,0,0.05,1,{"$f":"G29","v":998},109.32663316582921,109.32663316582921,0,179.748743718593,162.09022713567845,0,0,812.56281407035249,0,738.69346733668363,178.07437185929655,14.773869346733676,0,0,0,73.869346733668351,0,162.51256281407041,142.8140703517588,83.718592964824154,54.170854271356802,98.492462311557858,63.690080469547752,0,0,0,0,0,0,0,0,0,0]
[1500,"Phytase 1500",2000,0,0.05,1,{"$f":"G30","v":998},49.4762865422,49.4762865422,0,81.346146792355967,73.354701331474871,0,0,367.7291567325683,0,334.29923339324296,80.588401863331228,6.6859846678648722,0,0,0,33.429923339324375,0,73.545831346513637,64.631185122693751,37.887246451234262,24.515277115504489,44.573231119099148,28.823248095707754,0,0,0,0,0,0,0,0,0,0]
[2000,"Phytase 2000",2000,0,0.05,1,{"$f":"G31","v":998},28.211406939535209,28.211406939535209,0,46.383619517704119,41.82689273628489,0,0,209.67937590195015,0,190.61761445631873,45.95155292493655,3.8123522891263804,0,0,0,19.061761445631873,0,41.935875180390099,36.852738794888182,21.603329638382775,13.978625060130014,25.41568192750924,16.435032581793166,0,0,0,0,0,0,0,0,0,0]
[2500,"Phytase 2500",2000,0,0.05,1,{"$f":"G32","v":998},18.230956371303478,18.230956371303478,0,29.974320160026082,27.029642947505181,0,0,135.50035140833734,0,123.18213764394204,29.695107314699953,2.4636427528788545,0,0,0,12.318213764394216,0,27.100070281667399,23.815213277828889,13.960642266313528,9.0333567605557619,16.424285019192325,10.620752187290918,0,0,0,0,0,0,0,0,0,0]
[3000,"Phytase 3000",2000,0,0.05,1,{"$f":"G33","v":998},12.750708965099989,12.750708965099989,0,20.964003478655286,18.904499776912303,0,0,94.768782848716,0,86.1534389533781,20.768722350361031,1.7230687790675603,0,0,0,8.6153438953378441,0,18.953756569743291,16.656331530986449,9.7640564147161513,6.3179188565810591,11.487125193783754,7.4281413093477795,0,0,0,0,0,0,0,0,0,0]
[]
[9,"Copy the phytase marginal response data in the yellow cells (above) to the ACTIVE INGREDIENT COMPOSITION MATRIX on the Ingredients spreadsheet"]
[null,"    Use the \"Paste Special\" and \"Values\" options when pasting"]
[10,"Formulate a diet and observe the usage levels of phytase"]
[]
[null,"Michaelis-Menten Plot of Enzyme Kinetics",null,null,null,null,null,null,null,null,null,null,null,null,null,null,null,null,null,null,null,"Lineweaver-Burk Plot"]
[null,null,null,null,null,null,null,null,null,null,null,null,null,null,null,null,null,null,null,null,null,null,null,null,null,null,null,null,null,null,null,null,null,null,{"$f":"1/2.65","v":0.37735849056603776}]
[]
[]
[]
[]
[]
[]
[]
[]
[]
[]
[]
[]
[]
[]
[]
[]
[]
[]
[]
[]
[]
[]
[]
[]
[]
[]
[]
[]
[]
[]
[]
[]
[]
[]
[]
[]
[]
[]
[]
[]
[]
[]
[]
[]
[]
[]
[]
[]
[]
[]
[]
[]
[]
[]
[]
[]
[]
[]
[]
[]
[]
[]
[]
[]
[]
[]
[]
[]
[]
[]
[]
[]
[]
[null,null,null,null,null,null,null,null,null,null,null,null,null,null,null,null,null,null,null,null,null,null,"L-B Plot"]
[null,"M-M Plot"]
[null,-300,{"$f":"($Q$5*B122)/($AA$5+B122)","v":-27.900000000000098}]
[null,-200,-3.9157894736842134,null,null,null,null,null,null,null,null,null,null,null,null,null,null,null,null,null,null,null,{"$f":"1/B122","v":-3.3333333333333335E-3},-3.5842293906809909E-2]
[null,-100,-1.0941176470588241,null,null,null,null,null,null,null,null,null,null,null,null,null,null,null,null,null,null,null,-5.0000000000000001E-3,-0.25537634408602133]
[null,0,0,null,null,null,null,null,null,null,null,null,null,null,null,null,null,null,null,null,null,null,-0.01,-0.91397849462365544]
[null,100,0.58125000000000016,null,-4.0000000000000001E-3,{"$f":"1446.5*E126+3.7736","v":-2.0124000000000004}]
[null,{"$f":"B126+100","v":200},0.94177215189873442,null,{"$f":"E126+0.0005","v":-3.5000000000000001E-3},-1.2891500000000002,null,null,null,null,null,null,null,null,null,null,null,null,null,null,null,null,0.01,1.7204301075268813]
[null,{"$f":"B127+100","v":300},1.1872340425531918,null,{"$f":"E127+0.0005","v":-3.0000000000000001E-3},-0.56590000000000007,null,null,null,null,null,null,null,null,null,null,null,null,null,null,null,null,5.0000000000000001E-3,1.061827956989247]
[null,400,1.3651376146788994,null,-2.5000000000000001E-3,0.1573500000000001,null,null,null,null,null,null,null,null,null,null,null,null,null,null,null,null,3.3333333333333335E-3,0.84229390681003569]
[null,500,1.5000000000000002,null,-2E-3,0.88059999999999983,null,null,null,null,null,null,null,null,null,null,null,null,null,null,null,null,2.5000000000000001E-3,0.7325268817204299]
[null,600,1.6057553956834536,null,-1.5E-3,1.60385,null,null,null,null,null,null,null,null,null,null,null,null,null,null,null,null,2E-3,0.66666666666666652]
[null,700,1.6909090909090911,null,-1E-3,2.3270999999999997,null,null,null,null,null,null,null,null,null,null,null,null,null,null,null,null,1.6666666666666668E-3,0.62275985663082423]
[null,800,1.7609467455621304,null,-5.0000000000000001E-4,3.0503499999999999,null,null,null,null,null,null,null,null,null,null,null,null,null,null,null,null,1.4285714285714286E-3,0.59139784946236551]
[null,900,1.8195652173913046,null,0,3.7736000000000001,null,null,null,null,null,null,null,null,null,null,null,null,null,null,null,null,1.25E-3,0.56787634408602139]
[null,1000,1.869346733668342,null,5.0000000000000001E-4,4.4968500000000002,null,null,null,null,null,null,null,null,null,null,null,null,null,null,null,null,1.1111111111111111E-3,0.54958183990442044]
[null,1100,1.9121495327102807,null,1E-3,5.2201000000000004,null,null,null,null,null,null,null,null,null,null,null,null,null,null,null,null,1E-3,0.53494623655913964]
[null,1200,1.9493449781659391,null,1.5E-3,5.9433500000000006,null,null,null,null,null,null,null,null,null,null,null,null,null,null,null,null,9.0909090909090909E-4,0.52297165200390994]
[null,1300,1.9819672131147543,null,2E-3,{"$f":"1446.5*E138+3.7736","v":6.6666000000000007},null,null,null,null,null,null,null,null,null,null,null,null,null,null,null,null,8.3333333333333339E-4,0.51299283154121855]
[null,1400,2.0108108108108111,null,2.5000000000000001E-3,7.38985,null,null,null,null,null,null,null,null,null,null,null,null,null,null,null,null,{"$f":"1/B138","v":7.6923076923076923E-4},0.50454921422663357]
[null,1500,2.0364963503649638,null,3.0000000000000001E-3,8.1130999999999993,null,null,null,null,null,null,null,null,null,null,null,null,null,null,null,null,7.1428571428571429E-4,0.49731182795698914]
[null,1600,2.0595155709342561,null,3.5000000000000001E-3,8.8363499999999995,null,null,null,null,null,null,null,null,null,null,null,null,null,null,null,null,6.6666666666666664E-4,0.49103942652329741]
[null,1700,2.0802631578947368,null,4.0000000000000001E-3,9.5595999999999997,null,null,null,null,null,null,null,null,null,null,null,null,null,null,null,null,6.2500000000000001E-4,0.48555107526881719]
[null,1800,2.0990595611285268,null,4.5000000000000005E-3,10.28285,null,null,null,null,null,null,null,null,null,null,null,null,null,null,null,null,5.8823529411764701E-4,0.48070841239721696]
[null,1900,2.1161676646706589,null,5.000000000000001E-3,11.006100000000002,null,null,null,null,null,null,null,null,null,null,null,null,null,null,null,null,5.5555555555555556E-4,0.47640382317801672]
[null,2000,2.1318051575931234,null,5.5000000000000014E-3,11.729350000000002,null,null,null,null,null,null,null,null,null,null,null,null,null,null,null,null,5.263157894736842E-4,0.47255234861346912]
[null,2100,2.1461538461538461,null,6.0000000000000019E-3,12.452600000000002,null,null,null,null,null,null,null,null,null,null,null,null,null,null,null,null,5.0000000000000001E-4,0.46908602150537632]
[null,2200,2.1593667546174142,null,6.5000000000000023E-3,13.175850000000004,null,null,null,null,null,null,null,null,null,null,null,null,null,null,null,null,4.7619047619047619E-4,0.46594982078853048]
[null,2300,2.1715736040609137,null,7.0000000000000027E-3,13.899100000000004,null,null,null,null,null,null,null,null,null,null,null,null,null,null,null,null,4.5454545454545455E-4,0.46309872922776146]
[null,2400,2.1828850855745721,null,7.5000000000000032E-3,14.622350000000004,null,null,null,null,null,null,null,null,null,null,null,null,null,null,null,null,4.3478260869565219E-4,0.46049555867227676]
[null,2500,2.1933962264150946,null,null,null,null,null,null,null,null,null,null,null,null,null,null,null,null,null,null,null,4.1666666666666669E-4,0.45810931899641577]
[null,2600,2.2031890660592257,null,null,null,null,null,null,null,null,null,null,null,null,null,null,null,null,null,null,null,4.0000000000000002E-4,0.45591397849462362]
[null,2700,2.2123348017621147,null,null,null,null,null,null,null,null,null,null,null,null,null,null,null,null,null,null,null,3.8461538461538462E-4,0.45388751033912322]
[null,2800,2.22089552238806,null,null,null,null,null,null,null,null,null,null,null,null,null,null,null,null,null,null,null,3.7037037037037035E-4,0.45201115093588207]
[null,2900,2.2289256198347109,null,null,null,null,null,null,null,null,null,null,null,null,null,null,null,null,null,null,null,3.5714285714285714E-4,0.45026881720430101]
[null,3000,2.2364729458917836,null,null,null,null,null,null,null,null,null,null,null,null,null,null,null,null,null,null,null,3.4482758620689653E-4,0.44864664441972557]
[null,3100,2.243579766536965,null,null,null,null,null,null,null,null,null,null,null,null,null,null,null,null,null,null,null,3.3333333333333332E-4,0.44713261648745517]
[null,3200,2.2502835538752364,null,null,null,null,null,null,null,null,null,null,null,null,null,null,null,null,null,null,null,3.2258064516129032E-4,0.44571626777662154]
[null,3300,2.2566176470588237,null,null,null,null,null,null,null,null,null,null,null,null,null,null,null,null,null,null,null,3.1250000000000001E-4,0.44438844086021506]
[null,3400,2.2626118067978536,null,null,null,null,null,null,null,null,null,null,null,null,null,null,null,null,null,null,null,3.0303030303030303E-4,0.44314108830237858]
[null,3500,2.2682926829268295,null,null,null,null,null,null,null,null,null,null,null,null,null,null,null,null,null,null,null,2.941176470588235E-4,0.44196710942441486]
[null,3600,2.2736842105263158,null,null,null,null,null,null,null,null,null,null,null,null,null,null,null,null,null,null,null,2.8571428571428574E-4,0.44086021505376338]
[null,3700,2.2788079470198674,null,null,null,null,null,null,null,null,null,null,null,null,null,null,null,null,null,null,null,2.7777777777777778E-4,0.43981481481481483]
[null,3800,2.2836833602584812,null,null,null,null,null,null,null,null,null,null,null,null,null,null,null,null,null,null,null,2.7027027027027027E-4,0.43882592269689047]
[null,3900,2.2883280757097788,null,null,null,null,null,null,null,null,null,null,null,null,null,null,null,null,null,null,null,2.631578947368421E-4,0.43788907753254108]
[null,4000,2.2927580893682586,null,null,null,null,null,null,null,null,null,null,null,null,null,null,null,null,null,null,null,2.5641025641025641E-4,0.4370002757099532]
[null,4100,2.2969879518072287,null,null,null,null,null,null,null,null,null,null,null,null,null,null,null,null,null,null,null,2.5000000000000001E-4,0.43615591397849468]
[null,4200,2.3010309278350514,null,null,null,null,null,null,null,null,null,null,null,null,null,null,null,null,null,null,null,2.4390243902439024E-4,0.4353527406241805]
[null,4300,2.3048991354466857,null,null,null,null,null,null,null,null,null,null,null,null,null,null,null,null,null,null,null,2.380952380952381E-4,0.43458781362007171]
[null,4400,2.3086036671368122,null,null,null,null,null,null,null,null,null,null,null,null,null,null,null,null,null,null,null,2.3255813953488373E-4,0.43385846461615407]
[null,4500,2.3121546961325965,null,null,null,null,null,null,null,null,null,null,null,null,null,null,null,null,null,null,null,2.2727272727272727E-4,0.43316226783968725]
[null,4600,2.3155615696887684,null,null,null,null,null,null,null,null,null,null,null,null,null,null,null,null,null,null,null,2.2222222222222223E-4,0.43249701314217448]
[null,4700,2.318832891246684,null,null,null,null,null,null,null,null,null,null,null,null,null,null,null,null,null,null,null,2.173913043478261E-4,0.43186068256194488]
[null,4800,2.3219765929778933,null,null,null,null,null,null,null,null,null,null,null,null,null,null,null,null,null,null,null,2.1276595744680851E-4,0.43125142987874632]
[null,4900,2.3249999999999997,null,null,null,null,null,null,null,null,null,null,null,null,null,null,null,null,null,null,null,2.0833333333333335E-4,0.43066756272401435]
[null,5000,2.327909887359199,null,null,null,null,null,null,null,null,null,null,null,null,null,null,null,null,null,null,null,2.0408163265306123E-4,0.43010752688172049]
[]
[null,{"$f":"A16","v":500},{"$f":"($Q$5*B177)/($AA$5+B177)","v":1.5000000000000002},null,"= Available P from 500 units"]
[null,1000,1.869346733668342,{"$f":"C178/C177","v":1.2462311557788945},"= Marginal increase"]
[null,1500,2.0364963503649638,{"$f":"C179/C178","v":1.0894160583941606}]
[null,2000,2.1318051575931234,{"$f":"C180/C179","v":1.0468003820439349}]
[null,2500,2.1933962264150946,{"$f":"C181/C180","v":1.0288915094339623}]
[null,3000,2.2364729458917836,{"$f":"C182/C181","v":1.0196392785571142}]

{"sheet":"Coefficients","index":6,"n_rows":80,"n_cols":19,"rows_kept":80,"cut":false,"hidden":false,"merged":[[0,1,0,7],[0,9,0,15],[0,17,1,17],[0,18,1,18],[0,0,1,0]]}
["Ingredient","Digestibility Coefficients",null,null,null,null,null,null,null,"Total AA contents [Batal A. & N. Dale, 2015 Feedstuffs ingredients analysis]",null,null,null,null,null,null,null,"Total N","Ka"]
[null,"LYS","MET","TSAA","THR","TRP","ARG","VAL",null,"LYS","MET","TSAA","THR","TRP","ARG","VAL"]
["BAKERY MEAL [CR]",59.06,83.4,78.430000000000007,69.010000000000005,83.97,80.459999999999994,76.66,null,3,1.6,3.2,2.8000000000000003,0.89999999999999991,4,4,null,1.6,5.73]
["BARLEY (>10% CP) [CR]",79.040000000000006,78.73,80.66,76.95,0,84.29,81.260000000000005,null,5.3000000000000007,1.7999999999999998,4.3,3.5999999999999996,1.7000000000000002,5,6.2,null,1.84,5.72]
["BLOOD MEAL (Flash Ring) [CR]",88.48,91.57,85.56,88.91,88.82,89.36,89.82,null,88.5,7.5,16.100000000000001,39,13,38,86,null,14.224,5.49]
["BLOOD MEAL (Vat) [CR]",58.12,67.430000000000007,50.09,59.34,66.8,66.52,55.71,null,69,10,24,38,10,23.5,52,null,12.8,5.49]
["BREWERS GRAINS [CR]",61.86,77.62,76.11,72.53,0,63.17,78.12,null,9,6,15,10,4,13,16.899999999999999,null,4.4639999999999995,5.55]
["CAMELINA MEAL [CR]",91.41,94.61,90.1,84.91,91.23,95.37,89.31,null,15.4,6.1,12.7,13,4.2,26.200000000000003,16.100000000000001,null,5.4239999999999995,5.54]
["CANOLA MEAL [CR]",78.8,88.79,80.599999999999994,77.75,83.1,88.46,83.15,null,20.2,7.7,17.399999999999999,15,4.6000000000000005,23,19.399999999999999,null,6.08,5.53]
["CASEIN [CR]",92.79,93.81,92.87,92.76,91.14,95.65,93.72,null,70,27,30,38,10,34,68,null,12.8,6.15]
["CORN [CR]",82.67,92.08,87.54,83.95,81.36,90.98,88.27,null,2.4,1.7999999999999998,3.5999999999999996,2.9,0.70000000000000007,4,4.2,null,1.2,5.68]
["Corn DDGS [CR]",70,85.7,80.2,71.92,76.23,79.489999999999995,80.040000000000006,null,8,5.0999999999999996,11.299999999999999,9.2000000000000011,2,11,13.3,null,4.32,5.74]
["CORN GLUTEN FEED [CR]",70.23,83.92,72.84,75.2,0,88.1,81.73,null,6,5,11,9,1,10,10.4,null,3.36,5.59]
["CORN GLUTEN MEAL [CR]",88.13,95.81,91.71,91.3,84.85,94.5,94.15,null,10,19,29,20,3,19,27,null,9.6,5.5]
["COTTONSEED MEAL [CR]",62.81,71.89,71.400000000000006,67.16,80.260000000000005,85.29,76.290000000000006,null,17,5.0999999999999996,11.299999999999999,13.4,5.2,46.6,18.2,null,6.56,5.52]
["FEATHER MEAL [CR]",65.61,74.31,62.98,73.540000000000006,81.849999999999994,83.38,82.28,null,20.5,6.5,46.5,38,5,57.5,57.5,null,13.6,5.49]
["FISH MEAL, Menhaden [CR]",90.21,92.86,89.08,91.19,88.34,92.57,92.37,null,47,17,22,27.5,5,36.5,28,null,9.92,5.5]
["MEAT & BONE MEAL (High Quality) [CR]",83.46,87.66,80.91,82.17,79.069999999999993,86.21,84.85,null,26,6.7,10,17,2.6,33.5,22.5,null,8,5.37]
["MEAT & BONE MEAL (Low Quality) [CR]",76.95,81.12,75.73,77.430000000000007,79.67,82,78.989999999999995,null,22,5.3000000000000007,7.9,15.8,1.7999999999999998,27,24,null,7.2,5.37]
["OAT GROATS [CR]",79.760000000000005,89.57,85.82,83.18,0,91.89,87.88,null,4.5,2,4.6000000000000005,5,1.7999999999999998,9,6.5,null,2.56,5.63]
["OATS [CR]",86.66,85.92,84.44,83.05,78,93.16,86.52,null,4,2,4.0999999999999996,2.8000000000000003,1.7999999999999998,8,6.2,null,1.68,5.52]
["PEANUT MEAL [CR]",77.77,85.34,81.08,83.16,80.56,89.15,88.74,null,15.2,5,11,11.200000000000001,4.2,47.599999999999994,18,null,7.52,5.52]
["POULTRY BY-PROD, feed grade [CR]",76.44,82.78,72.239999999999995,77.010000000000005,77.3,86.26,81.510000000000005,null,22.5,9.1,18.100000000000001,18.799999999999997,5,35,23.2,null,8.48,5.45]
["RAPESEED MEAL  [CR]",79.150000000000006,93.39,81.72,78.86,80.37,85.43,83.69,null,21.200000000000003,6.7,12.1,16,4.6000000000000005,20.399999999999999,18.100000000000001,null,5.76,5.35]
["RICE (Rough) [CR]",79.650000000000006,89.58,87.32,81.66,90.8,92.36,87.16,null,2.4,1.4000000000000001,2.2000000000000002,2.7,1.2,5.8999999999999995,4.6000000000000005,null,1.1679999999999999,5.37]
["SOYBEAN MEAL (44% CP) [CR]",89.15,89.35,83.77,82.48,84.5,90.02,86.52,null,27,6.5,17.3,17,6,34,24,null,7.04,5.52]
["SOYBEAN MEAL (48% CP) [CR]",90.8,92.21,87.98,88.48,88.57,92.83,90.89,null,30.2,7,14.1,20,7,36,27,null,7.6479999999999997,5.64]
["SOYBEANS (Full Fat) [CR]",87.84,86.19,81.489999999999995,84.18,87.57,89.87,85.34,null,24,5.4,10.9,16.899999999999999,5.2,28,20.2,null,6.08,5.53]
["SESAMESEED MEAL [CR]",85,41.6,41.6,8.1999999999999993,0,48,37.1,null,13,12,17.899999999999999,16.5,8,49,24.1,null,7.0079999999999991,5.52]
["SORGHUM [CR]",72.930000000000007,84.87,80.040000000000006,76.59,79.13,80.11,82.37,null,2.7,1,3.0000000000000004,2.7,0.89999999999999991,4,5.3000000000000007,null,1.76,5.93]
["SUNFLOWER MEAL [CR]",80.37,91.15,86,83.72,0,93.07,85.75,null,17,15,22,15,5,35,23,null,6.72,5.54]
["TRITICALE [CR]",91.53,90.23,84.02,89.18,89.3,86.78,88.42,null,3.9000000000000004,2.6,5.2,3.5999999999999996,1.4000000000000001,4.8,5.0999999999999996,null,2,5.56]
["WHEAT, hard, grain [CR]",81.760000000000005,87.94,88.08,83.09,88.36,87.43,86.4,null,4,2.5,5.5,3.5,1.7999999999999998,6,6.8999999999999995,null,2.16,5.49]
["WHEAT BRAN [CR]",74.94,78.290000000000006,76.03,74.349999999999994,82.29,84.43,76.180000000000007,null,6,2,5,4.8,3,10.700000000000001,7,null,2.3680000000000003,5.2]
["WHEAT MIDDLINGS [CR]",79.41,79.86,81.2,77.87,83.92,86.51,79.489999999999995,null,7,1.2,3.1,5,2,10,8,null,2.4,5.62]
["WHEAT SHORTS [CR]",81.28,80.069999999999993,74.540000000000006,78.77,84.73,87.14,81.78,null,7.8000000000000007,1.7999999999999998,4.3,5,2.3000000000000003,9.5,7.7,null,2.56,5.63]
[null,null,null,null,null,null,null,null,null,0,0,0,0,0,0,0]
["BARLEY [SID]",88,88,89,85,85,85,85,null,5.3000000000000007,1.7999999999999998,4.3,3.5999999999999996,1.7000000000000002,5,6.2,null,1.84,5.72]
["BLOOD MEAL CP <80% [SID]",86,91,83,88,85,87,88,null,69,10,24,38,10,23.5,52,null,12.8,5.49]
["BLOOD MEAL CP >80% [SID]",86,91,83,88,85,87,88,null,88.5,7.5,16.100000000000001,39,13,38,86,null,14.224,5.49]
["BREWERS GRAINS. DRIED [SID]",62,77,76,63,67,63,78,null,9,6,15,10,4,13,16.899999999999999,null,4.4639999999999995,5.55]
["CASEIN [SID]",97,99,95,98,95,97,98,null,70,27,30,38,10,34,68,null,12.8,6.15]
["CORN [SID]",92,94,90,85,81,93,92,null,2.4,1.7999999999999998,3.5999999999999996,2.9,0.70000000000000007,4,4.2,null,1.2,5.68]
["Corn DDGS [SID]",75,86,82,72,80,73,81,null,8,5.0999999999999996,11.299999999999999,9.2000000000000011,2,11,13.3,null,4.32,5.74]
["CORN GLUTEN FEED [SID]",72,85,75,76,86,88,84,null,6,5,11,9,1,10,10.4,null,3.36,5.59]
["CORN GLUTEN MEAL. CP 60% [SID]",76,88,83,79,66,86,85,null,10,19,29,20,3,19,27,null,9.6,5.5]
["COTTONSEED MEAL",65,72,73,68,80,88,74,null,17,5.0999999999999996,11.299999999999999,13.4,5.2,46.6,18.2,null,6.56,5.52]
["FEATHER MEAL [SID]",57,61,51,53,46,68,67,null,20.5,6.5,46.5,38,5,57.5,57.5,null,13.6,5.49]
["FISH MEAL, Menhaden [SID]",86,86,82,80,78,82,83,null,47,17,22,27.5,5,36.5,28,null,9.92,5.5]
["MEAT & BONE MEAL. CP<45% [SID]",69,72,62,62,53,77,70,null,22,5.3000000000000007,7.9,15.8,1.7999999999999998,27,24,null,7.2,5.37]
["MEAT & BONE MEAL. CP>50% [SID]",69,72,62,62,53,77,70,null,26,6.7,10,17,2.6,33.5,22.5,null,8,5.37]
["MEAT MEAL [SID]",84,85,72,80,79,85,84,null,30,7.5,14.1,17.399999999999999,3.5999999999999996,37,23,null,8.7040000000000006,5.51]
["OATS [SID]",87,87,85,84,80,94,88,null,4,2,4.0999999999999996,2.8000000000000003,1.7999999999999998,8,6.2,null,1.68,5.52]
["PEANUT MEAL [SID]",76,86,82,85,87,91,89,null,15.2,5,11,11.200000000000001,5,47.599999999999994,18,null,7.52,5.52]
["POULTRY BY-PRODUCT MEAL [SID]",80,83,75,77,78,84,79,null,24.72,7.5,0,16.279999999999998,3.92,31.6,23.18,null,8.8000000000000007,5.45]
["RAPESEED MEAL  [SID]",80,84,80,73,80,87,79,null,21.200000000000003,6.7,12.1,16,4.6000000000000005,20.399999999999999,18.100000000000001,null,5.76,5.35]
["RICE [SID]",80,87,86,81,86,91,85,null,2.4,1.4000000000000001,2.2000000000000002,2.7,1.2,5.8999999999999995,4.6000000000000005,null,1.1679999999999999,5.37]
["RICE BRAN [SID]",74,77,72,69,79,86,75,null,5.8999999999999995,2,3,4.8,1.5,8.9,7.5,null,2.0640000000000001,5.67]
["SOYBEAN MEAL (44% CP) [SID]",90,91,86,85,89,93,88,null,27,6.5,13.200000000000001,17,6,34,24,null,7.04,5.64]
["SOYBEAN MEAL (48% CP) [SID]",90,91,86,85,89,93,88,null,30.2,7,14.1,20,7,36,27,null,7.6479999999999997,5.64]
["SOYBEANS (Full Fat) [SID]",87,88,83,82,86,90,85,null,24,6.4,13,18.799999999999997,6.2,28,20.2,null,6.08,5.53]
["SUNFLOWER  MEAL [SID]",87,92,87,82,87,93,87,null,17,15,22,15,5,35,23,null,6.72,5.54]
["TRITICALE [SID]",85,90,88,87,86,83,87,null,3.9000000000000004,2.2000000000000002,5.2,3.5999999999999996,1.4000000000000001,4.8,5.0999999999999996,null,2,5.56]
["WHEAT [SID]",86,91,91,87,86,85,90,null,4,2.5,5.5,3.5,1.7999999999999998,6,6.8999999999999995,null,2.16,5.49]
["WHEAT BRAN [SID]",73,80,76,74,82,82,77,null,6,2,5,4.8,3,10.700000000000001,7,null,2.3680000000000003,5.2]
["WHEAT MIDDLINGS [SID]",80,83,78,73,79,80,77,null,7,1.2,3.1,5,2,10,8,null,2.4,5.62]
[]
["BIOLYS®",null,null,null,null,null,null,null,null,null,null,null,null,null,null,null,null,12,{"$f":"R68/R71*S71","v":3.6777301927194861}]
["DL-METHIONINE",null,null,null,null,null,null,null,null,null,null,null,null,null,null,null,null,9.2959999999999994,6.25]
["METHIONINE MHA",null,null,null,null,null,null,null,null,null,null,null,null,null,null,null,null,7.8879999999999999,9.3699999999999992]
["L-LYSINE HCL",null,null,null,null,null,null,null,null,null,null,null,null,null,null,null,null,14.944000000000001,4.58]
["L-THREONINE",null,null,null,null,null,null,null,null,null,null,null,null,null,null,null,null,11.584000000000001,7.22]
["L-TRYPTOPHAN",null,null,null,null,null,null,null,null,null,null,null,null,null,null,null,null,13.44,6.65]
["L-VALINE",null,null,null,null,null,null,null,null,null,null,null,null,null,null,null,null,11.540799999999999,7.08]
[]
[]
[]
[]
[{"$f":"Ingredients!B149","v":"FAT, VEGETABLE"},null,null,null,null,null,null,null,null,null,null,null,null,null,null,null,null,13.44,6.25]
[{"$f":"Ingredients!B150","v":"DICAL. PHOS."},null,null,null,null,null,null,null,null,null,null,null,null,null,null,null,null,11.540799999999999,6.25]

{"sheet":"Feed Spec","index":7,"n_rows":68,"n_cols":47,"rows_kept":68,"cut":false,"hidden":false,"merged":[[4,9,4,10],[0,7,0,9],[3,2,5,5],[0,10,0,12]]}
[null,"UffdAu 3.0",null,null,null,null,null,{"$f":"NOW()","v":"2024-01-15T14:00:06.910"},null,null,"Instructions",null,null,null,null,{"$f":"C4","v":"Broiler Starter, 0 to 10 Days"},null,null,null,null,null,null,null,null,null,"Broiler Starter, 0 to 10 Days","Broiler Grower, 11 to 24 Days","Broiler Grower, 25 Days to Mkt.","Pullet Starter","Pullet Grower","Pullet Pre-Lay","Turkey Starter (Standard)","Turkey Starter (HD)","Turkey Grower (Standard)","Turkey Grower (HD)","Turkey Finisher (Standard)","Turkey Finisher (HD)","Layer Phase 1 (105g)","Layer Phase 1 (120g)","Layer Phase 3 (105g)","Layer Phase 3 (120g)","Broiler Breeder Starter","Broiler Breeder Grower","Broiler Breeder Developer","Broiler Breeder Layer I","Broiler Breeder Layer II","Broiler Breeder Roosters"]
[null,null,null,null,null,null,null,null,null,null,null,null,null,null,{"$f":"B10","v":"Wheat"},{"$f":"E10","v":51.338791999282812},null,null,null,null,null,null,null,null,null,48.908986502549581,54.882927167371548,60.90680111278175,63.094066532823753,67.318593594453418,68.935827800620771,16.097456940063104,5.8245832072333741,28.356711135574582,18.873786641330778,56.473136795129676,41.761899464416231,58.378442945371191,69.676799728640646,62.785041588826459,72.242841522882031,65.444736199805178,70.870959241953074,73.536718778224269,72.622363507506094,73.580175267568592,74.449401011059123]
[null,null,null,null,null,null,null,null,null,null,null,null,null,null,{"$f":"B11","v":"Soybean Meal (local)"},{"$f":"E11","v":40.158965948782452},null,null,null,null,null,null,null,null,null,42.404877298137826,36.586856921493698,30.75638104969471,31.447316148118901,24.210875401800134,21.334402815050503,67.035359448133804,76.250398854235684,56.310875080193036,64.834254324999421,33.420357592677959,41.714601162096649,26.688237746757885,18.429200983613558,22.126752314339303,14.821442170966755,28.387893398252167,15.905567837320982,16.477146044386906,16.705225343605946,15.229773523727706,11.303353615685417]
[null,null,{"$f":"Formulate!D4","v":"Broiler Starter, 0 to 10 Days"},null,null,null,null,null,null,null,null,null,null,null,"Meat and Bone Meal",2,null,null,null,null,null,null,null,null,null,2,2,2,2,2,2,2,2,2,2,2,2,2,2,2,2,2,2,2,2,2,2]
[null,"Feed Name:",null,null,null,null,null,"Feed Cost:  ",null,{"$f":"Formulate!I1","v":707.29101244876767},null,null,null,null,"Mixed Recycled Vegetable Oil",2.8119828986218978,null,null,null,null,null,null,null,null,null,3.088036037740209,3.7415016914029193,3.6457618173003725,0.17576980397327102,0,0,9.4136472155065007,10.477337968972087,8.8416978177104255,9.8331224179507917,4.4368101142401457,10.911829426117578,2.2299606542459962,0.47447998655818857,1.3656122727155999,0,0,0,0,0.26891882311734649,0.34864051577860167,0]
[null,null,null,null,null,null,null,null,null,null,null,null,null,null,"Salt",0.4,null,null,null,null,null,null,null,null,null,0.4,0.4,0.4,0.4,0.4,0.4,0.4,0.4,0.4,0.4,0.4,0.4,0.4,0.4,0.4,0.4,0.4,0.4,0.4,0.4,0.4,0.4]
[null,null,null,null,null,null,null,null,null,null,null,null,null,null,"Vitamin Premix",0.05,null,null,null,null,null,null,null,null,null,0.05,0.05,0.05,0.05,0.05,0.05,0.05,0.05,0.05,0.05,0.05,0.05,0.05,0.05,0.05,0.05,0.05,0.05,0.05,0.05,0.05,0.05]
[null,{"$f":"Formulate!B6","v":"Ingredient"},{"$f":"Formulate!C6","v":"Cost"},{"$f":"Formulate!D6","v":"Min."},{"$f":"Formulate!E6","v":"Amount"},{"$f":"Formulate!F6","v":"Max."},null,{"$f":"Formulate!H6","v":"Nutrient"},{"$f":"Formulate!L6","v":"Units"},"Min.","Amount","Max.",null,null,"Trace Mineral Premix",7.4999999999999997E-2,null,null,null,null,null,null,null,null,null,7.4999999999999997E-2,7.4999999999999997E-2,7.4999999999999997E-2,7.4999999999999997E-2,7.4999999999999997E-2,7.4999999999999997E-2,7.4999999999999997E-2,7.4999999999999997E-2,7.4999999999999997E-2,7.4999999999999997E-2,7.4999999999999997E-2,7.4999999999999997E-2,7.4999999999999997E-2,7.4999999999999997E-2,7.4999999999999997E-2,7.4999999999999997E-2,7.4999999999999997E-2,7.4999999999999997E-2,7.4999999999999997E-2,7.4999999999999997E-2,7.4999999999999997E-2,7.4999999999999997E-2]
[null,null,{"$f":"Formulate!C7","v":"$/Ton"},{"$f":"Formulate!D7","v":"%"},{"$f":"Formulate!E7","v":"%"},{"$f":"Formulate!F7","v":"%"},null,null,null,null,null,null,null,null,"Limestone, Fine",0.59542164173029721,null,null,null,null,null,null,null,null,null,0.59768168479605543,0.34195904445971131,0.2802365867448689,0.89294044072102197,4.2304809661788196,5.255349680312734,1.1395789919246979,1.1486211144491945,0.9556027030956753,0.96398052478372864,0.71857828333369766,0.72255669063779437,8.6851533116765349,7.5884156647243799,9.8448225431226817,9.1820658681539147,1.7799359736835756,9.0718633668194233,5.8187654790874515,6.2401349118679601,6.9028258023823934,10.012529523179122]
[null,{"$f":"Formulate!B8","v":"Wheat"},{"$f":"Formulate!C8","v":380},{"$f":"Formulate!D8","v":0},{"$f":"Formulate!E8","v":51.338791999282812},{"$f":"Formulate!F8","v":100},null,{"$f":"Formulate!H8","v":"Dry Matter"},{"$f":"Formulate!L8","v":"%"},{"$f":"Formulate!I8","v":0},{"$f":"Formulate!J8","v":902.57752668327794},{"$f":"Formulate!K8","v":1000},null,null,"Dicalcium Phosphate",1.6502691443495159,null,null,null,null,null,null,null,null,null,1.6306605846801148,1.2254723585694136,0.93454676104770584,1.4321879298301801,1.3941156122680864,1.7103488110824985,2.9236216941102344,2.8442639787509894,2.2148803547339564,2.1414107435386498,1.7168986163554749,1.6652315139871101,1.2236936873682087,1.0015423654596673,1.0368582067833452,0.86644736617730378,1.4623677530805528,1.4291302180090917,1.4122644499080244,1.4126871845696727,1.1993062352537502,1.4743757095169769]
[null,{"$f":"Formulate!B9","v":"Soybean Meal (local)"},{"$f":"Formulate!C9","v":875},{"$f":"Formulate!D9","v":0},{"$f":"Formulate!E9","v":40.158965948782452},{"$f":"Formulate!F9","v":100},null,{"$f":"Formulate!H9","v":"AMEn"},{"$f":"Formulate!L9","v":"MJ/Kg"},{"$f":"Formulate!I9","v":12.4},{"$f":"Formulate!J9","v":12.39999999999994},{"$f":"Formulate!K9","v":100},null,null,"DL-Methionine",0.43868992984610145,null,null,null,null,null,null,null,null,null,0.42398440472549609,0.38147601929605701,0.42056469507576788,0.25354943596414792,0.20026823350448189,0.18308911692930593,0.42809344314697972,0.48702640888791793,0.3843247701999144,0.42529253666780126,0.27871058718447222,0.31804877570768392,0.2449779981863433,0.19962583018227983,0.23572663776834935,0.19693248748373135,0.20523529036547669,0.12401268442930954,0.13770816971765562,0.13782742716086077,0.12731777539160674,0.12306680809444785]
[null,{"$f":"Formulate!B10","v":"Meat and Bone Meal"},{"$f":"Formulate!C10","v":800},{"$f":"Formulate!D10","v":0},{"$f":"Formulate!E10","v":2},{"$f":"Formulate!F10","v":2},null,{"$f":"Formulate!H10","v":"Metabolisable Energy"},{"$f":"Formulate!L10","v":"MJ/Kg"},{"$f":"Formulate!I10","v":0},{"$f":"Formulate!J10","v":14.423075748072797},{"$f":"Formulate!K10","v":100},null,null,"L-LysineHCl",0.28587904269640713,null,null,null,null,null,null,null,null,null,0.24996323336584214,0.2226383004374656,0.37500935360247145,0.12986973681431199,8.5632815498486128E-2,3.686532167548854E-2,0.18074931687062695,0.17306506356853765,0.16243415623319082,0.13412667008973289,0.20811980242160066,0.1517253580747964,0,6.862411080410509E-2,4.576746498752695E-2,0.11528229941478725,0.10981028461121671,3.6460983392974093E-2,4.9732547675360339E-2,4.5908977128948175E-2,4.7790144968512457E-2,3.2232108292798531E-2]
[null,{"$f":"Formulate!B11","v":"Mixed Recycled Vegetable Oil"},{"$f":"Formulate!C11","v":1240},{"$f":"Formulate!D11","v":0},{"$f":"Formulate!E11","v":2.8119828986218978},{"$f":"Formulate!F11","v":100},null,{"$f":"Formulate!H11","v":"Net Energy"},{"$f":"Formulate!L11","v":"MJ/Kg"},{"$f":"Formulate!I11","v":0},{"$f":"Formulate!J11","v":8.0326855202318868},{"$f":"Formulate!K11","v":100},null,null,"L-Threonine",0.19499939468909575,null,null,null,null,null,null,null,null,null,0.1708102540045186,9.2168496968784944E-2,0.15569862375191731,4.9299971753950469E-2,3.5033376296052667E-2,1.9116454328206405E-2,0.25649295024394969,0.26970340390216174,0.24847398225892334,0.2690261406388636,0.22238820865655748,0.22910760896182886,2.4533656393406805E-2,3.6311330016687807E-2,3.4418971456266212E-2,4.8167632764763831E-2,8.4730595206198522E-2,3.700566807460684E-2,4.2664530999803198E-2,4.1933825042652979E-2,3.9170734928291852E-2,8.0041224171605682E-2]
[null,{"$f":"Formulate!B12","v":"Salt"},{"$f":"Formulate!C12","v":117},{"$f":"Formulate!D12","v":0.4},{"$f":"Formulate!E12","v":0.4},{"$f":"Formulate!F12","v":0.4},null,{"$f":"Formulate!H12","v":"Crude Protein"},{"$f":"Formulate!L12","v":"g/Kg"},{"$f":"Formulate!I12","v":230},{"$f":"Formulate!J12","v":230.00000000000048},{"$f":"Formulate!K12","v":1000},null,null,"L-Tryptophan ",0,null,null,null,null,null,null,null,null,null,0,0,0,0,0,0,0,0,0,0,0,0,0,0,0,1.8206521562405414E-3,2.9050499518423539E-4,0,0,0,0,0]
[null,{"$f":"Formulate!B13","v":"Vitamin Premix"},{"$f":"Formulate!C13","v":7200},{"$f":"Formulate!D13","v":0.05},{"$f":"Formulate!E13","v":0.05},{"$f":"Formulate!F13","v":0.05},null,{"$f":"Formulate!H13","v":"True Protein"},{"$f":"Formulate!L13","v":"g/Kg"},{"$f":"Formulate!I13","v":0},{"$f":"Formulate!J13","v":207.40476952380865},{"$f":"Formulate!K13","v":1000},null,null,0,0,null,null,null,null,null,null,null,null,null,0,0,0,0,0,0,0,0,0,0,0,0,0,0,0,0,0,0,0,0,0,0]
[null,{"$f":"Formulate!B14","v":"Trace Mineral Premix"},{"$f":"Formulate!C14","v":2120},{"$f":"Formulate!D14","v":7.4999999999999997E-2},{"$f":"Formulate!E14","v":7.4999999999999997E-2},{"$f":"Formulate!F14","v":7.4999999999999997E-2},null,{"$f":"Formulate!H14","v":"Lipids"},{"$f":"Formulate!L14","v":"g/Kg"},{"$f":"Formulate!I14","v":0},{"$f":"Formulate!J14","v":20.644255126007863},{"$f":"Formulate!K14","v":1000},null,null,0,0,null,null,null,null,null,null,null,null,null,0,0,0,0,0,0,0,0,0,0,0,0,0,0,0,0,0,0,0,0,0,0]
[null,{"$f":"Formulate!B15","v":"Limestone, Fine"},{"$f":"Formulate!C15","v":104},{"$f":"Formulate!D15","v":0},{"$f":"Formulate!E15","v":0.59542164173029721},{"$f":"Formulate!F15","v":100},null,{"$f":"Formulate!H15","v":"Crude Fibre"},{"$f":"Formulate!L15","v":"g/Kg"},{"$f":"Formulate!I15","v":0},{"$f":"Formulate!J15","v":21.716555677755082},{"$f":"Formulate!K15","v":1000},null,null,0,0,null,null,null,null,null,null,null,null,null,0,0,0,0,0,0,0,0,0,0,0,0,0,0,0,0,0,0,0,0,0,0]
[null,{"$f":"Formulate!B16","v":"Dicalcium Phosphate"},{"$f":"Formulate!C16","v":1920},{"$f":"Formulate!D16","v":0},{"$f":"Formulate!E16","v":1.6502691443495159},{"$f":"Formulate!F16","v":100},null,{"$f":"Formulate!H16","v":"Calcium"},{"$f":"Formulate!L16","v":"g/Kg"},{"$f":"Formulate!I16","v":9.5},{"$f":"Formulate!J16","v":9.4999999999999361},{"$f":"Formulate!K16","v":1000},null,null,0,0,null,null,null,null,null,null,null,null,null,0,0,0,0,0,0,0,0,0,0,0,0,0,0,0,0,0,0,0,0,0,0]
[null,{"$f":"Formulate!B17","v":"DL-Methionine"},{"$f":"Formulate!C17","v":9600},{"$f":"Formulate!D17","v":0},{"$f":"Formulate!E17","v":0.43868992984610145},{"$f":"Formulate!F17","v":100},null,{"$f":"Formulate!H17","v":"Total Phosphorous"},{"$f":"Formulate!L17","v":"g/Kg"},{"$f":"Formulate!I17","v":0},{"$f":"Formulate!J17","v":7.4398767141919233},{"$f":"Formulate!K17","v":100},null,null,0,0,null,null,null,null,null,null,null,null,null,0,0,0,0,0,0,0,0,0,0,0,0,0,0,0,0,0,0,0,0,0,0]
[null,{"$f":"Formulate!B18","v":"L-LysineHCl"},{"$f":"Formulate!C18","v":5400},{"$f":"Formulate!D18","v":0},{"$f":"Formulate!E18","v":0.28587904269640713},{"$f":"Formulate!F18","v":100},null,{"$f":"Formulate!H18","v":"Available Phosphorous"},{"$f":"Formulate!L18","v":"g/Kg"},{"$f":"Formulate!I18","v":5},{"$f":"Formulate!J18","v":4.9999999999999263},{"$f":"Formulate!K18","v":100},null,null,0,0,null,null,null,null,null,null,null,null,null,0,0,0,0,0,0,0,0,0,0,0,0,0,0,0,0,0,0,0,0,0,0]
[null,{"$f":"Formulate!B19","v":"L-Threonine"},{"$f":"Formulate!C19","v":7400},{"$f":"Formulate!D19","v":0},{"$f":"Formulate!E19","v":0.19499939468909575},{"$f":"Formulate!F19","v":100},null,{"$f":"Formulate!H19","v":"Ca:aP"},{"$f":"Formulate!L19","v":"g/Kg"},{"$f":"Formulate!I19","v":-100},{"$f":"Formulate!J19","v":0.24999999999995737},{"$f":"Formulate!K19","v":100},null,null,0,0,null,null,null,null,null,null,null,null,null,0,0,0,0,0,0,0,0,0,0,0,0,0,0,0,0,0,0,0,0,0,0]
[null,{"$f":"Formulate!B20","v":"L-Tryptophan "},{"$f":"Formulate!C20","v":30000},{"$f":"Formulate!D20","v":0},{"$f":"Formulate!E20","v":0},{"$f":"Formulate!F20","v":100},null,{"$f":"Formulate!H20","v":"Na"},{"$f":"Formulate!L20","v":"mg/g"},{"$f":"Formulate!I20","v":1.8},{"$f":"Formulate!J20","v":1.8599819056640483},{"$f":"Formulate!K20","v":100},null,null,0,0,null,null,null,null,null,null,null,null,null,0,0,0,0,0,0,0,0,0,0,0,0,0,0,0,0,0,0,0,0,0,0]
[null,{"$f":"Formulate!B21","v":0},{"$f":"Formulate!C21","v":0},{"$f":"Formulate!D21","v":0},{"$f":"Formulate!E21","v":0},{"$f":"Formulate!F21","v":0},null,{"$f":"Formulate!H21","v":"Cl"},{"$f":"Formulate!L21","v":"mg/Kg"},{"$f":"Formulate!I21","v":1.8},{"$f":"Formulate!J21","v":3.7865536503518955},{"$f":"Formulate!K21","v":100},null,null,0,0,null,null,null,null,null,null,null,null,null,0,0,0,0,0,0,0,0,0,0,0,0,0,0,0,0,0,0,0,0,0,0]
[null,{"$f":"Formulate!B22","v":0},{"$f":"Formulate!C22","v":0},{"$f":"Formulate!D22","v":0},{"$f":"Formulate!E22","v":0},{"$f":"Formulate!F22","v":0},null,{"$f":"Formulate!H22","v":"Choline"},{"$f":"Formulate!L22","v":"mg/Kg"},{"$f":"Formulate!I22","v":1700},{"$f":"Formulate!J22","v":1840.7631167527145},{"$f":"Formulate!K22","v":10000},null,null,0,0,null,null,null,null,null,null,null,null,null,0,0,0,0,0,0,0,0,0,0,0,0,0,0,0,0,0,0,0,0,0,0]
[null,{"$f":"Formulate!B23","v":0},{"$f":"Formulate!C23","v":0},{"$f":"Formulate!D23","v":0},{"$f":"Formulate!E23","v":0},{"$f":"Formulate!F23","v":0},null,{"$f":"Formulate!H23","v":"Betaine"},{"$f":"Formulate!L23","v":"mg/Kg"},{"$f":"Formulate!I23","v":0},{"$f":"Formulate!J23","v":1570.9670351780542},{"$f":"Formulate!K23","v":10000},null,null,0,0,null,null,null,null,null,null,null,null,null,0,0,0,0,0,0,0,0,0,0,0,0,0,0,0,0,0,0,0,0,0,0]
[null,{"$f":"Formulate!B24","v":0},{"$f":"Formulate!C24","v":0},{"$f":"Formulate!D24","v":0},{"$f":"Formulate!E24","v":0},{"$f":"Formulate!F24","v":0},null,{"$f":"Formulate!H24","v":"dLYS"},{"$f":"Formulate!L24","v":"g/Kg"},{"$f":"Formulate!I24","v":0},{"$f":"Formulate!J24","v":13.025019526095198},{"$f":"Formulate!K24","v":1000},null,null,0,0,null,null,null,null,null,null,null,null,null,0,0,0,0,0,0,0,0,0,0,0,0,0,0,0,0,0,0,0,0,0,0]
[null,{"$f":"Formulate!B25","v":0},{"$f":"Formulate!C25","v":0},{"$f":"Formulate!D25","v":0},{"$f":"Formulate!E25","v":0},{"$f":"Formulate!F25","v":0},null,{"$f":"Formulate!H25","v":"dMET"},{"$f":"Formulate!L25","v":"g/Kg"},{"$f":"Formulate!I25","v":5.5},{"$f":"Formulate!J25","v":7.1365577919441847},{"$f":"Formulate!K25","v":1000},null,null,{"$f":"H10","v":"Dry Matter"},{"$f":"K10","v":902.57752668327794},null,null,null,null,null,null,null,null,null,902.29383405390206,903.2241674301971,904.17101344778496,901.72836680182013,905.69913282488369,907.32839831527497,904.34410669585657,903.45595787822742,905.08722689069964,904.24975948698614,905.14956829170649,908.77503001196112,910.68195233253471,909.71901096851752,911.72281696540108,911.32248590545078,902.92794555661328,911.36118724175856,908.46936169278911,909.00292028291722,909.72328461775965,913.11963087118113]
[null,{"$f":"Formulate!B26","v":0},{"$f":"Formulate!C26","v":0},{"$f":"Formulate!D26","v":0},{"$f":"Formulate!E26","v":0},{"$f":"Formulate!F26","v":0},null,{"$f":"Formulate!H26","v":"dTSAA"},{"$f":"Formulate!L26","v":"g/Kg"},{"$f":"Formulate!I26","v":10},{"$f":"Formulate!J26","v":9.9999999999998579},{"$f":"Formulate!K26","v":1000},null,null,"AMEn",{"$f":"K11","v":12.39999999999994},null,null,null,null,null,null,null,null,null,12.399999999999944,12.799999999999949,12.999999999999948,11.999999999999938,11.71999999999994,11.619999999999944,12.929850220264278,12.929850220264276,13.215541850220196,13.215541850220193,12.929850220264266,14.210854625550608,11.599999999999945,11.59999999999995,11.399999999999947,11.399999999999952,11.91999999999995,11.29999999999994,11.719999999999947,11.719999999999949,11.719999999999946,11.299999999999953]
[null,{"$f":"Formulate!B27","v":0},{"$f":"Formulate!C27","v":0},{"$f":"Formulate!D27","v":0},{"$f":"Formulate!E27","v":0},{"$f":"Formulate!F27","v":0},null,{"$f":"Formulate!H27","v":"dTHR"},{"$f":"Formulate!L27","v":"g/Kg"},{"$f":"Formulate!I27","v":8.8000000000000007},{"$f":"Formulate!J27","v":8.8000000000002085},{"$f":"Formulate!K27","v":1000},null,null,"Metabolisable Energy",14.423075748072797,null,null,null,null,null,null,null,null,null,14.470530885142924,14.832658010146423,14.908882278466338,13.976656591931983,13.564749374152516,13.418981212907967,15.356835755080825,15.47952304443676,15.518543615888122,15.63778361845022,14.914564686867759,16.359065457885457,13.434321853594465,13.323556213961346,13.141020528166987,13.036092938852555,13.847107845718236,12.977486969976018,13.451352710706754,13.450516052975711,13.425886348085621,12.891856470997624]
[null,{"$f":"Formulate!B28","v":0},{"$f":"Formulate!C28","v":0},{"$f":"Formulate!D28","v":0},{"$f":"Formulate!E28","v":0},{"$f":"Formulate!F28","v":0},null,{"$f":"Formulate!H28","v":"dTRP"},{"$f":"Formulate!L28","v":"g/Kg"},{"$f":"Formulate!I28","v":2.1},{"$f":"Formulate!J28","v":2.4615108534502737},{"$f":"Formulate!K28","v":1000},null,null,"Net Energy",8.0326855202318868,null,null,null,null,null,null,null,null,null,8.015163532124193,8.3805856098547409,8.5584461876039573,7.916226509697748,7.8216383020390268,7.7961555468362249,8.0955215749680853,7.9779534227276674,8.4305916701151062,8.3255298573664351,8.512602796058653,9.3110603964448835,7.7152513517276109,7.8091039352852967,7.624376210048327,7.7056437663978068,7.9025389685367911,7.6447338600936527,7.9260911549923208,7.9241079872931106,7.9432702503532182,7.6956204299504938]
[null,{"$f":"Formulate!B29","v":0},{"$f":"Formulate!C29","v":0},{"$f":"Formulate!D29","v":0},{"$f":"Formulate!E29","v":0},{"$f":"Formulate!F29","v":0},null,{"$f":"Formulate!H29","v":"dARG"},{"$f":"Formulate!L29","v":"g/Kg"},{"$f":"Formulate!I29","v":0},{"$f":"Formulate!J29","v":13.857845007527702},{"$f":"Formulate!K29","v":1000},null,null,"Crude Protein",230.00000000000048,null,null,null,null,null,null,null,null,null,230.0000000000033,212.50000000000298,195.00000000000276,200.0000000000027,175.00000000000227,165.00000000000222,296.50000000000455,323.40000000000498,265.50000000000443,290.40000000000487,201.30000000000288,220.00000000000324,176.00000000000236,154.00000000000202,162.00000000000216,142.00000000000188,190.00000000000261,145.00000000000188,150.00000000000193,150.00000000000193,145.00000000000188,130.00000000000168]
[null,{"$f":"Formulate!B30","v":0},{"$f":"Formulate!C30","v":0},{"$f":"Formulate!D30","v":0},{"$f":"Formulate!E30","v":0},{"$f":"Formulate!F30","v":0},null,{"$f":"Formulate!H30","v":"dVAL"},{"$f":"Formulate!L30","v":"g/Kg"},{"$f":"Formulate!I30","v":0},{"$f":"Formulate!J30","v":9.2579308007331509},{"$f":"Formulate!K30","v":1000},null,null,"True Protein",207.40476952380865,null,null,null,null,null,null,null,null,null,207.41304926793066,191.63683297967412,175.8606432414183,180.37020414251117,157.83046080751592,148.81452488383906,267.3572952849533,291.60701386272569,239.41174659735668,261.8585260341589,181.53886718807189,198.39245327122313,158.72738682656706,138.89644346091802,146.10621570551319,128.07765286276742,171.35465819345012,130.78196216664961,135.29177748761876,135.29129131621784,130.78340268259865,117.25867112445285]
[null,{"$f":"Formulate!B31","v":0},{"$f":"Formulate!C31","v":0},{"$f":"Formulate!D31","v":0},{"$f":"Formulate!E31","v":0},{"$f":"Formulate!F31","v":0},null,{"$f":"Formulate!H31","v":"TP:dLYS"},{"$f":"Formulate!L31","v":"g/g"},{"$f":"Formulate!I31","v":0},{"$f":"Formulate!J31","v":1.2559397966072083E-14},{"$f":"Formulate!K31","v":100},null,null,"Lipids",20.644255126007863,null,null,null,null,null,null,null,null,null,20.863949877458996,21.584944389025548,21.574852641575628,18.671453351612058,18.014886888160184,17.811511995536748,25.407508305521098,26.186154724828519,25.212206209609477,25.943283067801502,22.011575052525011,27.159221347933986,19.022001585500686,17.912120076727529,18.181142344582245,17.286886885911333,18.396018186713782,17.22570369358678,17.806186665150697,17.945066595493209,17.942465174883505,17.079477086038928]
[null,{"$f":"Formulate!B32","v":0},{"$f":"Formulate!C32","v":0},{"$f":"Formulate!D32","v":0},{"$f":"Formulate!E32","v":0},{"$f":"Formulate!F32","v":0},null,{"$f":"Formulate!H32","v":"Total NSP"},{"$f":"Formulate!L32","v":"g/Kg"},{"$f":"Formulate!I32","v":0},{"$f":"Formulate!J32","v":114.21666081395102},{"$f":"Formulate!K32","v":1000},null,null,"Crude Fibre",21.716555677755082,null,null,null,null,null,null,null,null,null,21.876811672992886,21.397937066622077,20.925424458192253,21.558393665661832,20.325191650594419,19.822663859552211,22.408349631119734,23.005562074971614,21.773704250026128,22.329848193608793,20.80693652782249,20.257621947195581,19.256985251879307,19.13763355935578,18.826418485849914,18.614277406093461,21.14931286701772,18.652059788829039,19.345993918818426,19.229495938291109,18.9972409300156,18.045119621853608]
[null,{"$f":"Formulate!B34","v":"TOTAL"},null,null,{"$f":"Formulate!E34","v":99.999999999998593},null,null,{"$f":"Formulate!H33","v":"Soluble NSP"},{"$f":"Formulate!L33","v":"g/Kg"},{"$f":"Formulate!I33","v":0},{"$f":"Formulate!J33","v":22.272596894930633},{"$f":"Formulate!K33","v":1000},null,null,"Calcium",9.4999999999999361,null,null,null,null,null,null,null,null,null,9.5000000000004015,7.5000000000004254,6.5000000000004485,10.000000000000464,22.457895249617252,27.024862642951696,14.900000000000254,14.900000000000212,12.400000000000292,12.400000000000253,10.000000000000426,10.000000000000353,39.000000000000426,34.200000000000472,42.900000000000432,39.879248821645433,13.38505692266693,40.7711950666638,28.397737074205921,30.00000000000049,32.000000000000483,44.367376569800733]
[null,null,null,null,null,null,null,{"$f":"Formulate!H34","v":"Insoluble NSP"},{"$f":"Formulate!L34","v":"g/Kg"},{"$f":"Formulate!I34","v":0},{"$f":"Formulate!J34","v":92.290987364514592},{"$f":"Formulate!K34","v":1000},null,null,"Total Phosphorous",7.4398767141919233,null,null,null,null,null,null,null,null,{"$f":"R36-X36","v":0},7.4809961619606797,6.5681032324028212,5.8557073358347589,6.8267241608032885,6.4225503022828612,6.8401583354078248,10.409349413645494,10.572031445194963,8.8260588711326058,8.9769060472154791,7.2736234857096012,7.3113646478284666,6.0434095415618678,5.4391951221753212,5.5493868180368491,5.046549566665548,6.7516327681267825,6.0624408765249864,6.1382206042787395,6.1291191647460952,5.6894082563035724,5.9503257450523472]
[null,null,null,null,null,null,null,{"$f":"Formulate!H35","v":"Lignin"},{"$f":"Formulate!L35","v":"g/Kg"},{"$f":"Formulate!I35","v":0},{"$f":"Formulate!J35","v":5.2804842309837525},{"$f":"Formulate!K35","v":1000},null,null,"Available Phosphorous",4.9999999999999263,null,null,null,null,null,null,null,null,null,4.9999999999996341,4.1999999999996493,3.5999999999996635,4.4999999999996545,4.299999999999681,4.7999999999996925,7.5999999999995893,7.5999999999995689,6.1999999999996103,6.1999999999995907,4.9999999999996607,4.9999999999996572,3.9999999999996918,3.499999999999706,3.5999999999997048,3.1999999999997186,4.4999999999996634,4.199999999999716,4.1999999999997062,4.1999999999997071,3.7999999999997121,4.1999999999997311]
[null,null,null,null,null,null,null,{"$f":"Formulate!H36","v":"18:2"},{"$f":"Formulate!L36","v":"g/Kg"},{"$f":"Formulate!I36","v":0},{"$f":"Formulate!J36","v":10.829932708228121},{"$f":"Formulate!K36","v":1000},null,null,"Ca:aP",0.24999999999995737,null,null,null,null,null,null,null,null,null,0.40719885030386882,0.36443876933123942,0.32172145818606646,0.33727407947125587,0.2724968435699574,0.24652378446854081,0.56102706819024828,0.625821730202338,0.48671692304087311,0.54671655096535798,0.33515956852018869,0.37371880381902312,0.26757507976397121,0.21706434369998953,0.23304790786257493,0.18643231896306109,0.31192923681665996,0.1934647328192656,0.20942720321808908,0.20864402180678268,0.19578528337376569,0.15549238342950963]
[null,null,null,null,null,null,null,{"$f":"Formulate!H37","v":"Nutrient"},{"$f":"Formulate!L37","v":0},{"$f":"Formulate!I37","v":0},{"$f":"Formulate!J37","v":0},{"$f":"Formulate!K37","v":100},null,null,"Na",1.8599819056640483,null,null,null,null,null,null,null,null,null,1.8595640804143136,1.8600670690696517,1.8606382908698691,1.8658158218735159,1.860645266679958,1.8584778696461619,1.8438367883708309,1.8415740524106752,1.8470191826250606,1.8449604364027752,1.8573374642646345,1.8454203582885755,1.8488664056569926,1.8546753396503783,1.8487597067889787,1.8529290101159819,1.8646506543641541,1.8523675493815093,1.8581989360495945,1.8569494820797536,1.8560696560207621,1.8506914529277583]
[null,null,null,null,null,null,null,{"$f":"Formulate!H38","v":"Nutrient"},{"$f":"Formulate!L38","v":0},{"$f":"Formulate!I38","v":0},{"$f":"Formulate!J38","v":0},{"$f":"Formulate!K38","v":100},null,null,"Cl",3.7865536503518955,null,null,null,null,null,null,null,null,null,3.7171933107958406,3.6610459475028119,3.9537707066972509,3.4995214517049145,3.386615353517489,3.280791149126415,3.5418071213239388,3.5260040359516625,3.5095141180386036,3.4539058006628069,3.6191592902259635,3.4694260498478635,3.1755647130338511,3.3246219764319753,3.2598898850299083,3.4049606776499206,3.4532378552598306,3.2507609328444365,3.3003391609378592,3.2881254683782655,3.2869498548904619,3.231779569748944]
[null,null,null,null,null,null,null,{"$f":"Formulate!H39","v":"Nutrient"},{"$f":"Formulate!L39","v":0},{"$f":"Formulate!I39","v":0},{"$f":"Formulate!J39","v":0},{"$f":"Formulate!K39","v":100},null,null,"Choline",1840.7631167527145,null,null,null,null,null,null,null,null,null,1894.624767225097,1752.2476150801215,1609.895865162372,1652.5560740535982,1446.9677105551755,1364.6954437332156,2430.5144696544567,2648.8139462146237,2179.1565646897438,2381.2389085614113,1659.9902012226823,1807.8938852851079,1450.729146075415,1273.6679026370309,1336.6378974864679,1175.2593180829042,1570.6569229975407,1199.4899069949479,1242.3935370298138,1241.928383126889,1200.8681485259358,1076.6678564753456]
[null,null,null,null,null,null,null,{"$f":"Formulate!H40","v":"Nutrient"},{"$f":"Formulate!L40","v":0},{"$f":"Formulate!I40","v":0},{"$f":"Formulate!J40","v":0},{"$f":"Formulate!K40","v":100},null,null,"Betaine",1570.9670351780542,null,null,null,null,null,null,null,null,null,1496.6149869780172,1679.4175713215695,1863.7481140511215,1930.678435904407,2059.9489639902745,2109.4363306989958,492.58218236593103,178.23224614134125,867.71536074858227,577.53787122472181,1728.0779859309682,1277.9141236111368,1786.3803541283585,2132.1100716964038,1921.2222726180898,2210.6309506001903,2002.6089277140386,2168.651352803764,2250.223594613663,2222.2443233296867,2251.5533631875992,2278.1516709384091]
[null,null,null,null,null,null,null,{"$f":"Formulate!H41","v":"Nutrient"},{"$f":"Formulate!L41","v":0},{"$f":"Formulate!I41","v":0},{"$f":"Formulate!J41","v":0},{"$f":"Formulate!K41","v":100},null,null,"dLYS",13.025019526095198,null,null,null,null,null,null,null,null,null,13.200000000000177,11.800000000000164,11.800000000000153,10.100000000000147,8.2000000000001254,7.2000000000001227,17.500000000000242,19.300000000000264,15.200000000000198,16.70000000000022,11.000000000000153,12.10000000000017,7.8803544692708298,6.80000000000011,7.3000000000001188,6.4000000000001034,9.3000000000001428,6.0000000000001048,6.3000000000001055,6.3000000000001055,6.0000000000001048,5.0000000000000915]
[null,null,null,null,null,null,null,null,null,null,null,null,null,null,"dMET",7.1365577919441847,null,null,null,null,null,null,null,null,null,7.0720582998550992,6.4447928676154351,6.617242459619014,5.0456655564408219,4.2170250966649814,3.9259831169994257,7.9000000000000403,8.8000000000000469,7.1000000000000778,7.8000000000000824,5.3000000000000256,5.9000000000000306,4.6562289258414715,3.9517608593766598,4.3965427937699229,3.7789414682841609,4.4504377647674023,3.1000000000000161,3.3000000000000154,3.3000000000000154,3.1358527936843812,2.9081736896834673]
[null,null,null,null,null,null,null,null,null,null,null,null,null,null,"dTSAA",9.9999999999998579,null,null,null,null,null,null,null,null,null,10.00000000000005,9.2000000000000455,9.2000000000000419,7.7000000000000419,6.6000000000000361,6.2000000000000339,11.426630798965789,12.585927314021081,10.330213823980412,11.270381125105185,7.9319123447786524,8.6689645532953588,7.0000000000000355,6.1000000000000298,6.6000000000000316,5.8000000000000274,7.0000000000000391,5.1486853564627353,5.4229930880838042,5.4177747430812628,5.2000000000000277,4.8000000000000238]
[null,null,null,null,null,null,null,null,null,null,null,null,null,null,"dTHR",8.8000000000002085,null,null,null,null,null,null,null,null,null,8.8000000000000771,7.4000000000000679,7.4000000000000625,6.5000000000000622,5.5000000000000497,5.0000000000000471,12.100000000000112,13.200000000000127,10.90000000000008,12.000000000000096,8.3000000000000664,9.100000000000076,5.5000000000000524,4.8000000000000407,5.1000000000000476,4.5000000000000373,6.5000000000000568,4.5000000000000382,4.7000000000000375,4.7000000000000384,4.5000000000000373,4.4000000000000314]
[null,null,null,null,null,null,null,null,null,null,null,null,null,null,"dTRP",2.4615108534502737,null,null,null,null,null,null,null,null,null,2.5523171410132219,2.314380179849397,2.0762472280784467,2.1289446589937175,1.8059503986008163,1.6770375612770072,3.4961620242718032,3.8661837172630835,3.0680919930622546,3.4105000735020918,2.1708656018125603,2.4578047000079444,1.8532974453403992,1.5393075856583385,1.6644101689307809,1.4,2.0000000000000053,1.4243118487950668,1.4751311665312861,1.478720056396442,1.4136780412935106,1.2264186179906789]
[null,null,null,null,null,null,null,null,null,null,null,null,null,null,"dARG",13.857845007527702,null,null,null,null,null,null,null,null,null,14.371453657112937,13.026903325222413,11.681103056763842,11.967782521217051,10.154876666833605,9.4315310727154973,19.73383368623217,21.827886491102831,17.310083803504369,19.24778993905468,12.222290681469239,13.867497726329328,10.446953992464977,8.661833916231231,9.3806395457892116,7.7781650893099155,11.226077472402983,8.0173650615785945,8.2920667972219118,8.3149550608329061,7.9495476031363062,6.9034948716252682]
[null,null,null,null,null,null,null,null,null,null,null,null,null,null,"dVAL",9.2579308007331509,null,null,null,null,null,null,null,null,null,9.5526890934284783,8.7766143741455807,8.0003276544370898,8.2055301860075751,7.1151494855014086,6.6793053419530182,12.544699146226392,13.742264954223854,11.162818877816767,12.271235240056837,8.2894076208033312,9.1540553997440455,7.196004239128861,6.2042837328284417,6.5767262060188738,5.6786156827761438,7.7665721146737514,5.8131336159073514,6.0163046175024055,6.0201866718007953,5.8016311681670478,5.1544738773643495]
[null,null,null,null,null,null,null,null,null,null,null,null,null,null,"TP:dLYS",1.2559397966072083E-14,null,null,null,null,null,null,null,null,null,-1.1920077174297932,-1.4324895400331898,-1.6746016468464728,-1.7330321860543718,-1.9358700225266912,-2.0146355848838655,5.1925257326372848E-2,0.45717025685159629,-0.42881884797421854,-5.4557914771615229E-2,-1.5134884593725437,-0.98462475586405263,-1.641384392550826,-2.0673882478902654,-1.8216062452297153,-2.1823244826918309,-1.8357438668449781,-2.1297443307320147,-2.2037973444303165,-2.1739443297171368,-2.2181982046954216,-2.2855238894619498]
[null,null,null,null,null,null,null,null,null,null,null,null,null,null,"Total NSP",114.21666081395102,null,null,null,null,null,null,null,null,null,115.05352595276489,112.55007370566534,110.08015634183339,113.41068572227263,106.93997496696224,104.30294865549764,117.77645808873001,120.89253518192449,114.46793002263952,117.36990198633755,109.44811975446405,106.53043554968188,101.30814001452731,100.70511491962228,99.055173323212188,97.960671766380415,111.26623014265159,98.156269336815612,101.80815241448718,101.19407705417835,99.975762109879184,94.974802513579093]
[null,null,null,null,null,null,null,null,null,null,null,null,null,null,"Soluble NSP",22.272596894930633,null,null,null,null,null,null,null,null,null,22.442805960055942,21.936869784412551,21.437385827599453,22.085122894159859,20.805474651529373,20.284237235937649,23.058909839422714,23.695750204974352,22.379356593198764,22.972229423536824,21.324514989490719,20.789070981696248,19.723278100157945,19.576750886285051,19.270388937616374,19.032073103369392,21.658657663277779,19.073866236658855,19.783432782687605,19.665282718726203,19.423942467378566,18.440944166493487]
[null,null,null,null,null,null,null,null,null,null,null,null,null,null,"Insoluble NSP",92.290987364514592,null,null,null,null,null,null,null,null,null,92.940139876686004,90.985735650846834,89.058764983104425,91.756604481504638,86.596845162714004,84.493067530335026,94.812093719336218,97.217401162057286,92.271272064166226,94.512122394400762,88.508035436063267,86.021206636629799,81.9843174301933,81.608638348674106,80.216111348500618,79.42768106101741,90.055779430799305,79.571650971839858,82.532377185911287,82.030026486241198,81.060105853230084,77.049222655629308]
[null,null,null,null,null,null,null,null,null,null,null,null,null,null,"Lignin",5.2804842309837525,null,null,null,null,null,null,null,null,null,5.0528695354901947,5.6108917025875833,6.1737726898400034,6.3932585888907303,6.7710749196919249,6.9151392936177958,1.948565130694857,0.98473437966409172,3.1002290371585199,2.210604758608171,5.7507301020569681,4.3441106980166513,5.902472670514789,6.9726076117218003,6.3126385833533849,7.2063363679868973,6.6086908152275807,7.076834436697137,7.3428808026070262,7.2539083224117187,7.3404580815792393,7.4050852500377333]
[null,null,null,null,null,null,null,null,null,null,null,null,null,null,"18:2",10.829932708228121,null,null,null,null,null,null,null,null,null,11.145705018900346,12.354495910217825,12.442989925935475,7.4465316986247085,7.2063720113743877,7.2106662744244918,19.054474575483205,20.221975192498569,18.719404966854526,19.812170661946084,13.386720404487969,22.26936338102405,9.933565619698431,7.8541165492843872,8.7937181826498367,7.1915264023669625,7.2387480200888081,7.1278826207267567,7.3700611522604476,7.7091399511012808,7.8413613118622347,7.215376663753851]
[null,null,null,null,null,null,null,null,null,null,null,null,null,null,"Nutrient",0,null,null,null,null,null,null,null,null,null,0,0,0,0,0,0,0,0,0,0,0,0,0,0,0,0,0,0,0,0,0,0]
[null,null,null,null,null,null,null,null,null,null,null,null,null,null,"Nutrient",0,null,null,null,null,null,null,null,null,null,0,0,0,0,0,0,0,0,0,0,0,0,0,0,0,0,0,0,0,0,0,0]
[null,null,null,null,null,null,null,null,null,null,null,null,null,null,"Nutrient",0,null,null,null,null,null,null,null,null,null,0,0,0,0,0,0,0,0,0,0,0,0,0,0,0,0,0,0,0,0,0,0]
[null,null,null,null,null,null,null,null,null,null,null,null,null,null,"Nutrient",0,null,null,null,null,null,null,null,null,null,0,0,0,0,0,0,0,0,0,0,0,0,0,0,0,0,0,0,0,0,0,0]
[null,null,null,null,null,null,null,null,null,null,null,null,null,null,"Nutrient",0,null,null,null,null,null,null,null,null,null,0,0,0,0,0,0,0,0,0,0,0,0,0,0,0,0,0,0,0,0,0,0]
[null,null,null,null,null,null,null,null,null,null,null,null,null,null,{"$f":"H5","v":"Feed Cost:  "},{"$f":"J5","v":707.29101244876767},null,null,null,null,null,null,null,null,null,715.61722036615652,676.09208381498365,657.81078278970369,602.18759055145199,546.92292768430377,529.5763313303371,913.27356766538583,972.76393190305021,839.3439388915375,892.7053166973393,671.86368216375593,769.06638191095306,562.53053222980668,506.24728521906911,528.57833020762246,481.29491815469652,580.6602178536491,483.62793202920233,497.50226994347258,499.55525156937284,486.75375394697005,461.66911031968129]
[]
[]
[null,null,null,null,null,null,null,null,null,null,null,null,null,null,null,null,null,null,null,null,null,null,null,null,null,12.399999999999944,12.799999999999949,12.999999999999948,11.999999999999938,11.71999999999994,11.619999999999944,12.929850220264278,12.929850220264276,13.215541850220196,13.215541850220193,12.929850220264266,14.210854625550608,11.599999999999945,11.59999999999995,11.399999999999947,11.399999999999952,11.91999999999995,11.29999999999994,11.719999999999947,11.719999999999949,11.719999999999946,11.299999999999953]
[null,null,null,null,null,null,null,null,null,null,null,null,null,null,null,null,null,null,null,null,null,null,null,null,null,8.015163532124193,8.3805856098547409,8.5584461876039573,7.916226509697748,7.8216383020390268,7.7961555468362249,8.0955215749680853,7.9779534227276674,8.4305916701151062,8.3255298573664351,8.512602796058653,9.3110603964448835,7.7152513517276109,7.8091039352852967,7.624376210048327,7.7056437663978068,7.9025389685367911,7.6447338600936527,7.9260911549923208,7.9241079872931106,7.9432702503532182,7.6956204299504938]
[]
[null,null,null,null,null,null,null,null,null,null,null,null,null,null,null,null,null,null,null,null,null,null,null,null,null,11.720000000000018,11.720000000000018,11.720000000000018,11.720000000000018,11.720000000000018,11.720000000000018,11.720000000000018,11.720000000000018,11.720000000000018,11.720000000000018,11.720000000000018,11.720000000000018,11.720000000000018,11.720000000000018,11.720000000000018,11.720000000000018,11.720000000000018,11.720000000000018,11.720000000000018,11.720000000000018,11.720000000000018,11.720000000000018]
[null,null,null,null,null,null,null,null,null,null,null,null,null,null,null,null,null,null,null,null,null,null,null,null,null,8.5887652344872514,8.5887652344872514,8.5887652344872514,8.5887652344872514,8.5887652344872514,8.5887652344872514,8.5887652344872514,8.5887652344872514,8.5887652344872514,8.5887652344872514,8.5887652344872514,8.5887652344872514,8.5887652344872514,8.5887652344872514,8.5887652344872514,8.5887652344872514,8.5887652344872514,8.5887652344872514,8.5887652344872514,8.5887652344872514,8.5887652344872514,8.5887652344872514]

{"sheet":"Mixing Sheet","index":8,"n_rows":38,"n_cols":37,"rows_kept":38,"cut":false,"hidden":false,"merged":[[0,5,0,8],[9,3,10,3],[9,2,10,2],[9,4,10,4],[9,1,10,1]]}
[null,"UffdAu 3.0",null,"Feed Name =",null,{"$f":"'Feed Spec'!C4","v":"Broiler Starter, 0 to 10 Days"}]
[null,null,{"$f":"NOW()","v":"2024-01-15T14:00:06.910"}]
[]
[]
[null,null,"Amount to Mix =",1000,"Kg"]
[]
[null,null,"CHECK OFF EACH INGREDIENT AS IT IS ADDED TO THE MIXER"]
[null,null,"          "]
[]
[null,"%","Ingredient",{"$f":"E5","v":"Kg"},"Grams",null,null,"Date Mixed"]
[null,null,null,null,null,"   /   /  ","   /   /  ","   /   /  ","   /   /  ","   /   /  "]
[null,69.329938414851227,"Sorghum",{"$f":"$D$5*B12*0.01","v":693.29938414851233},{"$f":"IF(AK12=0,\"\",AK12)","v":""},null,null,null,null,null,null,null,null,null,null,null,null,null,null,null,null,null,null,null,null,null,null,null,null,null,null,null,null,null,null,null,{"$f":"IF(D12<9.999,D12*1000,\"\")","v":""}]
[null,17.650599678108879,"Soybean Meal (local)",{"$f":"$D$5*B13*0.01","v":176.50599678108881},{"$f":"IF(AK13=0,\"\",AK13)","v":""},null,null,null,null,null,null,null,null,null,null,null,null,null,null,null,null,null,null,null,null,null,null,null,null,null,null,null,null,null,null,null,""]
[null,6.5369839700296488,"Limestone, Fine",65.369839700296495,"",null,null,null,null,null,null,null,null,null,null,null,null,null,null,null,null,null,null,null,null,null,null,null,null,null,null,null,null,null,null,null,""]
[null,3.6519990170550374,"Fat, Vegetable",36.519990170550372,"",null,null,null,null,null,null,null,null,null,null,null,null,null,null,null,null,null,null,null,null,null,null,null,null,null,null,null,null,null,null,null,""]
[null,1.8705288223676133,"Dicalcium Phosphate",18.705288223676131,"",null,null,null,null,null,null,null,null,null,null,null,null,null,null,null,null,null,null,null,null,null,null,null,null,null,null,null,null,null,null,null,""]
[null,0.33741448443113953,"Salt",3.3741448443113953,3374.1448443113954,null,null,null,null,null,null,null,null,null,null,null,null,null,null,null,null,null,null,null,null,null,null,null,null,null,null,null,null,null,null,null,3374.1448443113954]
[null,0.25,"Vitamin Premix",2.5,2500,null,null,null,null,null,null,null,null,null,null,null,null,null,null,null,null,null,null,null,null,null,null,null,null,null,null,null,null,null,null,null,2500]
[null,0.16664242693716172,"DL-Methionine",1.6664242693716174,1666.4242693716174,null,null,null,null,null,null,null,null,null,null,null,null,null,null,null,null,null,null,null,null,null,null,null,null,null,null,null,null,null,null,null,1666.4242693716174]
[null,8.1513407132467075E-2,"L-Lysine",0.81513407132467086,815.13407132467091,null,null,null,null,null,null,null,null,null,null,null,null,null,null,null,null,null,null,null,null,null,null,null,null,null,null,null,null,null,null,null,815.13407132467091]
[null,7.4999999999999997E-2,"Trace Mineral Premix",0.75,750,null,null,null,null,null,null,null,null,null,null,null,null,null,null,null,null,null,null,null,null,null,null,null,null,null,null,null,null,null,null,null,750]
[null,4.9379779087031082E-2,"L-Threonine",0.49379779087031084,493.79779087031085,null,null,null,null,null,null,null,null,null,null,null,null,null,null,null,null,null,null,null,null,null,null,null,null,null,null,null,null,null,null,null,493.79779087031085]
[null,0,"Wheat",0,"",null,null,null,null,null,null,null,null,null,null,null,null,null,null,null,null,null,null,null,null,null,null,null,null,null,null,null,null,null,null,null,0]
[null,0,"Corn",0,"",null,null,null,null,null,null,null,null,null,null,null,null,null,null,null,null,null,null,null,null,null,null,null,null,null,null,null,null,null,null,null,0]
[null,0,"Canola Meal (Solvent Extracted) ",0,"",null,null,null,null,null,null,null,null,null,null,null,null,null,null,null,null,null,null,null,null,null,null,null,null,null,null,null,null,null,null,null,0]
[null,0,"Meat Meal",0,"",null,null,null,null,null,null,null,null,null,null,null,null,null,null,null,null,null,null,null,null,null,null,null,null,null,null,null,null,null,null,null,0]
[null,0,"Tallow",0,"",null,null,null,null,null,null,null,null,null,null,null,null,null,null,null,null,null,null,null,null,null,null,null,null,null,null,null,null,null,null,null,0]
[null,0,"CHOLINE CL -70%",0,"",null,null,null,null,null,null,null,null,null,null,null,null,null,null,null,null,null,null,null,null,null,null,null,null,null,null,null,null,null,null,null,0]
[null,0,0,0,"",null,null,null,null,null,null,null,null,null,null,null,null,null,null,null,null,null,null,null,null,null,null,null,null,null,null,null,null,null,null,null,0]
[null,0,0,0,"",null,null,null,null,null,null,null,null,null,null,null,null,null,null,null,null,null,null,null,null,null,null,null,null,null,null,null,null,null,null,null,0]
[null,0,0,0,"",null,null,null,null,null,null,null,null,null,null,null,null,null,null,null,null,null,null,null,null,null,null,null,null,null,null,null,null,null,null,null,0]
[null,0,0,0,"",null,null,null,null,null,null,null,null,null,null,null,null,null,null,null,null,null,null,null,null,null,null,null,null,null,null,null,null,null,null,null,0]
[null,0,0,0,"",null,null,null,null,null,null,null,null,null,null,null,null,null,null,null,null,null,null,null,null,null,null,null,null,null,null,null,null,null,null,null,0]
[null,0,0,0,"",null,null,null,null,null,null,null,null,null,null,null,null,null,null,null,null,null,null,null,null,null,null,null,null,null,null,null,null,null,null,null,0]
[null,0,0,0,"",null,null,null,null,null,null,null,null,null,null,null,null,null,null,null,null,null,null,null,null,null,null,null,null,null,null,null,null,null,null,null,0]
[null,0,0,0,""]
[]
[null,{"$f":"SUM(B12:B37)","v":100.0000000000002},"TOTAL",{"$f":"SUM(D12:D37)","v":1000.0000000000023},{"$f":"D10","v":"Kg"}]

{"sheet":"Graphs","index":9,"n_rows":39,"n_cols":40,"rows_kept":39,"cut":false,"hidden":false,"merged":[]}
[]
[]
[]
[null,null,null,null,null,null,null,"WUFFDA 3.0",null,null,null,null,null,null,null,null,null,null,null,null,null,null,null,null,null,null,null,null,null,null,null,null,null,null,null,null,null,"Percent"]
[null,null,null,null,null,null,null,null,null,null,null,null,null,null,null,null,null,null,null,null,null,null,null,null,null,null,null,null,null,null,null,null,null,null,null,null,null,"Min.","Actual","Min."]
[null,null,null,null,null,null,null,null,null,null,null,null,null,null,null,null,null,null,null,null,null,null,null,null,null,null,null,null,null,null,null,null,null,null,null,null,{"$f":"Formulate!H8","v":"Dry Matter"},{"$f":"AM6/AN6*100","v":{"$error":"#DIV/0!"}},{"$f":"Formulate!J8","v":902.57752668327794},{"$f":"Formulate!I8","v":0}]
[null,null,null,null,null,null,null,null,null,null,null,null,null,null,null,null,null,null,null,null,null,null,null,null,null,null,null,null,null,null,null,null,null,null,null,null,{"$f":"Formulate!H9","v":"AMEn"},99.999999999999517,{"$f":"Formulate!J9","v":12.39999999999994},{"$f":"Formulate!I9","v":12.4}]
[null,null,null,null,null,null,null,null,null,null,null,null,null,null,null,null,null,null,null,null,null,null,null,null,null,null,null,null,null,null,null,null,null,null,null,null,{"$f":"Formulate!H10","v":"Metabolisable Energy"},{"$error":"#DIV/0!"},{"$f":"Formulate!J10","v":14.423075748072797},{"$f":"Formulate!I10","v":0}]
[null,null,null,null,null,null,null,null,null,null,null,null,null,null,null,null,null,null,null,null,null,null,null,null,null,null,null,null,null,null,null,null,null,null,null,null,{"$f":"Formulate!H11","v":"Net Energy"},{"$error":"#DIV/0!"},{"$f":"Formulate!J11","v":8.0326855202318868},{"$f":"Formulate!I11","v":0}]
[null,null,null,null,null,null,null,null,null,null,null,null,null,null,null,null,null,null,null,null,null,null,null,null,null,null,null,null,null,null,null,null,null,null,null,null,{"$f":"Formulate!H12","v":"Crude Protein"},100.0000000000002,{"$f":"Formulate!J12","v":230.00000000000048},{"$f":"Formulate!I12","v":230}]
[null,null,null,null,null,null,null,null,null,null,null,null,null,null,null,null,null,null,null,null,null,null,null,null,null,null,null,null,null,null,null,null,null,null,null,null,{"$f":"Formulate!H13","v":"True Protein"},{"$error":"#DIV/0!"},{"$f":"Formulate!J13","v":207.40476952380865},{"$f":"Formulate!I13","v":0}]
[null,null,null,null,null,null,null,null,null,null,null,null,null,null,null,null,null,null,null,null,null,null,null,null,null,null,null,null,null,null,null,null,null,null,null,null,{"$f":"Formulate!H14","v":"Lipids"},{"$error":"#DIV/0!"},{"$f":"Formulate!J14","v":20.644255126007863},{"$f":"Formulate!I14","v":0}]
[null,null,null,null,null,null,null,null,null,null,null,null,null,null,null,null,null,null,null,null,null,null,null,null,null,null,null,null,null,null,null,null,null,null,null,null,{"$f":"Formulate!H15","v":"Crude Fibre"},{"$error":"#DIV/0!"},{"$f":"Formulate!J15","v":21.716555677755082},{"$f":"Formulate!I15","v":0}]
[null,null,null,null,null,null,null,null,null,null,null,null,null,null,null,null,null,null,null,null,null,null,null,null,null,null,null,null,null,null,null,null,null,null,null,null,{"$f":"Formulate!H16","v":"Calcium"},99.999999999999318,{"$f":"Formulate!J16","v":9.4999999999999361},{"$f":"Formulate!I16","v":9.5}]
[null,null,null,null,null,null,null,null,null,null,null,null,null,null,null,null,null,null,null,null,null,null,null,null,null,null,null,null,null,null,null,null,null,null,null,null,{"$f":"Formulate!H17","v":"Total Phosphorous"},{"$error":"#DIV/0!"},{"$f":"Formulate!J17","v":7.4398767141919233},{"$f":"Formulate!I17","v":0}]
[null,null,null,null,null,null,null,null,null,null,null,null,null,null,null,null,null,null,null,null,null,null,null,null,null,null,null,null,null,null,null,null,null,null,null,null,{"$f":"Formulate!H18","v":"Available Phosphorous"},99.999999999998522,{"$f":"Formulate!J18","v":4.9999999999999263},{"$f":"Formulate!I18","v":5}]
[null,null,null,null,null,null,null,null,null,null,null,null,null,null,null,null,null,null,null,null,null,null,null,null,null,null,null,null,null,null,null,null,null,null,null,null,{"$f":"Formulate!H19","v":"Ca:aP"},-0.24999999999995737,{"$f":"Formulate!J19","v":0.24999999999995737},{"$f":"Formulate!I19","v":-100}]
[null,null,null,null,null,null,null,null,null,null,null,null,null,null,null,null,null,null,null,null,null,null,null,null,null,null,null,null,null,null,null,null,null,null,null,null,{"$f":"Formulate!H20","v":"Na"},103.33232809244713,{"$f":"Formulate!J20","v":1.8599819056640483},{"$f":"Formulate!I20","v":1.8}]
[null,null,null,null,null,null,null,null,null,null,null,null,null,null,null,null,null,null,null,null,null,null,null,null,null,null,null,null,null,null,null,null,null,null,null,null,{"$f":"Formulate!H21","v":"Cl"},210.3640916862164,{"$f":"Formulate!J21","v":3.7865536503518955},{"$f":"Formulate!I21","v":1.8}]
[null,null,null,null,null,null,null,null,null,null,null,null,null,null,null,null,null,null,null,null,null,null,null,null,null,null,null,null,null,null,null,null,null,null,null,null,{"$f":"Formulate!H22","v":"Choline"},108.28018333839498,{"$f":"Formulate!J22","v":1840.7631167527145},{"$f":"Formulate!I22","v":1700}]
[null,null,null,null,null,null,null,null,null,null,null,null,null,null,null,null,null,null,null,null,null,null,null,null,null,null,null,null,null,null,null,null,null,null,null,null,{"$f":"Formulate!H23","v":"Betaine"},{"$error":"#DIV/0!"},{"$f":"Formulate!J23","v":1570.9670351780542},{"$f":"Formulate!I23","v":0}]
[null,null,null,null,null,null,null,null,null,null,null,null,null,null,null,null,null,null,null,null,null,null,null,null,null,null,null,null,null,null,null,null,null,null,null,null,{"$f":"Formulate!H24","v":"dLYS"},{"$error":"#DIV/0!"},{"$f":"Formulate!J24","v":13.025019526095198},{"$f":"Formulate!I24","v":0}]
[null,null,null,null,null,null,null,null,null,null,null,null,null,null,null,null,null,null,null,null,null,null,null,null,null,null,null,null,null,null,null,null,null,null,null,null,{"$f":"Formulate!H25","v":"dMET"},129.75559621716698,{"$f":"Formulate!J25","v":7.1365577919441847},{"$f":"Formulate!I25","v":5.5}]
[null,null,null,null,null,null,null,null,null,null,null,null,null,null,null,null,null,null,null,null,null,null,null,null,null,null,null,null,null,null,null,null,null,null,null,null,{"$f":"Formulate!H26","v":"dTSAA"},99.999999999998579,{"$f":"Formulate!J26","v":9.9999999999998579},{"$f":"Formulate!I26","v":10}]
[null,null,null,null,null,null,null,null,null,null,null,null,null,null,null,null,null,null,null,null,null,null,null,null,null,null,null,null,null,null,null,null,null,null,null,null,{"$f":"Formulate!H27","v":"dTHR"},100.00000000000236,{"$f":"Formulate!J27","v":8.8000000000002085},{"$f":"Formulate!I27","v":8.8000000000000007}]
[null,null,null,null,null,null,null,null,null,null,null,null,null,null,null,null,null,null,null,null,null,null,null,null,null,null,null,null,null,null,null,null,null,null,null,null,{"$f":"Formulate!H28","v":"dTRP"},117.21480254525112,{"$f":"Formulate!J28","v":2.4615108534502737},{"$f":"Formulate!I28","v":2.1}]
[null,null,null,null,null,null,null,null,null,null,null,null,null,null,null,null,null,null,null,null,null,null,null,null,null,null,null,null,null,null,null,null,null,null,null,null,{"$f":"Formulate!H29","v":"dARG"},{"$error":"#DIV/0!"},{"$f":"Formulate!J29","v":13.857845007527702},{"$f":"Formulate!I29","v":0}]
[null,null,null,null,null,null,null,null,null,null,null,null,null,null,null,null,null,null,null,null,null,null,null,null,null,null,null,null,null,null,null,null,null,null,null,null,{"$f":"Formulate!H30","v":"dVAL"},{"$error":"#DIV/0!"},{"$f":"Formulate!J30","v":9.2579308007331509},{"$f":"Formulate!I30","v":0}]
[null,null,null,null,null,null,null,null,null,null,null,null,null,null,null,null,null,null,null,null,null,null,null,null,null,null,null,null,null,null,null,null,null,null,null,null,{"$f":"Formulate!H31","v":"TP:dLYS"},{"$error":"#DIV/0!"},{"$f":"Formulate!J31","v":1.2559397966072083E-14},{"$f":"Formulate!I31","v":0}]
[null,null,null,null,null,null,null,null,null,null,null,null,null,null,null,null,null,null,null,null,null,null,null,null,null,null,null,null,null,null,null,null,null,null,null,null,{"$f":"Formulate!H32","v":"Total NSP"},{"$error":"#DIV/0!"},{"$f":"Formulate!J32","v":114.21666081395102},{"$f":"Formulate!I32","v":0}]
[null,null,null,null,null,null,null,null,null,null,null,null,null,null,null,null,null,null,null,null,null,null,null,null,null,null,null,null,null,null,null,null,null,null,null,null,{"$f":"Formulate!H33","v":"Soluble NSP"},{"$error":"#DIV/0!"},{"$f":"Formulate!J33","v":22.272596894930633},{"$f":"Formulate!I33","v":0}]
[null,null,null,null,null,null,null,null,null,null,null,null,null,null,null,null,null,null,null,null,null,null,null,null,null,null,null,null,null,null,null,null,null,null,null,null,{"$f":"Formulate!H34","v":"Insoluble NSP"},{"$error":"#DIV/0!"},{"$f":"Formulate!J34","v":92.290987364514592},{"$f":"Formulate!I34","v":0}]
[null,null,null,null,null,null,null,null,null,null,null,null,null,null,null,null,null,null,null,null,null,null,null,null,null,null,null,null,null,null,null,null,null,null,null,null,{"$f":"Formulate!H35","v":"Lignin"},{"$error":"#DIV/0!"},{"$f":"Formulate!J35","v":5.2804842309837525},{"$f":"Formulate!I35","v":0}]
[null,null,null,null,null,null,null,null,null,null,null,null,null,null,null,null,null,null,null,null,null,null,null,null,null,null,null,null,null,null,null,null,null,null,null,null,{"$f":"Formulate!H36","v":"18:2"},{"$error":"#DIV/0!"},{"$f":"Formulate!J36","v":10.829932708228121},{"$f":"Formulate!I36","v":0}]
[null,null,null,null,null,null,null,null,null,null,null,null,null,null,null,null,null,null,null,null,null,null,null,null,null,null,null,null,null,null,null,null,null,null,null,null,{"$f":"Formulate!H37","v":"Nutrient"},{"$error":"#DIV/0!"},{"$f":"Formulate!J37","v":0},{"$f":"Formulate!I37","v":0}]
[null,null,null,null,null,null,null,null,null,null,null,null,null,null,null,null,null,null,null,null,null,null,null,null,null,null,null,null,null,null,null,null,null,null,null,null,{"$f":"Formulate!H38","v":"Nutrient"},{"$error":"#DIV/0!"},{"$f":"Formulate!J38","v":0},{"$f":"Formulate!I38","v":0}]
[null,null,null,null,null,null,null,null,null,null,null,null,null,null,null,null,null,null,null,null,null,null,null,null,null,null,null,null,null,null,null,null,null,null,null,null,{"$f":"Formulate!H39","v":"Nutrient"},{"$error":"#DIV/0!"},{"$f":"Formulate!J39","v":0},{"$f":"Formulate!I39","v":0}]
[null,null,null,null,null,null,null,null,null,null,null,null,null,null,null,null,null,null,null,null,null,null,null,null,null,null,null,null,null,null,null,null,null,null,null,null,{"$f":"Formulate!H40","v":"Nutrient"},{"$error":"#DIV/0!"},{"$f":"Formulate!J40","v":0},{"$f":"Formulate!I40","v":0}]
[null,null,null,null,null,null,null,null,null,null,null,null,null,null,null,null,null,null,null,null,null,null,null,null,null,null,null,null,null,null,null,null,null,null,null,null,{"$f":"Formulate!H41","v":"Nutrient"},{"$error":"#DIV/0!"},{"$f":"Formulate!J41","v":0},{"$f":"Formulate!I41","v":0}]

{"sheet":"Digestibility","index":10,"n_rows":19,"n_cols":104,"rows_kept":19,"cut":false,"hidden":false,"merged":[[0,47,0,65],[0,4,0,21],[0,25,0,42],[15,4,15,11]]}
[null,null,null,null,"TOTAL AMINO ACIDS (G/KG)",null,null,null,null,null,null,null,null,null,null,null,null,null,null,null,null,null,null,null,null,"DIGESTIBLE AMINO ACIDS (G/KG)",null,null,null,null,null,null,null,null,null,null,null,null,null,null,null,null,null,null,null,null,null,"AMINO ACID (% DIGESTIBILITY)"]
[null,null,"AVG",null,"Ala","Arg","AsX","Cys","Glx","Gly","His","Ile","Leu","Lys","Met","Phe","Pro","Ser","Thr","Trp","Tyr","Val",null,null,null,"AlaD","ArgD","AsXD","CysD","GlxD","GlyD","HisD","IleD","LeuD","LysD","MetD","PheD","ProD","SerD","ThrD","TrpD","TyrD","ValD","TOTAL",null,null,null,"Ala","Arg","AsX","Cys","Glx","Gly","His","Ile","Leu","Lys","Met","Phe","Pro","Ser","Thr","Trp","Tyr","Val","Average",null,null,null,"NSPTot","NSPSol","NSPInSol","NSPTotRhamnose","NSPTotFucose","NSPTotRibose","NSPTotArabinose","NSPTotXylose","NSPTotMannose","NSPTotGalactose","NSPTotGlucose","NSPSolRhamnose","NSPSolFucose","NSPSolRibose","NSPSolArabinose","NSPSolXylose","NSPSolMannose","NSPSolGalactose","NSPSolGlucose","NSPInSolRhamnose","NSPInSolFucose","NSPInSolRibose","NSPInSolArabinose","NSPInSolXylose","NSPInSolMannose","NSPInSolGalactose","NSPInSolGlucose","ONSPRhamnose","ONSPFucose","ONSPRibose","ONSPArabinose","ONSPXylose","ONSPMannose","ONSPGalactose","ONSPGlucose"]
[]
["Wheat",null,{"$f":"BN4","v":84.94570204684436},null,4.45,5.583333333333333,6.15,2.4750000000000001,35.049999999999997,5.0999999999999996,2.7666666666666671,4.05,7.833333333333333,3.3833333333333329,1.7166666666666668,5.65,11.5,5.85,3.4833333333333329,1.4666666666666668,5.125700201658077,5.0999999999999996,null,null,null,3.8,4.8500000000000005,5,1.9500000000000002,34.6,4.3,2.3833333333333333,3.5833333333333335,7.0166666666666666,2.7166666666666668,1.5333333333333332,5,null,5.4,2.8166666666666664,0.93333333333333346,null,4.3166666666666673,null,null,null,null,{"$f":"(Z4/E4)*100","v":85.393258426966284},{"$f":"(AA4/F4)*100","v":86.865671641791053},{"$f":"(AB4/G4)*100","v":81.300813008130078},{"$f":"(AC4/H4)*100","v":78.787878787878796},{"$f":"(AD4/I4)*100","v":98.716119828815991},{"$f":"(AE4/J4)*100","v":84.313725490196077},{"$f":"(AF4/K4)*100","v":86.144578313252993},{"$f":"(AG4/L4)*100","v":88.477366255144034},{"$f":"(AH4/M4)*100","v":89.574468085106389},{"$f":"(AI4/N4)*100","v":80.29556650246306},{"$f":"(AJ4/O4)*100","v":89.320388349514545},{"$f":"(AK4/P4)*100","v":88.495575221238937},null,{"$f":"(AM4/R4)*100","v":92.307692307692321},{"$f":"(AN4/S4)*100","v":80.861244019138752},{"$f":"(AO4/T4)*100","v":63.636363636363633},null,{"$f":"(AQ4/V4)*100","v":84.640522875817013},{"$f":"AVERAGE(AV4:BM4)","v":84.94570204684436},null,null,null,104.71249729113956,20.286868323952643,85.12183260498675,5.6754419766855288E-2,9.074321270895927E-3,0.22887823508783622,20.712873429882251,34.893922549650696,3.6712191999695234,4.1524243574219248,26.623981043713055,4.5688933832411195E-3,9.074321270895927E-3,0.13066263979083279,4.4071995624218481,7.0427118314167982,1.0962517316968736,1.7178195965850476,4.2674676471420625,7.1793369520869066E-2,null,9.8215595297003355E-2,16.32528171059765,27.91003424764568,2.57496746827265,2.4346047608368764,22.434944769120012,6.6384064342455834E-2,null,3.0970110173273616E-2,0.28146296540857102,9.3092348455271132E-2,3.1339311986609286,1.9965726321388506,14.328999795817076]
["Sorghum",null,{"$f":"BN5","v":78.130243001782631},null,7.45,3.2999999999999994,5.4,1.75,16.899999999999999,2.5999999999999996,2.0666666666666669,3.5333333333333332,12.033333333333331,1.9333333333333336,1.4000000000000001,4.1999999999999993,7.1,3.95,2.9,1.1499999999999999,1.7521257407884567,4.4333333333333336,null,null,null,5.7,1.9333333333333336,3.7,1.35,13.5,1.6,1.6333333333333335,3.0333333333333332,10.6,1.5666666666666667,1.2333333333333332,3.5999999999999996,null,2.9,2.2333333333333334,1,null,3.6666666666666665,null,null,null,null,76.510067114093957,58.58585858585861,68.518518518518505,77.142857142857153,79.881656804733737,61.538461538461554,79.032258064516128,85.84905660377359,88.088642659279799,81.034482758620669,88.095238095238074,85.714285714285722,null,73.417721518987335,77.011494252873575,86.956521739130437,null,82.706766917293223,{"$f":"AVERAGE(AV5:BM5)","v":78.130243001782631},null,null,null,53.943683538508687,5.4254092332701873,49.48032875733908,9.9110369883684477E-2,4.552846548109655E-3,2.5667898498051134,11.857024249601045,11.567353124658341,2.325021479172066,2.9851953155847122,24.255490785567876,8.8158510831054498E-2,4.552846548109655E-3,0.12650547683557176,0.80400562024219768,0.6014674053732938,1.0355879503013377,0.79711403850216078,1.9328631675375161,3.8729636830407747E-2,null,2.440284372969542,11.108574184914406,10.965885719285044,1.2338779733151735,2.1880812770825515,22.294849840252585,7.4495276900976487E-2,null,null,0.21325946021221215,4.9274073258514919E-2,1.071393444488395,0.66580660747764497,7.3779999060717376]
["Barley",null,75.70909088981206,null,3.9499999999999997,4.7333333333333334,5.65,2.0499999999999998,20.950000000000003,3.8499999999999996,2.1,3.3333333333333335,6.5333333333333341,3.5,1.4666666666666668,4.5,9,4.0999999999999996,3.1,1.2666666666666668,4.123527311674402,4.6333333333333329,null,null,null,2.7,3.8000000000000003,3.4,1.7000000000000002,18.8,2.2999999999999998,1.6333333333333335,2.6666666666666665,5.3666666666666663,2.6999999999999997,1.2666666666666666,3.5,null,2.7,2.1999999999999997,0.93333333333333324,null,3.6333333333333333,null,null,null,null,68.354430379746844,80.281690140845072,60.176991150442468,82.926829268292707,89.73747016706443,59.740259740259738,77.777777777777786,80,82.142857142857125,77.142857142857139,86.36363636363636,77.777777777777786,null,65.853658536585385,70.967741935483858,73.68421052631578,null,78.417266187050373,75.70909088981206,null,null,null,154.35947445181515,41.720029395773999,112.63650387957055,0.33573579686859023,8.1506875493293413E-2,0.69305236146244076,20.530736602065893,51.666770883127803,6.399910031973052,4.9820353747606481,70.496568977883499,0.18768042416436326,8.1506875493293413E-2,0.72907445057427656,4.2367144703995168,4.7682687713950216,2.4190327252841897,2.5350076872778908,33.136467853155878,0.14805537270422697,null,3.3283147034408225E-2,16.246403084047326,46.803264016494694,3.9332582590698144,2.4470276874827577,37.360101124727628,0.13895096532071949,5.7024774117680622E-2,2.160190760647198E-2,9.0027097849168763E-2,0.11044179386179037,3.1522891018164074,2.2070936436860444,15.16919186782717]
["Corn",null,85.111981982795356,null,6.8,4.1500000000000004,5.85,2.1,16.950000000000003,3.3499999999999996,2.5,3.2,11.4,2.5499999999999998,1.65,4.55,8.8000000000000007,4.3499999999999996,3.3,0.64999999999999991,3.7667638483965016,4.25,null,null,null,5.9,3.65,4.5,1.8,14.8,2.6,2.2999999999999998,2.9000000000000004,10.45,2.15,1.5,4.0500000000000007,null,3.3,2.5999999999999996,0.5,null,3.8,null,null,null,null,86.764705882352942,87.951807228915655,76.923076923076934,85.714285714285708,87.315634218289077,77.611940298507477,92,90.625000000000014,91.666666666666657,84.313725490196077,90.909090909090921,89.010989010989022,null,75.862068965517253,78.787878787878782,76.923076923076934,null,89.411764705882348,85.111981982795356,null,null,null,70.321745200373286,8.6696179786941929,61.629081882057335,0.49271400413440353,1.2156782454101111E-2,0.1963486029424325,16.342828766222247,22.548249243848062,2.3827802393739796,5.5037052836810831,21.156269550826817,6.2000776935733831E-2,1.8868191850074267E-2,0.1963486029424325,1.2855041394370159,1.1682507389928269,1.275194265828071,1.1626737265684703,2.9039795248641331,0.43071322719866972,null,null,15.14457294893289,21.339730048479403,1.0874517453579815,4.3141859195287138,18.252290025962694,0.16479142364051499,null,null,null,null,null,null,0.50749839759127457]
["Soybean Meal  (Brazil)",null,82.709572641675621,null,19.8,35.150000000000006,52.4,6.9250000000000007,85.2,19.2,12.587499999999999,21.787499999999998,36.375,29.775000000000002,6.1875,22.3,24.799737360472751,28.1,19.05,12.012499999999999,19.618745035742652,22.55,null,null,null,16.399999999999999,32.287500000000001,41.6,5.6749999999999998,74.7,15.7,10.675000000000001,19.1875,31.862500000000001,25.824999999999999,5.55,19.3,null,22.8,15.4625,5.7374999999999989,null,19.024999999999999,null,null,null,null,82.828282828282823,91.856330014224739,79.389312977099252,81.949458483754498,87.676056338028175,81.770833333333343,84.80635551142008,88.066551921973613,87.594501718213053,86.733837111670852,89.696969696969703,86.54708520179372,null,81.138790035587178,81.167979002624662,47.762747138397501,null,84.368070953436799,82.709572641675621,null,null,null,150.5480238448003,29.526566441105523,120.99531357314723,1.8455236560393009,2.3766380781946599,0.95241334877803463,24.567642392090015,13.228917959453469,8.6264356871513908,42.321567455831513,39.370036902688874,0.3999004630016772,0.60503653497751209,0.6335358132919795,4.780451084676411,1.4790862726296397,3.5718010939749361,8.265089586623839,2.5076843077108739,1.4240425077158616,1.7882360871715643,0.40389942349046004,20.448171578104994,12.151933053845983,4.9076983353974768,34.679701435868708,36.147244115673679,0.43697253367684052,8.2025944851570345E-2,0.11066075973894642,0.80098523879824735,0.10206162161999674,3.9811568271790936,19.890183274525661,44.46990551836744]
["Soybean Meal (local)",null,85.841287729297605,null,20.2,34,53.4,6.8,83.6,19.7,12.2,21.2,35.6,29.1,6.4,23.5,24,23.3,18.2,6.3,20.272488509520684,22.5,null,null,null,15.871135822081015,31.2,40.258490865766483,5.4,72.291088165210482,15.193709293089753,10.9,18.399999999999999,31.3,25.9,5.7,20.9,null,22.064749801429706,15.1,5.6,null,19.600000000000001,null,null,null,null,78.56997931723275,91.764705882352942,75.39043233289604,79.411764705882362,86.472593499055606,77.125427883704333,89.344262295081975,86.792452830188665,87.921348314606746,89.003436426116835,89.0625,88.936170212765958,null,94.698497001844231,82.967032967032978,88.888888888888886,null,87.111111111111114,85.841287729297605,null,null,null,150.5480238448003,29.526566441105523,120.99531357314723,1.8455236560393009,2.3766380781946599,0.95241334877803463,24.567642392090015,13.228917959453469,8.6264356871513908,42.321567455831513,39.370036902688874,0.3999004630016772,0.60503653497751209,0.6335358132919795,4.780451084676411,1.4790862726296397,3.5718010939749361,8.265089586623839,2.5076843077108739,1.4240425077158616,1.7882360871715643,0.40389942349046004,20.448171578104994,12.151933053845983,4.9076983353974768,34.679701435868708,36.147244115673679,0.43697253367684052,8.2025944851570345E-2,0.11066075973894642,0.80098523879824735,0.10206162161999674,3.9811568271790936,19.890183274525661,44.46990551836744]
["Canola meal (solvent)",null,76.103773471822677,null,15.3,21.897500000000001,24.4,8.2225000000000001,60.8,17.8,10.536249999999999,15.137499999999999,25.372499999999995,19.994999999999997,6.4949999999999983,14.2,21.5,18.2,16.228749999999998,4.7524999999999995,1.1322547026362102,19.032499999999999,null,null,null,11.1,18.507500000000004,16.399999999999999,5.6049999999999986,50.1,12.7,8.5737500000000004,11.81625,20.096249999999998,15.526249999999999,5.6774999999999993,11,null,11.8,11.506249999999998,3.8037500000000009,null,14.18375,null,null,null,null,72.549019607843135,84.518780682726359,67.213114754098356,68.16661599270293,82.401315789473699,71.348314606741567,81.373828449400889,78.059454995871178,79.204847768253046,77.650662665666431,87.41339491916861,77.464788732394368,null,64.835164835164832,70.900408226141877,80.036822724881659,null,74.523840798633927,76.103773471822677,null,null,null,111.9,10.8,101.1,1.7894020435520934,1.896486172574281,0.82430572650826783,43.666104773430263,16.530789732698775,4.0870516613319268,17.032313048618686,37.380925991433536,9.1724134150168918E-2,0.11882746377840585,0.46029935360455698,5.5852650026653468,0.75203457959520492,1.4643567124756358,2.2866481198736639,0.76493099910681805,1.6976779094019245,1.7776587087958746,0.36400637290371085,38.080839770764904,15.778755153103576,2.6226949488562901,14.745664928745022,36.615994992326726]
["Canola meal (pressed)",null,75.185469013067319,null,15.3,20.399999999999999,24.4,8.75,60.8,17.8,9.8000000000000007,13.65,23.1,20.916666666666668,6.125,14.2,20.7,18.2,14.925000000000001,4.5999999999999996,1.1319001639642923,17.774999999999999,null,null,null,11.1,17.100000000000001,16.399999999999999,5.5,50.1,12.7,7.95,10.55,17.95,15.425000000000001,5.35,11,null,11.8,10.525,3.6749999999999998,null,12.95,null,null,null,null,72.549019607843135,83.823529411764724,67.213114754098356,62.857142857142854,82.401315789473699,71.348314606741567,81.122448979591837,77.289377289377299,77.705627705627705,73.745019920318725,87.346938775510196,77.464788732394368,null,64.835164835164832,70.519262981574542,79.891304347826093,null,72.855133614627292,75.185469013067319,null,null,null,154.80000000000001,14.9,139.9,1.603203644724033,1.4203651946614595,1.4380110105852448,42.787520409143767,16.575613547505423,5.3227954830887994,16.898483518215258,63.995654711149122,9.7198303690116464E-2,0.14058342808420715,0.58253200749692535,6.9466849930312735,1.18945733367232,2.3229397368456368,2.9249353450025857,0.9955635385192686,1.5060053410339163,1.2797817665772526,0.85547900308831926,35.840835416112498,15.386156213833102,2.9998557462431616,13.973548173212674,63.000091172629865]
["Lupins",null,83.527132459691401,null,11.2,35.85,32,4.7,67.25,13.55,8.9499999999999993,13.3,22.3,16.5,2.1,12.8,13.2,15.5,11.05,2.8,2.4703859978121581,13,null,null,null,9.1,32.85,26.1,3.9,56.7,10.9,7.55,11.2,19.2,14.4,1.75,11.15,null,12.2,9.0500000000000007,2.2000000000000002,null,10.75,null,null,null,null,81.25,91.63179916317992,81.5625,82.978723404255319,84.312267657992564,80.442804428044283,84.357541899441344,84.210526315789465,86.098654708520172,87.27272727272728,83.333333333333329,87.109375,null,78.709677419354833,81.900452488687776,78.571428571428584,null,82.692307692307693,83.527132459691401,null,null,null,273.16803414762126,25.27991342956696,247.88850637987267,2.0492027647118816,2.2358236034733152,0.99791097062778822,32.565762490654897,39.615742642648172,7.5135682571944162,128.13417820713903,37.90260521294968,4.0128339187478317E-2,0.19577322091580293,0.53100201379483147,3.847523758924138,2.1657271401098934,2.958409276934979,9.3709452737554422,4.9203871173615461,3.4870458284510448,2.0954748821071147,0.5321293640923983,29.60250274018021,33.511991554942348,4.4574621889766997,132.27381656364861,36.2065844017337,0.2031832191174483,0.24440764789231004,6.1123595418306899E-2,0.35657577559038667,3.9224077847402242E-2,2.4265523545698744,30.413615328458938,22.406798858783144]
["Peas",null,74.616878921568286,null,9.5500000000000007,21.8,25.05,3,36.35,9.6499999999999986,5.5500000000000007,9.1999999999999993,15.75,15.45,1.8,10.399999999999999,8.3000000000000007,10.050000000000001,8.0500000000000007,1.9,1.2047860101242522,10.55,null,null,null,7,18.45,19.100000000000001,2.1,28.9,7,4.25,6.65,11.35,12.6,1.35,7.65,null,7.1,5.8,1.4,null,7.45,null,null,null,null,{"$f":"(Z13/E13)*100","v":73.298429319371721},84.633027522935777,76.247504990019962,70,79.504814305364505,72.538860103626959,76.576576576576571,72.282608695652186,72.063492063492063,81.553398058252426,null,{"$f":"(AK13/P13)*100","v":73.557692307692321},null,70.646766169154219,72.049689440993774,73.68421052631578,null,70.616113744075832,74.616878921568286,null,null,null,110.43691915359183,24.018222969189114,80.034080799787333,2.2883345964083492,0.5962778164582927,0.53931796971867496,39.072050471453423,16.233700522767592,4.3554953538895891,7.0433327577378337,28.993359078985513,0.75091680083073553,0.12780913082654549,0.41164697968329822,6.9088029351461122,1.7574582411076058,1.2568869465670074,1.7874647010918689,5.7246596437721244,1.3837777681724563,0.38337963256766411,0.16949804235589686,27.167692668243074,11.815375524432339,2.7006686630432046,4.4969207460198941,23.885717982857461,1.0506366621038226,1.9062720572483525,1.5331803530998775,2.2036234630504246,1.8470254380783724,4.524853551751427,16.514683856624103,17.899354153810691]
["Meat Meal",null,67.976390825291048,null,37.200000000000003,35.4,36.9,5,59.7,67.3,8.5,13.9,30.4,24.8,6.8,16.7,41.2,20.2,16.5,3.3,8.9145532579008986,20.9,null,null,null,null,26.9,null,null,null,null,6,9.6,21.3,16.899999999999999,4.8,11.7,null,null,10.199999999999999,1.8,null,14.4,null,null,null,null,null,{"$f":"(AA14/F14)*100","v":75.988700564971751},null,null,null,null,{"$f":"(AF14/K14)*100","v":70.588235294117652},69.064748201438846,70.06578947368422,68.145161290322577,70.588235294117652,{"$f":"(AK14/P14)*100","v":70.05988023952095},null,null,{"$f":"(AN14/S14)*100","v":61.818181818181813},{"$f":"(AO14/T14)*100","v":54.545454545454554},null,68.899521531100476,67.976390825291048]
["Meat & Bone Meal",null,71.847825194496281,null,37.099999999999994,34.966666666666669,36.049999999999997,4.4875000000000007,58.75,69.050000000000011,9.35,13.358333333333334,29.574999999999999,23.616666666666664,6.8166666666666664,16.100000000000001,42.8,19,15.916666666666666,2.9750000000000001,12.65093472264787,20.683333333333334,null,null,null,28.3,27.566666666666666,23.2,2.0875000000000004,46.1,49.1,6.9833333333333343,10.174999999999999,22.574999999999999,17.516666666666666,5.3166666666666673,11.7,null,13.5,10.924999999999999,2.0249999999999999,null,15.35,null,null,null,null,{"$f":"(Z15/E15)*100","v":76.280323450134773},{"$f":"(AA15/F15)*100","v":78.836987607244993},{"$f":"(AB15/G15)*100","v":64.35506241331484},{"$f":"(AC15/H15)*100","v":46.518105849582177},{"$f":"(AD15/I15)*100","v":78.468085106382972},{"$f":"(AE15/J15)*100","v":71.107892831281674},74.688057040998231,76.169681846537728,76.331360946745562,74.170783345095288,77.995110024449886,{"$f":"(AK15/P15)*100","v":72.670807453416145},null,{"$f":"(AM15/R15)*100","v":71.05263157894737},{"$f":"(AN15/S15)*100","v":68.638743455497377},{"$f":"(AO15/T15)*100","v":68.067226890756288},null,74.214343271555194,71.847825194496281]
[null,null,78.475445681512056,null,"CALCULATIONS USED FOR AMINO ACID AND PROTEIN DIGESTIBILITY",null,null,null,null,null,null,null,null,null,null,null,null,null,null,null,null,null,null,null,null,null,null,null,null,null,null,null,null,null,null,null,null,null,null,null,null,null,null,null,null,null,null,null,null,null,null,null,null,null,null,null,null,null,null,null,null,null,null,null,null,{"$f":"AVERAGE(BN4:BN15)","v":78.475445681512056}]
[]
[null,null,null,null,null,null,null,null,null,null,null,null,null,null,null,null,null,null,null,null,null,null,null,null,null,"Alanine","Arginine","Asparagine","Asparticacid","Cysteine","Glutamicacid","Glutamine","Glycine","Histidine","Isoleucine","Leucine","Lysine","Methionine","Phenylalanine","Proline","Serine","Threonine","Tryptophan","Tyrosine","Valine"]
[null,null,null,null,null,null,null,null,null,null,null,null,null,null,null,null,null,null,null,null,null,null,null,null,null,10.868902439024392,8.873239436619718,5.6920903954802267,6.767605633802817,6.0975609756097562,9.5081227436823106,8.5533453887884257,5.679065743944637,8.4024896265560169,18.080357142857142,17.541118421052634,13.999999999999998,8.1725146198830405,12.534818941504179,15.306603773584905,15.398648648648646,10.030581039755353,11.05263157894737,12.388059701492537,15.97826086956522]

{"sheet":"N to TP Factors ","index":11,"n_rows":34,"n_cols":23,"rows_kept":34,"cut":false,"hidden":false,"merged":[[30,7,31,17],[0,6,0,9],[0,10,0,13],[0,14,0,17],[26,7,27,17],[28,7,29,17]]}
[null,null,null,null,null,null,"Amino Acid Concentrations (g/kg)",null,null,null,"Amino Acid Residue Concentrations (True Protein)",null,null,null,"Amino Acid Nitrogen Concentrations  "]
[null,"AA*","Molecular Weight","Residue Weight","N","NPCR (Ka)","Wheat","Corn","SBM (Brazil)","M & B Meal","Wheat","Corn","SBM (Brazil)","M & B Meal","Wheat","Corn","SBM (Brazil)","M & B Meal"]
[1,"Ala",89.1,71.099999999999994,1,{"$f":"1/(E3*14/D3)","v":5.0785714285714283},4.45,6.8,19.8,37.099999999999994,{"$f":"($D3/$C3*G3)","v":3.5510101010101014},{"$f":"($D3/$C3*H3)","v":5.4262626262626261},15.8,29.605050505050503,{"$f":"$E3*14/$D3*K3","v":0.6992143658810327},{"$f":"$E3*14/$D3*L3","v":1.0684624017957352},3.1111111111111116,5.829405162738496]
[{"$f":"A3+1","v":2},"Arg",174.2,156.19999999999999,4,{"$f":"1/(E4*14/D4)","v":2.7892857142857141},5.583333333333333,4.1500000000000004,35.150000000000006,34.966666666666669,{"$f":"($D4/$C4*G4)","v":5.0064102564102564},3.7211825487944896,31.517967853042485,31.353578262533489,1.7948717948717949,1.334098737083812,11.299655568312287,11.240719479525451]
[{"$f":"A4+1","v":3},"AsX",132.6,114.6,1.5,5.4571428571428573,6.15,5.85,52.4,36.049999999999997,{"$f":"($D5/$C5*G5)","v":5.3151583710407246},5.0558823529411763,45.286877828054301,31.156334841628958,0.97398190045248878,0.92647058823529405,8.2986425339366523,5.7092760180995477]
[4,"Cys",121.2,103.2,1,7.3714285714285719,2.4750000000000001,2.1,6.9250000000000007,4.4875000000000007,{"$f":"($D6/$C6*G6)","v":2.1074257425742573},1.7881188118811882,5.8965346534653467,3.8210396039603967,0.28589108910891087,0.24257425742574257,0.79991749174917492,0.51835808580858089]
[5,"GLX",146.6,128.6,1.5,6.1238095238095234,35.049999999999997,16.950000000000003,85.2,58.75,{"$f":"($D7/$C7*G7)","v":30.746452933151431},14.868826739427016,74.738881309686221,51.536493860845837,5.0208049113233288,2.4280354706684864,12.204638472032743,8.4157571623465213]
[6,"Gly",75.099999999999994,57.099999999999994,1,4.0785714285714283,5.0999999999999996,3.3499999999999996,19.2,69.050000000000011,{"$f":"($D8/$C8*G8)+K21+K22","v":4.1193737760488434},{"$f":"($D8/$C8*H8)","v":2.5470705725699063},{"$f":"($D8/$C8*I8)","v":14.598135818908121},{"$f":"($D8/$C8*J8)","v":52.500066577896142},1.0100040781906097,0.62450066577896135,3.5792276964047938,12.872170439414116]
[7,"His",155.19999999999999,137.19999999999999,3,3.2666666666666666,2.7666666666666671,2.5,12.587499999999999,9.35,{"$f":"($D9/$C9*G9)","v":2.445790378006873},2.2100515463917523,11.127609536082472,8.2655927835051539,0.74871134020618568,0.67654639175257725,3.4064110824742264,2.5302835051546388]
[8,"Ile",131.19999999999999,113.19999999999999,1,8.0857142857142836,4.05,3.2,21.787499999999998,13.358333333333334,3.4943597560975608,2.7609756097560978,18.798361280487804,11.525635162601628,0.43216463414634149,0.34146341463414642,2.3248856707317076,1.425431910569106]
[9,"Leu",131.19999999999999,113.19999999999999,1,8.0857142857142836,7.833333333333333,11.4,36.375,29.574999999999999,6.7586382113821131,9.8359756097560975,31.384527439024389,25.517454268292681,0.83587398373983746,1.2164634146341464,3.8814786585365857,3.1558689024390247]
[10,"Lys",146.19999999999999,128.19999999999999,2,4.5785714285714283,3.3833333333333329,2.5499999999999998,29.775000000000002,23.616666666666664,2.9667806657546736,2.2360465116279067,26.109131326949388,20.709005927952575,0.64797081623347008,0.48837209302325579,5.7024623803009584,4.5230278157774739]
[11,"Met",149.19999999999999,131.19999999999999,1,9.3714285714285701,1.7166666666666668,1.65,6.1875,6.8166666666666664,1.5095621090259161,1.4509383378016085,5.4410187667560326,5.9942806076854334,0.16108132260947278,0.15482573726541557,0.58059651474530838,0.63963360142984815]
[12,"Phe",165.2,147.19999999999999,1,10.514285714285714,5.65,4.55,22.3,16.100000000000001,5.0343825665859567,4.0542372881355933,19.870217917675546,14.345762711864408,0.47881355932203395,0.38559322033898308,1.8898305084745766,1.3644067796610171]
[13,"Pro",115.1,97.1,1,6.9357142857142851,11.5,8.8000000000000007,24.799737360472751,42.8,9.7015638575152039,7.4238053866203311,20.921411795846257,36.106689834926151,1.3987836663770634,1.0703735881841878,3.0164754391539406,5.2059079061685489]
[14,"Ser",105.1,87.1,1,6.2214285714285706,5.85,4.3499999999999996,28.1,19,4.8480970504281631,3.6049952426260701,23.28744053282588,15.745956232159847,0.77925784966698375,0.57944814462416749,3.7431018078020935,2.5309229305423409]
[15,"Thr",119.1,101.1,1,7.2214285714285706,3.4833333333333329,3.3,19.05,15.916666666666666,2.9568849706129301,2.8012594458438289,16.170906801007558,13.51112510495382,0.40945983767142458,0.38790931989924443,2.2392947103274565,1.8709767702211029]
[16,"Trp",204.2,186.2,2,6.6499999999999995,1.4666666666666668,0.64999999999999991,12.012499999999999,2.9750000000000001,1.337381651975188,0.59270323212536724,10.95361165523996,2.7127571008814888,0.20111002285341176,8.9128305582761996E-2,1.6471596474045056,0.40793339862879535]
[17,"Tyr",181.2,163.19999999999999,1,11.657142857142857,5.125700201658077,3.7667638483965016,19.618745035742652,12.65093472264787,4.616524684937076,{"$f":"($D19/$C19*H19)","v":3.3925820091518162},17.669863078549675,11.394219352848413,0.39602540189411189,{"$f":"$E19*14/$D19*L19","v":0.29103031941253327},1.5157970778167613,0.97744528762180016]
[{"$f":"A19+1","v":18},"Val",117.1,99.1,1,7.0785714285714283,5.0999999999999996,4.25,22.55,20.683333333333334,4.3160546541417588,3.5967122117847996,19.083731853116994,17.503999430686022,0.60973526900085395,0.50811272416737829,2.6959863364645602,2.4728152576145743]
[null,"(Choline**)",104.17,null,null,null,8.8900000000000007E-2,5.2999999999999999E-2,0.33600000000000002,0.17510000000000001,{"$f":"(G21*($D$8/$C$21))","v":4.8729864644331378E-2},{"$f":"(H21*($D$8/$C$21))","v":2.9051550350388783E-2},{"$f":"(I21*($D$8/$C$21))","v":0.18417586637227606},{"$f":"(J21*($D$8/$C$21))","v":9.5979744648171245E-2}]
[null,"(Betaine**)",117.15,null,null,null,0.39600000000000002,0,0,0.06,{"$f":"(G22*($D$8/$C$22))","v":0.19301408450704222},{"$f":"(H22*($D$8/$C$22))","v":0},{"$f":"(I22*($D$8/$C$22))","v":0},{"$f":"(J22*($D$8/$C$22))","v":2.924455825864276E-2}]
[null,"Total",null,null,null,null,null,null,null,null,{"$f":"SUM(K3:K20)","v":100.83185173669906},{"$f":"SUM(L3:L20)","v":77.367626083497683},408.65622944671844,383.30504217027294,16.883755843549356,12.813408794506829,71.936672707779437,71.690340413761007]
[null,"NPCF or Ka",null,null,null,null,null,null,null,null,null,null,null,null,{"$f":"K23/O23","v":5.9721221196895655},{"$f":"L23/P23","v":6.0380205864239311},{"$f":"M23/Q23","v":5.6807774680761014},{"$f":"N23/R23","v":5.3466762740702132}]
[null,null,null,null,null,null,null,null,null,null,null,null,null,"% TP of CP =",{"$f":"(O24/6.25)*100","v":95.553953915033048},{"$f":"(P24/6.25)*100","v":96.608329382782898},{"$f":"(Q24/6.25)*100","v":90.892439489217622},{"$f":"(R24/6.25)*100","v":85.546820385123411}]
[{"$f":"A20+1","v":19},"MHA",150.19999999999999,131.19999999999999,1,9.3714285714285701]
[{"$f":"A26+1","v":20},"Ca(MHA)2",338.45,262.39999999999998,2,9.3714285714285701,null,"*Assumes total Glu and Gln, and total Asp and Asn, are measured together as GlX and AsX, respectively.  Their molecular weights are very similar.  Average N concentration is used, assuming a 50/50 mixture."]
[null,null,null,null,null,null,null,null,null,null,null,null,null,null,null,null,null,null,null,null,null,null,17.600000000000001]
[{"$f":"A27+1","v":21},"Asn",132.1,114.1,2,4.0750000000000002,null,"**Metabolically, choline is oxidized to betaine and beatine is oxidized to glycine.  The efficiency of these conversions is not known and assumed to be 100%.",null,null,null,null,null,null,null,null,null,null,null,null,null,null,6.25]
[{"$f":"A29+1","v":22},"ASP",133.1,115.1,1,8.2214285714285715,null,null,null,null,null,null,null,null,null,null,null,null,null,null,null,null,{"$f":"W28/W29","v":2.8160000000000003}]
[{"$f":"A30+1","v":23},"Gln",146.1,128.1,2,4.5749999999999993,null,"This spreadsheet automatically adds the glycine from choline and betaine in calculating GLY residue concentrations.",null,null,null,null,null,null,null,null,null,null,null,null,null,null,5.6360000000000001]
[{"$f":"A31+1","v":24},"Glu",147.1,129.1,1,9.2214285714285715,null,null,null,null,null,null,null,null,null,null,null,null,null,null,null,null,{"$f":"W30*W31","v":15.870976000000002}]
[null,"LysHCl",182.65,128.19999999999999,2,{"$f":"1/(E33*14/D33)","v":4.5785714285714283}]
[{"$f":"A32+1","v":25},"CholineCl",187.16,57.1,1,{"$f":"1/(E34*14/D34)","v":4.0785714285714283}]

{"sheet":"AMEn Calc","index":12,"n_rows":21,"n_cols":17,"rows_kept":21,"cut":false,"hidden":false,"merged":[[1,15,1,16],[18,5,18,13],[20,5,20,13],[1,2,1,3],[1,4,1,5],[1,6,1,7],[1,8,1,9],[1,11,1,12],[1,13,1,14]]}
[]
[null,"Moisture","Dry Matter",null,"Crude Protein",null,"Ether Extract",null,"Ash",null,"Crude Fiber","Nitrogen-free Extract",null,"Starch",null,"AMEn"]
[null,"g/kg","g/kg","WPSA '89 Factor","g/kg","WPSA '89 Factor","g/kg","WPSA '89 Factor","g/kg","WPSA '89 Factor","g/kg","g/kg","WPSA '89 Factor","g/kg","WPSA '89 Factor","kJ/g","kcal/g"]
["Wheat",103.25,896.75,null,111.575,14.61,20,26.4,13,null,22,730.17499999999995,15.24,632,null,{"$f":"(C4*D4+E4*F4+G4*H4+I4*J4+L4*M4+N4*O4)/1000","v":13.285977750000001},{"$f":"P4/4.184","v":3.1754248924474187}]
["Sorghum",115.33333333333303,884.66666666666697,null,97.024999999999991,9.1969999999999992,35.85,22.91,14.15,null,22.049999999999997,715.59166666666692,14.72,647.1,null,12.247171758333337,{"$f":"P5/4.184","v":2.9271443017049084}]
["Barley",107.66666666666663,892.33333333333337,9.2579999999999991,93.366666666666674,null,25.5,null,22,-9.2579999999999991,57.5,693.9666666666667,null,502,7.5259999999999998,11.835597999999997,2.8287758126195022]
["Corn",112.5,887.5,null,85.75,15.15,39.700000000000003,35.75,12.5,null,20.9,728.65,15.59,621,null,14.078041000000001,3.3647325525812621]
["Soybean Meal  (Brazil)",103.5,896.5,null,472.125,16.23,19.474999999999998,36.5,62.124999999999993,null,36.125,306.64999999999998,7.6219999999999999,5.5,null,10.71071255,2.5599217375717016]
["Soybean Meal (local)",120,880,null,456.9,16.23,19.474999999999998,36.5,62.124999999999993,null,36.125,305.375,7.6219999999999999,5.5,null,10.45389275,2.4985403322179729]
["Canola meal (solvent)",91.875,908.125,null,365.81874999999997,12.62,28.674999999999994,38.049999999999997,65.672499999999999,null,117.98500000000001,329.97375,3.8109999999999999,51,null,6.965246336249999,1.6647338279756212]
["Canola meal (pressed)",77.549999999999841,922.45000000000016,null,365.93333333333334,12.62,125.3,38.049999999999997,68.5,null,104.35,258.36666666666679,3.8109999999999999,51,null,10.370379033333332,2.4785800748884634]
["Lupins",98.5,901.5,null,319.95,16.59,63.8,33,28,null,118.2,371.54999999999995,1.5589999999999999,81,null,7.9926169499999986,1.9102812978011467]
["Peas",108,892,null,217.3,15.51,19.3,31.06,26.3,null,57.713000000000001,571.38699999999994,13.34,413.3,null,11.592083580000001,2.7705744694072658]
["Meat Meal",90,910,14.2,512.6,null,115.1,25.1,263.89999999999998,-19.149999999999999,0,18.399999999999977,null,null,null,10.757325000000002,2.5710623804971324]
["Meat & Bone Meal",70,930,14.2,489.45,null,88.875,25.1,331.65,-19.2,0,20.024999999999977,null,null,null,9.0690825000000004,2.1675627390057359]
["Tallow*",2,998,null,null,null,998,null,null,null,null,null,null,null,null,29.3,7]
["Fat, Vegetable*",2,998,null,null,null,998,null,null,null,null,null,null,null,null,{"$f":"(37.65+35.55)/2","v":36.599999999999994},8.75]
["*Moisture includes insolubles and unsaponifiables"]
[null,null,null,null,null,"Values to be Measured for each Ingredient"]
[]
[null,null,null,null,null,"AMEn of Wheat = (D4*E4+F4*G4+H4*I4+J4*K4+M4*N4+O4*P4)/1000"]

{"sheet":"Composition Charts","index":13,"n_rows":15,"n_cols":17,"rows_kept":15,"cut":false,"hidden":false,"merged":[[0,2,0,6],[0,7,0,8],[0,9,0,10],[0,15,0,16],[1,1,6,1],[1,2,1,9],[1,10,3,11],[1,15,6,15],[1,16,6,16],[2,4,2,9],[3,5,3,9],[5,6,5,11],[6,8,6,11],[4,5,4,11],[7,6,7,7],[7,8,7,9],[7,10,7,11],[8,6,8,7],[8,8,8,9],[8,10,8,11],[11,6,11,7],[11,8,11,9],[11,10,11,11],[14,1,14,16],[9,6,9,7],[9,8,9,9],[9,10,9,11],[10,6,10,7],[10,8,10,9],[10,10,10,11],[12,6,12,7],[12,8,12,9],[12,10,12,11]]}
[null,"Weende Method","Nitrogen-Free Extract",null,null,null,null,"Crude Fibre",null,"NFE",null,"CF","Ash","Ether Ext.",null,"Crude Protein"]
[null,"Common Nomenclature","Carbohydrates"]
[null,null,null,null,"Polysaccharides"]
[null,null,null,null,null,"Non-starch Polysaccharides"]
[null,null,null,null,null,"True Fibre"]
[null,null,null,null,null,null,"Neutral Detergent Fibre"]
[null,null,null,null,null,null,null,null,"ADF (Wood)"]
[null,"Armidale Method","Sugars","Oligosac-charides","Starch","Pectin","Hemi-cellulose",null,"Cellulose",null,"Lignin",null,"Ash","Neutral Lipids","Polar Lipids","True Protein","NPNC"]
[null,"Sugar Units","1-2","3-12",">12",null,">12",null,">12",null,">12"]
[null,"GE (kcal/g)",4,16.736000000000001,17.572800000000001,15.564480000000001,16.736000000000001,null,16.736000000000001,null,25.501480000000001,null,0,39.748000000000005,{"$f":"0.78*N10","v":31.003440000000005},23.848800000000001,{"$f":"P10/0.97","v":24.58639175257732}]
[null,"Potential Digestibility",1,0.9,100,0.7,0.5,null,0.1,null,0,null,0,100,100,100,{"$f":"P11/0.97","v":103.09278350515464}]
[null,"Potential ME (MJ/g)",16.736000000000001,16.736000000000001,17.572800000000001,10.895136000000001,8.3680000000000003,null,1.6736000000000002,null,0,null,0,39.748000000000005,{"$f":"0.78*N12","v":31.003440000000005},23.848800000000001,{"$f":"P12/0.97","v":24.58639175257732}]
[null,"NE (based on ATP)",10.56,10.6,11.73,8.2100000000000009,8.2100000000000009,null,11.73,null,8.2100000000000009,null,0,25.31,20.36,11.35,6.33]
[]
[null,"NPNC = Non-Protein Nitrogenous Compounds, the difference between Crude Protein and True Protein (~12%, TP = 0.88 x CP)"]

{"sheet":"Weende v Armidale","index":14,"n_rows":30,"n_cols":156,"rows_kept":30,"cut":false,"hidden":false,"merged":[[1,0,13,0],[17,0,29,0],[14,43,14,50],[15,4,15,5],[15,16,15,17],[15,2,15,3],[15,6,15,7],[15,8,15,9],[15,10,15,11],[15,12,15,13],[15,14,15,15],[15,19,15,26]]}
[null,null,"DM","Crude Protein","Moisture","Total Lipids","Ash","NFE",null,"TOTAL",null,null,null,null,null,null,null,null,null,"N","NPCF or Ka","Total NSP","NDF","ADF","% PL","Lignin","Sugars",null,null,null,null,null,null,null,null,null,null,null,null,null,null,null,null,"Ala","Arg","AsX","Cys","Glx","Gly","His","Ile","Leu","Lys","Met","Phe","Pro","Ser","Thr","Trp","Tyr","Val",null,null,null,null,null,null,null,null,"AlaD","ArgD","AsXD","CysD","GlxD","GlyD","HisD","IleD","LeuD","LysD","MetD","PheD","ProD","SerD","ThrD","TrpD","TyrD","ValD","TOTAL",null,null,null,null,null,null,null,"Ala","Arg","AsX","Cys","Glx","Gly","His","Ile","Leu","Lys","Met","Phe","Pro","Ser","Thr","Trp","Tyr","Val","Average",null,null,null,null,null,null,null,"NSPTot","NSPSol","NSPInSol","NSPTotRhamnose","NSPTotFucose","NSPTotRibose","NSPTotArabinose","NSPTotXylose","NSPTotMannose","NSPTotGalactose","NSPTotGlucose","NSPSolRhamnose","NSPSolFucose","NSPSolRibose","NSPSolArabinose","NSPSolXylose","NSPSolMannose","NSPSolGalactose","NSPSolGlucose","NSPInSolRhamnose","NSPInSolFucose","NSPInSolRibose","NSPInSolArabinose","NSPInSolXylose","NSPInSolMannose","NSPInSolGalactose","NSPInSolGlucose","ONSPRhamnose","ONSPFucose","ONSPRibose","ONSPArabinose","ONSPXylose","ONSPMannose","ONSPGalactose","ONSPGlucose"]
["Weende Method (Proximate Analysis)",null,"g/kg","g/kg","g/kg","g/kg","g/kg","g/kg",null,null,null,null,null,null,null,null,null,null,null,"g/kg","g/kg","g/kg","g/kg","g/kg","g/kg","g/kg","g/kg",null,null,null,null,null,null,null,null,null,null,null,null,null,null,null,null,null,null,null,null,null,null,null,null,null,null,null,null,null,null,null,null,null,null,null,null,null,null,null,null,null,null,null,null,null,null,null,null,null,null,null,null,null,null,null,null,null,null,null,null,"NPCF"]
[null,"Wheat",896.75,111.575,{"$f":"1000-C3","v":103.25},20,13,{"$f":"1000-(SUM(D3:G3))","v":752.17499999999995},null,{"$f":"SUM(D3:H3)","v":1000},null,null,null,"Average Total",null,null,null,null,null,{"$f":"(D3/6.25)","v":17.852},5.9913008833301902,{"$f":"DR3","v":104.71249729113956},127.2,34.700000000000003,{"$f":"AVERAGE(Phospholipids!H29:H32)","v":35.511071428571434},11,32,null,null,null,null,null,null,null,null,null,null,null,null,null,null,null,null,4.45,5.583333333333333,6.15,2.4750000000000001,35.049999999999997,5.0999999999999996,2.7666666666666671,4.05,7.833333333333333,3.3833333333333329,1.7166666666666668,5.65,11.5,5.85,3.4833333333333329,1.4666666666666668,5.125700201658077,5.0999999999999996,null,null,null,null,null,null,null,null,3.8,4.8500000000000005,5,1.9500000000000002,34.6,4.3,2.3833333333333333,3.5833333333333335,7.0166666666666666,2.7166666666666668,1.5333333333333332,5,{"$f":"BD3*DD3/100","v":9.7687557353871011},5.4,2.8166666666666664,0.93333333333333346,{"$f":"BH3*DH3/100","v":4.354062021114971},4.3166666666666673,{"$f":"#REF!/#REF!","v":{"$error":"#REF!"}},null,null,null,null,null,null,null,{"$f":"(BR3/AR3)*100","v":85.393258426966284},86.865671641791053,81.300813008130078,78.787878787878796,98.716119828815991,84.313725490196077,86.144578313252993,88.477366255144034,89.574468085106389,80.29556650246306,89.320388349514545,88.495575221238937,{"$f":"$DK3","v":84.94570204684436},92.307692307692321,80.861244019138752,63.636363636363633,{"$f":"$DK3","v":84.94570204684436},{"$f":"(CI3/BI3)*100","v":84.640522875817013},{"$f":"AVERAGE(CR3:DI3)","v":84.94570204684436},84.94570204684436,null,null,null,null,null,null,104.71249729113956,20.286868323952643,85.12183260498675,5.6754419766855288E-2,9.074321270895927E-3,0.22887823508783622,20.712873429882251,34.893922549650696,3.6712191999695234,4.1524243574219248,26.623981043713055,4.5688933832411195E-3,9.074321270895927E-3,0.13066263979083279,4.4071995624218481,7.0427118314167982,1.0962517316968736,1.7178195965850476,4.2674676471420625,7.1793369520869066E-2,null,9.8215595297003355E-2,16.32528171059765,27.91003424764568,2.57496746827265,2.4346047608368764,22.434944769120012,6.6384064342455834E-2,null,3.0970110173273616E-2,0.28146296540857102,9.3092348455271132E-2,3.1339311986609286,1.9965726321388506,14.328999795817076]
[null,"Sorghum",884.66666666666697,97.024999999999991,115.33333333333303,35.85,14.15,{"$f":"1000-(SUM(D4:G4))","v":737.64166666666699},null,{"$f":"SUM(D4:H4)","v":1000},null,null,null,{"$f":"AVERAGE(J3:J14)","v":1000},"g/kg",null,null,null,null,15.523999999999999,6.2311036720643669,53.943683538508687,103.3,43.5,{"$f":"AVERAGE(Phospholipids!H8:H11,Phospholipids!H18:H32)","v":19.458362510573611},11,14,null,null,null,null,null,null,null,null,null,null,null,null,null,null,null,null,7.45,3.2999999999999994,5.4,1.75,16.899999999999999,2.5999999999999996,2.0666666666666669,3.5333333333333332,12.033333333333331,1.9333333333333336,1.4000000000000001,4.1999999999999993,7.1,3.95,2.9,1.1499999999999999,1.7521257407884567,4.4333333333333336,null,null,null,null,null,null,null,null,5.7,1.9333333333333336,3.7,1.35,13.5,1.6,1.6333333333333335,3.0333333333333332,10.6,1.5666666666666667,1.2333333333333332,3.5999999999999996,5.5472472531265673,2.9,2.2333333333333334,1,1.3689400989748055,3.6666666666666665,{"$f":"#REF!/#REF!","v":{"$error":"#REF!"}},null,null,null,null,null,null,null,76.510067114093957,58.58585858585861,68.518518518518505,77.142857142857153,79.881656804733737,61.538461538461554,79.032258064516128,85.84905660377359,88.088642659279799,81.034482758620669,88.095238095238074,85.714285714285722,78.130243001782631,73.417721518987335,77.011494252873575,86.956521739130437,78.130243001782631,82.706766917293223,{"$f":"AVERAGE(CR4:DI4)","v":78.130243001782617},78.130243001782631,null,null,null,null,null,null,53.943683538508687,5.4254092332701873,49.48032875733908,9.9110369883684477E-2,4.552846548109655E-3,2.5667898498051134,11.857024249601045,11.567353124658341,2.325021479172066,2.9851953155847122,24.255490785567876,8.8158510831054498E-2,4.552846548109655E-3,0.12650547683557176,0.80400562024219768,0.6014674053732938,1.0355879503013377,0.79711403850216078,1.9328631675375161,3.8729636830407747E-2,null,2.440284372969542,11.108574184914406,10.965885719285044,1.2338779733151735,2.1880812770825515,22.294849840252585,7.4495276900976487E-2,null,null,0.21325946021221215,4.9274073258514919E-2,1.071393444488395,0.66580660747764497,7.3779999060717376]
[null,"Barley",892.33333333333337,93.366666666666674,107.66666666666663,25.5,22,751.4666666666667,null,1000,null,null,null,{"$f":"((N4-1000)/1000)*100","v":0},"%",null,null,null,null,14.938666666666668,5.9844960830972198,154.35947445181515,185.3,58.1,{"$f":"Phospholipids!H8","v":16.866666666666667},11,28,null,null,null,null,null,null,null,null,null,null,null,null,null,null,null,null,3.9499999999999997,4.7333333333333334,5.65,2.0499999999999998,20.950000000000003,3.8499999999999996,2.1,3.3333333333333335,6.5333333333333341,3.5,1.4666666666666668,4.5,9,4.0999999999999996,3.1,1.2666666666666668,4.123527311674402,4.6333333333333329,null,null,null,null,null,null,null,null,2.7,3.8000000000000003,3.4,1.7000000000000002,18.8,2.2999999999999998,1.6333333333333335,2.6666666666666665,5.3666666666666663,2.6999999999999997,1.2666666666666666,3.5,6.8138181800830857,2.7,2.1999999999999997,0.93333333333333324,3.1218850402617964,3.6333333333333333,{"$f":"#REF!/#REF!","v":{"$error":"#REF!"}},null,null,null,null,null,null,null,68.354430379746844,80.281690140845072,60.176991150442468,82.926829268292707,89.73747016706443,59.740259740259738,77.777777777777786,80,82.142857142857125,77.142857142857139,86.36363636363636,77.777777777777786,75.70909088981206,65.853658536585385,70.967741935483858,73.68421052631578,75.70909088981206,78.417266187050373,75.709090889812074,75.70909088981206,null,null,null,null,null,null,154.35947445181515,41.720029395773999,112.63650387957055,0.33573579686859023,8.1506875493293413E-2,0.69305236146244076,20.530736602065893,51.666770883127803,6.399910031973052,4.9820353747606481,70.496568977883499,0.18768042416436326,8.1506875493293413E-2,0.72907445057427656,4.2367144703995168,4.7682687713950216,2.4190327252841897,2.5350076872778908,33.136467853155878,0.14805537270422697,null,3.3283147034408225E-2,16.246403084047326,46.803264016494694,3.9332582590698144,2.4470276874827577,37.360101124727628,0.13895096532071949,5.7024774117680622E-2,2.160190760647198E-2,9.0027097849168763E-2,0.11044179386179037,3.1522891018164074,2.2070936436860444,15.16919186782717]
[null,"Corn",887.5,85.75,112.5,39.700000000000003,12.5,749.55,null,1000,null,null,null,"Minimum Total",null,null,null,null,null,13.72,6.0523309525273863,70.321745200373286,111.4,28.3,{"$f":"AVERAGE(Phospholipids!H9:H11)","v":5.8772522522522523},6,21,null,null,null,null,null,null,null,null,null,null,null,null,null,null,null,null,6.8,4.1500000000000004,5.85,2.1,16.950000000000003,3.3499999999999996,2.5,3.2,11.4,2.5499999999999998,1.65,4.55,8.8000000000000007,4.3499999999999996,3.3,0.64999999999999991,3.7667638483965016,4.25,null,null,null,null,null,null,null,null,5.9,3.65,4.5,1.8,14.8,2.6,2.2999999999999998,2.9000000000000004,10.45,2.15,1.5,4.0500000000000007,7.4898544144859924,3.3,2.5999999999999996,0.5,3.2059673679816796,3.8,{"$f":"#REF!/#REF!","v":{"$error":"#REF!"}},null,null,null,null,null,null,null,86.764705882352942,87.951807228915655,76.923076923076934,85.714285714285708,87.315634218289077,77.611940298507477,92,90.625000000000014,91.666666666666657,84.313725490196077,90.909090909090921,89.010989010989022,85.111981982795356,75.862068965517253,78.787878787878782,76.923076923076934,85.111981982795356,89.411764705882348,85.111981982795371,85.111981982795356,null,null,null,null,null,null,70.321745200373286,8.6696179786941929,61.629081882057335,0.49271400413440353,1.2156782454101111E-2,0.1963486029424325,16.342828766222247,22.548249243848062,2.3827802393739796,5.5037052836810831,21.156269550826817,6.2000776935733831E-2,1.8868191850074267E-2,0.1963486029424325,1.2855041394370159,1.1682507389928269,1.275194265828071,1.1626737265684703,2.9039795248641331,0.43071322719866972,null,null,15.14457294893289,21.339730048479403,1.0874517453579815,4.3141859195287138,18.252290025962694,0.16479142364051499,null,null,null,null,null,null,0.50749839759127457]
[null,"Soybean Meal  (Brazil)",896.5,472.125,103.5,19.474999999999998,62.124999999999993,342.77499999999998,null,1000,null,null,null,{"$f":"MIN(J3:J14)","v":1000},"g/kg",null,null,null,null,75.540000000000006,5.641930102834908,150.5480238448003,119.4,196.1,100,4,108,null,null,null,null,null,null,null,null,null,null,null,null,null,null,null,null,19.8,35.150000000000006,52.4,6.9250000000000007,85.2,19.2,12.587499999999999,21.787499999999998,36.375,29.775000000000002,6.1875,22.3,24.799737360472751,28.1,19.05,12.012499999999999,19.618745035742652,22.55,null,null,null,null,null,null,null,null,16.399999999999999,32.287500000000001,41.6,5.6749999999999998,74.7,15.7,10.675000000000001,19.1875,31.862500000000001,25.824999999999999,5.55,19.3,20.511756787104979,22.8,15.4625,5.7374999999999989,16.226580176722699,19.024999999999999,{"$f":"#REF!/#REF!","v":{"$error":"#REF!"}},null,null,null,null,null,null,null,82.828282828282823,91.856330014224739,79.389312977099252,81.949458483754498,87.676056338028175,81.770833333333343,84.80635551142008,88.066551921973613,87.594501718213053,86.733837111670852,89.696969696969703,86.54708520179372,82.709572641675621,81.138790035587178,81.167979002624662,47.762747138397501,82.709572641675621,84.368070953436799,82.709572641675607,82.709572641675621,null,null,null,null,null,null,150.5480238448003,29.526566441105523,120.99531357314723,1.8455236560393009,2.3766380781946599,0.95241334877803463,24.567642392090015,13.228917959453469,8.6264356871513908,42.321567455831513,39.370036902688874,0.3999004630016772,0.60503653497751209,0.6335358132919795,4.780451084676411,1.4790862726296397,3.5718010939749361,8.265089586623839,2.5076843077108739,1.4240425077158616,1.7882360871715643,0.40389942349046004,20.448171578104994,12.151933053845983,4.9076983353974768,34.679701435868708,36.147244115673679,0.43697253367684052,8.2025944851570345E-2,0.11066075973894642,0.80098523879824735,0.10206162161999674,3.9811568271790936,19.890183274525661,44.46990551836744]
[null,"Soybean Meal (local)",880,456.9,120,19.474999999999998,62.124999999999993,341.5,null,1000,null,null,null,{"$f":"((N7-1000)/1000)*100","v":0},"%",null,null,null,null,73.103999999999999,5.670760694335824,150.5480238448003,119.4,196.1,100,4,108,null,null,null,null,null,null,null,null,null,null,null,null,null,null,null,null,20.2,34,53.4,6.8,83.6,19.7,12.2,21.2,35.6,29.1,6.4,23.5,24,23.3,18.2,6.3,20.272488509520684,22.5,null,null,null,null,null,null,null,null,15.871135822081015,31.2,40.258490865766483,5.4,72.291088165210482,15.193709293089753,10.9,18.399999999999999,31.3,25.9,5.7,20.9,20.601909055031424,22.064749801429706,15.1,5.6,17.402165191346445,19.600000000000001,{"$f":"#REF!/#REF!","v":{"$error":"#REF!"}},null,null,null,null,null,null,null,78.56997931723275,91.764705882352942,75.39043233289604,79.411764705882362,86.472593499055606,77.125427883704333,89.344262295081975,86.792452830188665,87.921348314606746,89.003436426116835,89.0625,88.936170212765958,85.841287729297605,94.698497001844231,82.967032967032978,88.888888888888886,85.841287729297605,87.111111111111114,85.841287729297605,85.841287729297605,null,null,null,null,null,null,150.5480238448003,29.526566441105523,120.99531357314723,1.8455236560393009,2.3766380781946599,0.95241334877803463,24.567642392090015,13.228917959453469,8.6264356871513908,42.321567455831513,39.370036902688874,0.3999004630016772,0.60503653497751209,0.6335358132919795,4.780451084676411,1.4790862726296397,3.5718010939749361,8.265089586623839,2.5076843077108739,1.4240425077158616,1.7882360871715643,0.40389942349046004,20.448171578104994,12.151933053845983,4.9076983353974768,34.679701435868708,36.147244115673679,0.43697253367684052,8.2025944851570345E-2,0.11066075973894642,0.80098523879824735,0.10206162161999674,3.9811568271790936,19.890183274525661,44.46990551836744]
[null,"Canola meal (solvent)",908.125,365.81874999999997,91.875,28.674999999999994,65.672499999999999,447.95875000000001,null,1000,null,null,null,"Maximum Total",null,null,null,null,null,58.530999999999992,5.5786282108158547,111.9,289.5,171.7,100,97,105,null,null,null,null,null,null,null,null,null,null,null,null,null,null,null,null,15.3,21.897500000000001,24.4,8.2225000000000001,60.8,17.8,10.536249999999999,15.137499999999999,25.372499999999995,19.994999999999997,6.4949999999999983,14.2,21.5,18.2,16.228749999999998,4.7524999999999995,1.1322547026362102,19.032499999999999,null,null,null,null,null,null,null,null,11.1,18.507500000000004,16.399999999999999,5.6049999999999986,50.1,12.7,8.5737500000000004,11.81625,20.096249999999998,15.526249999999999,5.6774999999999993,11,16.362311296441877,11.8,11.506249999999998,3.8037500000000009,0.8616885540183209,14.18375,{"$f":"#REF!/#REF!","v":{"$error":"#REF!"}},null,null,null,null,null,null,null,72.549019607843135,84.518780682726359,67.213114754098356,68.16661599270293,82.401315789473699,71.348314606741567,81.373828449400889,78.059454995871178,79.204847768253046,77.650662665666431,87.41339491916861,77.464788732394368,76.103773471822677,64.835164835164832,70.900408226141877,80.036822724881659,76.103773471822677,74.523840798633927,76.103773471822677,76.103773471822677,null,null,null,null,null,null,111.9,10.8,101.1,1.7894020435520934,1.896486172574281,0.82430572650826783,43.666104773430263,16.530789732698775,4.0870516613319268,17.032313048618686,37.380925991433536,9.1724134150168918E-2,0.11882746377840585,0.46029935360455698,5.5852650026653468,0.75203457959520492,1.4643567124756358,2.2866481198736639,0.76493099910681805,1.6976779094019245,1.7776587087958746,0.36400637290371085,38.080839770764904,15.778755153103576,2.6226949488562901,14.745664928745022,36.615994992326726]
[null,"Canola meal (pressed)",922.45000000000016,365.93333333333334,77.549999999999841,125.3,68.5,362.71666666666681,null,1000,null,null,null,{"$f":"MAX(J3:J14)","v":1000},"g/kg",null,null,null,null,58.549333333333337,5.5801104191459716,154.80000000000001,281.60000000000002,167.8,{"$f":"Phospholipids!H59","v":3.4494382022471912},97,105,null,null,null,null,null,null,null,null,null,null,null,null,null,null,null,null,15.3,20.399999999999999,24.4,8.75,60.8,17.8,9.8000000000000007,13.65,23.1,20.916666666666668,6.125,14.2,20.7,18.2,14.925000000000001,4.5999999999999996,1.1319001639642923,17.774999999999999,null,null,null,null,null,null,null,null,11.1,17.100000000000001,16.399999999999999,5.5,50.1,12.7,7.95,10.55,17.95,15.425000000000001,5.35,11,15.563392085704933,11.8,10.525,3.6749999999999998,0.85102444703623126,12.95,{"$f":"#REF!/#REF!","v":{"$error":"#REF!"}},null,null,null,null,null,null,null,72.549019607843135,83.823529411764724,67.213114754098356,62.857142857142854,82.401315789473699,71.348314606741567,81.122448979591837,77.289377289377299,77.705627705627705,73.745019920318725,87.346938775510196,77.464788732394368,75.185469013067319,64.835164835164832,70.519262981574542,79.891304347826093,75.185469013067319,72.855133614627292,75.185469013067319,75.185469013067319,null,null,null,null,null,null,154.80000000000001,14.9,139.9,1.603203644724033,1.4203651946614595,1.4380110105852448,42.787520409143767,16.575613547505423,5.3227954830887994,16.898483518215258,63.995654711149122,9.7198303690116464E-2,0.14058342808420715,0.58253200749692535,6.9466849930312735,1.18945733367232,2.3229397368456368,2.9249353450025857,0.9955635385192686,1.5060053410339163,1.2797817665772526,0.85547900308831926,35.840835416112498,15.386156213833102,2.9998557462431616,13.973548173212674,63.000091172629865]
[null,"Lupins",901.5,319.95,98.5,63.8,28,489.75,null,1000,null,null,null,{"$f":"((N10-1000)/1000)*100","v":0},"%",null,null,null,null,51.192,5.2253769300725752,273.16803414762126,198.7,150.69999999999999,{"$f":"Phospholipids!H60","v":71.874999999999986},12,58,null,null,null,null,null,null,null,null,null,null,null,null,null,null,null,null,11.2,35.85,32,4.7,67.25,13.55,8.9499999999999993,13.3,22.3,16.5,2.1,12.8,13.2,15.5,11.05,2.8,2.4703859978121581,13,null,null,null,null,null,null,null,null,9.1,32.85,26.1,3.9,56.7,10.9,7.55,11.2,19.2,14.4,1.75,11.15,11.025581484679265,12.2,9.0500000000000007,2.2000000000000002,2.0634425846582305,10.75,{"$f":"#REF!/#REF!","v":{"$error":"#REF!"}},null,null,null,null,null,null,null,81.25,91.63179916317992,81.5625,82.978723404255319,84.312267657992564,80.442804428044283,84.357541899441344,84.210526315789465,86.098654708520172,87.27272727272728,83.333333333333329,87.109375,83.527132459691401,78.709677419354833,81.900452488687776,78.571428571428584,83.527132459691401,82.692307692307693,83.527132459691401,83.527132459691401,null,null,null,null,null,null,273.16803414762126,25.27991342956696,247.88850637987267,2.0492027647118816,2.2358236034733152,0.99791097062778822,32.565762490654897,39.615742642648172,7.5135682571944162,128.13417820713903,37.90260521294968,4.0128339187478317E-2,0.19577322091580293,0.53100201379483147,3.847523758924138,2.1657271401098934,2.958409276934979,9.3709452737554422,4.9203871173615461,3.4870458284510448,2.0954748821071147,0.5321293640923983,29.60250274018021,33.511991554942348,4.4574621889766997,132.27381656364861,36.2065844017337,0.2031832191174483,0.24440764789231004,6.1123595418306899E-2,0.35657577559038667,3.9224077847402242E-2,2.4265523545698744,30.413615328458938,22.406798858783144]
[null,"Peas",892,217.3,108,19.3,26.3,629.09999999999991,null,1000,null,null,null,null,null,null,null,null,null,34.768000000000001,5.2422484287340296,110.43691915359183,140.1,79.400000000000006,{"$f":"Phospholipids!H61","v":42.833333333333329},4,49,null,null,null,null,null,null,null,null,null,null,null,null,null,null,null,null,9.5500000000000007,21.8,25.05,3,36.35,9.6499999999999986,5.5500000000000007,9.1999999999999993,15.75,15.45,1.8,10.399999999999999,8.3000000000000007,10.050000000000001,8.0500000000000007,1.9,1.2047860101242522,10.55,null,null,null,null,null,null,null,null,7,18.45,19.100000000000001,2.1,28.9,7,4.25,6.65,11.35,12.6,1.35,7.65,6.1932009504901684,7.1,5.8,1.4,0.89897371843840679,7.45,{"$f":"#REF!/#REF!","v":{"$error":"#REF!"}},null,null,null,null,null,null,null,73.298429319371721,84.633027522935777,76.247504990019962,70,79.504814305364505,72.538860103626959,76.576576576576571,72.282608695652186,72.063492063492063,81.553398058252426,{"$f":"$DK12","v":74.616878921568286},73.557692307692321,74.616878921568286,70.646766169154219,72.049689440993774,73.68421052631578,74.616878921568286,70.616113744075832,74.616878921568286,74.616878921568286,null,null,null,null,null,null,110.43691915359183,24.018222969189114,80.034080799787333,2.2883345964083492,0.5962778164582927,0.53931796971867496,39.072050471453423,16.233700522767592,4.3554953538895891,7.0433327577378337,28.993359078985513,0.75091680083073553,0.12780913082654549,0.41164697968329822,6.9088029351461122,1.7574582411076058,1.2568869465670074,1.7874647010918689,5.7246596437721244,1.3837777681724563,0.38337963256766411,0.16949804235589686,27.167692668243074,11.815375524432339,2.7006686630432046,4.4969207460198941,23.885717982857461,1.0506366621038226,1.9062720572483525,1.5331803530998775,2.2036234630504246,1.8470254380783724,4.524853551751427,16.514683856624103,17.899354153810691]
[null,"Meat Meal",910,512.6,90,115.1,263.89999999999998,18.399999999999977,null,1000,null,null,null,null,null,null,null,null,null,82.016000000000005,5.2881479533318867,0,0,0,{"$f":"Phospholipids!H62","v":9.7980769230769216},0,0,null,null,null,null,null,null,null,null,null,null,null,null,null,null,null,null,37.200000000000003,35.4,36.9,5,59.7,67.3,8.5,13.9,30.4,24.8,6.8,16.7,41.2,20.2,16.5,3.3,8.9145532579008986,20.9,null,null,null,null,null,null,null,null,{"$f":"AR13*CR13/100","v":23.935288533643885},26.9,{"$f":"AT13*CT13/100","v":23.74226201321127},{"$f":"AU13*CU13/100","v":3.2171086738768655},{"$f":"AV13*CV13/100","v":38.412277566089777},{"$f":"AW13*CW13/100","v":43.302282750382609},6,9.6,21.3,16.899999999999999,4.8,11.7,26.508975472745373,12.997119042462536,10.199999999999999,1.8,5.7358173219460502,14.4,{"$f":"#REF!/#REF!","v":{"$error":"#REF!"}},null,null,null,null,null,null,null,{"$f":"$DK13","v":64.342173477537315},{"$f":"(BS13/AS13)*100","v":75.988700564971751},{"$f":"$DK13","v":64.342173477537315},{"$f":"$DK13","v":64.342173477537315},{"$f":"$DK13","v":64.342173477537315},{"$f":"$DK13","v":64.342173477537315},70.588235294117652,69.064748201438846,70.06578947368422,68.145161290322577,70.588235294117652,70.05988023952095,64.342173477537315,{"$f":"$DK13","v":64.342173477537315},61.818181818181813,54.545454545454554,64.342173477537315,68.899521531100476,66.361183115178264,64.342173477537315]
[null,"Meat & Bone Meal",930,489.45,70,88.875,331.65,20.024999999999977,null,1000,null,null,null,null,null,null,null,null,null,78.311999999999998,5.3212390389817452,0,0,0,{"$f":"Phospholipids!H63","v":1.9024390243902443},0,0,null,null,null,null,null,null,null,null,null,null,null,null,null,null,null,null,37.099999999999994,34.966666666666669,36.049999999999997,4.4875000000000007,58.75,69.050000000000011,9.35,13.358333333333334,29.574999999999999,23.616666666666664,6.8166666666666664,16.100000000000001,42.8,19,15.916666666666666,2.9750000000000001,12.65093472264787,20.683333333333334,null,null,null,null,null,null,null,null,28.3,27.566666666666666,23.2,2.0875000000000004,46.1,49.1,6.9833333333333343,10.174999999999999,22.574999999999999,17.516666666666666,5.3166666666666673,11.7,30.750869183244408,13.5,10.924999999999999,2.0249999999999999,9.0894214649978746,15.35,{"$f":"#REF!/#REF!","v":{"$error":"#REF!"}},null,null,null,null,null,null,null,{"$f":"(BR14/AR14)*100","v":76.280323450134773},{"$f":"(BS14/AS14)*100","v":78.836987607244993},{"$f":"(BT14/AT14)*100","v":64.35506241331484},{"$f":"(BU14/AU14)*100","v":46.518105849582177},{"$f":"(BV14/AV14)*100","v":78.468085106382972},{"$f":"(BW14/AW14)*100","v":71.107892831281674},74.688057040998231,76.169681846537728,76.331360946745562,74.170783345095288,77.995110024449886,72.670807453416145,71.847825194496281,71.05263157894737,68.638743455497377,68.067226890756288,71.847825194496281,74.214343271555194,71.847825194496281,71.847825194496281]
[null,null,null,null,null,null,null,null,null,null,null,null,null,null,null,null,null,null,null,"Other measurements used in the calculations",null,null,null,null,null,null,null,null,null,null,null,null,null,null,null,null,null,null,null,null,null,null,null,"CALCULATIONS USED FOR AMINO ACID AND PROTEIN DIGESTIBILITY",null,null,null,null,null,null,null,null,null,null,null,null,null,null,null,null,null,null,null,null,null,null,null,null,null,null,null,null,null,null,null,null,null,null,null,null,null,null,null,null,null,"Average =",{"$f":"AVERAGE(CJ3:CJ14)","v":{"$error":"#REF!"}}]
[null,null,null,null,null,null,null,null,null,null,null,null,null,null,null,null,null,null,null,"From:    https://www.feedipedia.org/node/23099"]
[null,null,{"$f":"C1","v":"DM"},{"$f":"E1","v":"Moisture"},{"$f":"G1","v":"Ash"},"Neutral Lipids","Polar Lipids","True Protein","Sugars","Oligos","Starch","Lignin","Pectins","Hemi-cellulose","Cellulose","NPNC",null,"TOTAL"]
["Armidale Method (Astute Analysis)",null,{"$f":"C2","v":"g/kg"},{"$f":"E2","v":"g/kg"},{"$f":"G2","v":"g/kg"},"g/kg","g/kg","g/kg","g/kg","g/kg","g/kg","g/kg","g/kg","g/kg","g/kg","g/kg",null,"g/kg",null,null,"Average Total"]
[null,"Wheat",896.75,103.25,13,{"$f":"F3-G19","v":12.897785714285714},{"$f":"(((Y3)/100)*F3)","v":7.1022142857142869},{"$f":"T3*U3","v":106.95670336921056},{"$f":"AA3","v":32},19.931413114996428,632,{"$f":"Z3","v":11},{"$f":"IF(DR3-N19-O19<0,0,DR3-N19-O19)","v":0},{"$f":"IF(W3-X3<0,0,W3-X3)","v":92.5},{"$f":"X3-L19","v":23.700000000000003},{"$f":"T3*(6.25-U3)","v":4.6182966307894455},null,{"$f":"E3+F19+G3+H19+I19+J19+K19+M19+N19+O19+L19+P19","v":1051.8541988292823},null,null,{"$f":"AVERAGE(R19:R30)","v":1008.3194818173029},"g/kg"]
[null,"Sorghum",884.66666666666697,115.33333333333303,14.15,28.87417703995936,6.9758229600406407,96.731653405127233,{"$f":"AA4","v":14},9.4522287684094817,647.1,{"$f":"Z4","v":11},0,59.8,{"$f":"X4-L20","v":32.5},0.29334659487276848,null,1029.2347391417018,null,null,{"$f":"((U19-1000)/1000)*100","v":0.83194818173028573},"%"]
[null,"Barley",892.33333333333337,107.66666666666663,22,21.198999999999998,4.3010000000000002,89.400392153361679,28,20.946621152085456,502,11,0,127.20000000000002,{"$f":"X5-L21","v":47.1},3.9662745133049992,null,980.47895448541897,null,null,{"$f":"STDEV(R19:R30)/(COUNT(R19:R30)-1)^0.5","v":12.073534437682742},"SEM",null,null,null,null,null,null,null,null,null,null,null,null,null,null,null,null,null,null,null,null,null,null,null,null,null,null,null,null,null,null,null,null,null,null,null,null,null,null,null,null,null,null,null,null,null,null,null,null,null,null,null,null,null,null,null,null,null,null,null,null,null,null,null,null,null,null,null,null,null,null,null,null,null,null,null,null,null,null,null,null,null,{"$f":"#REF!+#REF!","v":{"$error":"#REF!"}},null,{"$f":"(DB19*DB20)/1000","v":0}]
[null,"Corn",887.5,112.5,12.5,37.366730855855856,2.3332691441441447,83.037980668675743,21,0.68682245530794739,621,6,0,83.100000000000009,{"$f":"X6-L23","v":24.3},2.7120193313242602,null,1004.2035533111639,null,null,"Minimum Total"]
[null,"Soybean Meal  (Brazil)",896.5,103.5,62.124999999999993,0,19.474999999999998,426.19139996814897,108,78.48157684435067,5.5,4,0,0,{"$f":"X7-L24","v":192.1},45.93360003185105,null,1025.8315768443508,null,null,{"$f":"MIN(R19:R30)","v":944.71326500529904},"g/kg"]
[null,"Soybean Meal (local)",880,120,62.124999999999993,0,19.474999999999998,414.55528979872605,108,78.48157684435067,5.5,4,0,0,{"$f":"X8-L24","v":192.1},42.344710201273926,null,1027.1065768443507,null,null,{"$f":"((U23-1000)/1000)*100","v":-5.5286734994700968},"%"]
[null,"Canola meal (solvent)",908.125,91.875,65.672499999999999,0,28.674999999999994,326.52268780726274,105,22.3,51,97,0,117.80000000000001,74.699999999999989,39.296062192737203,null,991.16624999999988,null,null,"Maximum Total"]
[null,"Canola meal (pressed)",922.45000000000016,77.549999999999841,68.5,120.97785393258427,4.3221460674157299,326.71174496738388,105,22.3,51,97,0,113.80000000000001,70.800000000000011,39.221588365949465,null,1092.8611872659174,null,null,{"$f":"MAX(R19:R30)","v":1092.8611872659174},"g/kg"]
[null,"Lupins",901.5,98.5,28,17.943750000000009,45.856249999999989,267.49749580427527,58,56.151480857677811,81,12,86.468034147621267,48,138.69999999999999,52.452504195724728,null,944.71326500529904,null,null,{"$f":"((U26-1000)/1000)*100","v":9.2861187265917362},"%"]
[null,"Peas",892,108,26.3,11.033166666666668,8.2668333333333326,182.26249337022475,49,38.743692634870769,413.3,4,0,60.699999999999989,75.400000000000006,35.037506629775258,null,1003.7768593015376]
[null,"Meat Meal",910,90,263.89999999999998,103.82241346153846,11.277586538461536,433.71274254046807,0,0,0,0,0,0,0,78.88725745953198,null,970.32241346153853]
[null,"Meat & Bone Meal",930,70,331.65,87.184207317073174,1.6907926829268296,416.7168716207384,0,0,0,0,0,0,0,72.733128379261572,null,978.28420731707308]

{"sheet":"ME Calc","index":15,"n_rows":38,"n_cols":86,"rows_kept":38,"cut":false,"hidden":false,"merged":[[0,17,0,19],[0,2,0,4],[0,5,0,7],[0,8,0,10],[0,11,0,13],[0,14,0,16],[18,17,19,18],[18,1,18,3],[18,4,18,6],[18,7,18,9],[18,10,18,12],[18,13,18,15]]}
[null,null,"Neutral Lipids",null,null,"Polar Lipids",null,null,"Oligosacchrides",null,null,"Starch",null,null,"Hemi-Cellulose",null,null,"Cellulose"]
[null,"Dry Matter","Content","Digestible","Gross Energy","Content","Digestible","Gross Energy","Content","Digestible","Gross Energy","Content","Digestible","Gross Energy","Content","Digestible","Gross Energy","Content","Digestible","Gross Energy"]
[null,"g/kg","g/kg","/1.00","kj/g","g/kg","/1.00","kj/g","g/kg","/1.00","kj/g","g/kg","/1.00","kj/g","g/kg","/1.00","kj/g","g/kg","/1.00","kj/g"]
["Wheat",{"$f":"'Weende v Armidale'!C3/('Weende v Armidale'!R19/1000)","v":852.54211182318443},{"$f":"'Weende v Armidale'!F19/('Weende v Armidale'!R19/1000)","v":12.261952016392575},1,39.748000000000005,{"$f":"'Weende v Armidale'!G19/('Weende v Armidale'!R19/1000)","v":6.7520900649720073},1,35.145600000000002,{"$f":"'Weende v Armidale'!J19/('Weende v Armidale'!R19/1000)","v":18.948836385480199},0.9,16.736000000000001,{"$f":"'Weende v Armidale'!K19/('Weende v Armidale'!R19/1000)","v":600.84372977112082},1,17.572800000000001,{"$f":"'Weende v Armidale'!N19/('Weende v Armidale'!R19/1000)","v":87.939944626311188},0.5,16.736000000000001,{"$f":"'Weende v Armidale'!O19/('Weende v Armidale'!R19/1000)","v":22.531639866417031},0.1,16.736000000000001]
["Sorghum",{"$f":"'Weende v Armidale'!C4/('Weende v Armidale'!R20/1000)","v":859.53828900529254},{"$f":"'Weende v Armidale'!F20/('Weende v Armidale'!R20/1000)","v":28.054024938993098},1,39.748000000000005,{"$f":"'Weende v Armidale'!G20/('Weende v Armidale'!R20/1000)","v":6.7776792744655223},1,35.145600000000002,{"$f":"'Weende v Armidale'!J20/('Weende v Armidale'!R20/1000)","v":9.1837443966299404},0.9,16.736000000000001,{"$f":"'Weende v Armidale'!K20/('Weende v Armidale'!R20/1000)","v":628.71954802033679},1,17.572800000000001,{"$f":"'Weende v Armidale'!N20/('Weende v Armidale'!R20/1000)","v":58.101420138488855},0.5,16.736000000000001,{"$f":"'Weende v Armidale'!O20","v":32.5},0.1,16.736000000000001]
["Barley",{"$f":"'Weende v Armidale'!C5/('Weende v Armidale'!R21/1000)","v":910.09942564412643},{"$f":"'Weende v Armidale'!F21/('Weende v Armidale'!R21/1000)","v":21.621065809745797},1,39.748000000000005,{"$f":"'Weende v Armidale'!G21/('Weende v Armidale'!R21/1000)","v":4.3866316358185147},1,35.145600000000002,{"$f":"'Weende v Armidale'!J21/('Weende v Armidale'!R21/1000)","v":21.363662173737112},0.9,16.736000000000001,{"$f":"'Weende v Armidale'!K21/('Weende v Armidale'!R21/1000)","v":511.99467128130527},1,17.572800000000001,{"$f":"'Weende v Armidale'!N21/('Weende v Armidale'!R21/1000)","v":129.73251431669729},0.5,16.736000000000001,{"$f":"'Weende v Armidale'!O21","v":47.1},0.1,16.736000000000001,null,null,null,null,null,null,null,null,null,null,null,null,null,null,null,null,null,null,null,null,null,null,null,null,null,null,null,null,null,null,null,null,null,null,null,null,null,null,null,null,null,null,null,null,null,null,null,null,null,null,null,null,null,null,null,null,null,null,null,null,null,null,null,{"$f":"#REF!+#REF!","v":{"$error":"#REF!"}},null,{"$f":"(CH4*CH5)/1000","v":0}]
["Corn",{"$f":"'Weende v Armidale'!C6/('Weende v Armidale'!R22/1000)","v":883.78496279329329},{"$f":"'Weende v Armidale'!F22/('Weende v Armidale'!R22/1000)","v":37.210315311717828},1,39.14132,{"$f":"'Weende v Armidale'!G22/('Weende v Armidale'!R22/1000)","v":2.323502178866673},1,35.145600000000002,{"$f":"'Weende v Armidale'!J22/('Weende v Armidale'!R22/1000)","v":0.68394744575767064},0.9,16.736000000000001,{"$f":"'Weende v Armidale'!K22/('Weende v Armidale'!R22/1000)","v":618.40052044465938},1,17.572800000000001,{"$f":"'Weende v Armidale'!N22/('Weende v Armidale'!R22/1000)","v":82.75214693872978},0.5,16.736000000000001,{"$f":"'Weende v Armidale'!O22","v":24.3},0.1,16.736000000000001]
["Soybean Meal  (Brazil)",{"$f":"'Weende v Armidale'!C7/('Weende v Armidale'!R23/1000)","v":873.92513570093161},{"$f":"'Weende v Armidale'!F23/('Weende v Armidale'!R23/1000)","v":0},1,39.41328,{"$f":"'Weende v Armidale'!G23/('Weende v Armidale'!R23/1000)","v":18.984597900474782},1,35.145600000000002,{"$f":"'Weende v Armidale'!J23/('Weende v Armidale'!R23/1000)","v":76.505323696288059},0.9,16.736000000000001,{"$f":"'Weende v Armidale'!K23/('Weende v Armidale'!R23/1000)","v":5.3615039000057152},1,17.572800000000001,{"$f":"'Weende v Armidale'!N23/('Weende v Armidale'!R23/1000)","v":0},0.5,16.736000000000001,{"$f":"'Weende v Armidale'!O23","v":192.1},0.1,16.736000000000001]
["Soybean Meal (local)",{"$f":"'Weende v Armidale'!C8/('Weende v Armidale'!R24/1000)","v":856.7757424976129},{"$f":"'Weende v Armidale'!F24/('Weende v Armidale'!R24/1000)","v":0},1,39.41328,{"$f":"'Weende v Armidale'!G24/('Weende v Armidale'!R24/1000)","v":18.961031346751149},1,35.145600000000002,{"$f":"'Weende v Armidale'!J24/('Weende v Armidale'!R24/1000)","v":76.410353719547743},0.9,16.736000000000001,{"$f":"'Weende v Armidale'!K24/('Weende v Armidale'!R24/1000)","v":5.3548483906100808},1,17.572800000000001,{"$f":"'Weende v Armidale'!N24/('Weende v Armidale'!R24/1000)","v":0},0.5,16.736000000000001,{"$f":"'Weende v Armidale'!O24","v":192.1},0.1,16.736000000000001]
["Canola meal (solvent)",{"$f":"'Weende v Armidale'!C9/('Weende v Armidale'!R25/1000)","v":916.21864646823883},{"$f":"'Weende v Armidale'!F25/('Weende v Armidale'!R25/1000)","v":0},1,39.41328,{"$f":"'Weende v Armidale'!G25/('Weende v Armidale'!R25/1000)","v":28.930565381942731},1,35.145600000000002,{"$f":"'Weende v Armidale'!J25/('Weende v Armidale'!R25/1000)","v":22.498748317953726},0.9,16.736000000000001,{"$f":"'Weende v Armidale'!K25/('Weende v Armidale'!R25/1000)","v":51.45453651191211},1,17.572800000000001,{"$f":"'Weende v Armidale'!N25/('Weende v Armidale'!R25/1000)","v":118.84989021771072},0.5,16.736000000000001,{"$f":"'Weende v Armidale'!O25","v":74.699999999999989},0.1,16.736000000000001]
["Canola meal (pressed)",{"$f":"'Weende v Armidale'!C10/('Weende v Armidale'!R26/1000)","v":844.06877172365682},{"$f":"'Weende v Armidale'!F26/('Weende v Armidale'!R26/1000)","v":110.69828020449927},1,39.41328,{"$f":"'Weende v Armidale'!G26/('Weende v Armidale'!R26/1000)","v":3.9548902621647009},1,35.145600000000002,{"$f":"'Weende v Armidale'!J26/('Weende v Armidale'!R26/1000)","v":20.405153243468529},0.9,16.736000000000001,{"$f":"'Weende v Armidale'!K26/('Weende v Armidale'!R26/1000)","v":46.66649396488318},1,17.572800000000001,{"$f":"'Weende v Armidale'!N26/('Weende v Armidale'!R26/1000)","v":104.13033359222955},0.5,16.736000000000001,{"$f":"'Weende v Armidale'!O26","v":70.800000000000011},0.1,16.736000000000001]
["Lupins",{"$f":"'Weende v Armidale'!C11/('Weende v Armidale'!R27/1000)","v":954.25779799433997},{"$f":"'Weende v Armidale'!F27/('Weende v Armidale'!R27/1000)","v":18.993858416817467},1,39.748000000000005,{"$f":"'Weende v Armidale'!G27/('Weende v Armidale'!R27/1000)","v":48.539860398533492},1,35.145600000000002,{"$f":"'Weende v Armidale'!J27/('Weende v Armidale'!R27/1000)","v":59.437591211723749},0.9,16.736000000000001,{"$f":"'Weende v Armidale'!K27/('Weende v Armidale'!R27/1000)","v":85.740301317295106},1,17.572800000000001,{"$f":"'Weende v Armidale'!N27/('Weende v Armidale'!R27/1000)","v":50.809067447285983},0.5,16.736000000000001,{"$f":"'Weende v Armidale'!O27","v":138.69999999999999},0.1,16.736000000000001]
["Peas",{"$f":"'Weende v Armidale'!C12/('Weende v Armidale'!R28/1000)","v":888.64371770901789},{"$f":"'Weende v Armidale'!F28/('Weende v Armidale'!R28/1000)","v":10.991652740773407},1,39.748000000000005,{"$f":"'Weende v Armidale'!G28/('Weende v Armidale'!R28/1000)","v":8.2357281468768662},1,35.145600000000002,{"$f":"'Weende v Armidale'!J28/('Weende v Armidale'!R28/1000)","v":38.597913745321812},0.9,16.736000000000001,{"$f":"'Weende v Armidale'!K28/('Weende v Armidale'!R28/1000)","v":411.74489745418958},1,17.572800000000001,{"$f":"'Weende v Armidale'!N28/('Weende v Armidale'!R28/1000)","v":60.471607247687636},0.5,16.736000000000001,{"$f":"'Weende v Armidale'!O28","v":75.400000000000006},0.1,16.736000000000001]
["Meat Meal",{"$f":"'Weende v Armidale'!C13/('Weende v Armidale'!R29/1000)","v":937.83260839421018},{"$f":"'Weende v Armidale'!F29/('Weende v Armidale'!R29/1000)","v":106.99785145760085},1,39.748000000000005,{"$f":"'Weende v Armidale'!G29/('Weende v Armidale'!R29/1000)","v":11.622514725007488},1,35.145600000000002,{"$f":"'Weende v Armidale'!J29/('Weende v Armidale'!R29/1000)","v":0},0.9,16.736000000000001,{"$f":"'Weende v Armidale'!K29/('Weende v Armidale'!R29/1000)","v":0},1,17.572800000000001,{"$f":"'Weende v Armidale'!N29/('Weende v Armidale'!R29/1000)","v":0},0.5,16.736000000000001,{"$f":"'Weende v Armidale'!O29","v":0},0.1,16.736000000000001]
["Meat & Bone Meal",{"$f":"'Weende v Armidale'!C14/('Weende v Armidale'!R30/1000)","v":950.64398775332199},{"$f":"'Weende v Armidale'!F30/('Weende v Armidale'!R30/1000)","v":89.119508078510535},1,39.748000000000005,{"$f":"'Weende v Armidale'!G30/('Weende v Armidale'!R30/1000)","v":1.7283246221093542},1,35.145600000000002,{"$f":"'Weende v Armidale'!J30/('Weende v Armidale'!R30/1000)","v":0},0.9,16.736000000000001,{"$f":"'Weende v Armidale'!K30/('Weende v Armidale'!R30/1000)","v":0},1,17.572800000000001,{"$f":"'Weende v Armidale'!N30/('Weende v Armidale'!R30/1000)","v":0},0.5,16.736000000000001,{"$f":"'Weende v Armidale'!O30","v":0},0.1,16.736000000000001]
["Tallow*",980,975,1,39.748000000000005,5,1,35.145600000000002,0,0.9,16.736000000000001,0,1,17.572800000000001,0,0.5,16.736000000000001,{"$f":"'Weende v Armidale'!O31","v":0},0.1,16.736000000000001]
["Fat, Vegetable*",980,975,1,39.748000000000005,5,1,35.145600000000002,0,0.9,16.736000000000001,0,1,17.572800000000001,0,0.5,16.736000000000001,{"$f":"'Weende v Armidale'!O32","v":0},0.1,16.736000000000001]
["*Moisture includes insolubles and unsaponifiables"]
[null,"True Protein",null,null,"Sugars",null,null,"Lignin",null,null,"Pectins",null,null,"NPNC",null,null,null,"Metabolizable Energy"]
[null,"Content","Digestible","Gross Energy","Content","Digestible","Gross Energy","Content","Digestible","Gross Energy","Content","Digestible","Gross Energy","Content","Digestible","Gross Energy"]
[null,"g/kg","/1.00","kj/g","g/kg","/1.00","kj/g","g/kg","/1.00","kj/g","g/kg","/1.00","kj/g","g/kg","/1.00","kj/g",null,"kj/g","kcal/g"]
[{"$f":"A4","v":"Wheat"},{"$f":"'Weende v Armidale'!H19/('Weende v Armidale'!R19/1000)","v":101.68396293730993},{"$f":"Digestibility!C4/100","v":0.84945702046844362},23.848800000000001,{"$f":"'Weende v Armidale'!I19/('Weende v Armidale'!R19/1000)","v":30.422467330183331},1,16.736000000000001,{"$f":"'Weende v Armidale'!L19/('Weende v Armidale'!R19/1000)","v":10.457723144750521},0,25.501480000000001,{"$f":"'Weende v Armidale'!M19/('Weende v Armidale'!R19/1000)","v":0},0.7,15.564480000000001,{"$f":"'Weende v Armidale'!P19/('Weende v Armidale'!R19/1000)","v":4.3906243241027392},1,23.848800000000001,null,{"$f":"(E4*D4*C4+F4*G4*H4+D22*C22*B22+G22*F22*E22+K4*J4*I4+N4*M4*L4+J22*I22*H22+M22*L22*K22+Q4*P4*O4+T4*S4*R4+P22*O22*N22)/1000","v":15.016035590413956},{"$f":"R22/4.184","v":3.5889186401562991}]
["Sorghum",{"$f":"'Weende v Armidale'!H20/('Weende v Armidale'!R20/1000)","v":93.984054100033177},{"$f":"Digestibility!C5/100","v":0.78130243001782629},23.848800000000001,{"$f":"'Weende v Armidale'!I20/('Weende v Armidale'!R20/1000)","v":13.602339162856923},1,16.736000000000001,{"$f":"'Weende v Armidale'!L20/('Weende v Armidale'!R20/1000)","v":10.687552199387582},0,25.501480000000001,{"$f":"'Weende v Armidale'!M20/('Weende v Armidale'!R20/1000)","v":0},0.7,15.564480000000001,{"$f":"'Weende v Armidale'!P20/('Weende v Armidale'!R20/1000)","v":0.28501427683775588},1,23.848800000000001,null,15.066236438458498,3.6009169307979199]
["Barley",{"$f":"'Weende v Armidale'!H21/('Weende v Armidale'!R21/1000)","v":91.180327476056178},{"$f":"Digestibility!C6/100","v":0.75709090889812058},23.848800000000001,{"$f":"'Weende v Armidale'!I21/('Weende v Armidale'!R21/1000)","v":28.557471704933363},1,16.736000000000001,{"$f":"'Weende v Armidale'!L21/('Weende v Armidale'!R21/1000)","v":11.219006741223822},0,25.501480000000001,{"$f":"'Weende v Armidale'!M21/('Weende v Armidale'!R21/1000)","v":0},0.7,15.564480000000001,{"$f":"'Weende v Armidale'!P21/('Weende v Armidale'!R21/1000)","v":4.0452418638466376},1,23.848800000000001,null,13.717698680014454,3.2786086711315616]
["Corn",{"$f":"'Weende v Armidale'!H22/('Weende v Armidale'!R22/1000)","v":82.690387217685412},{"$f":"Digestibility!C7/100","v":0.85111981982795359},23.848800000000001,{"$f":"'Weende v Armidale'!I22/('Weende v Armidale'!R22/1000)","v":20.912094894263841},1,16.736000000000001,{"$f":"'Weende v Armidale'!L22/('Weende v Armidale'!R22/1000)","v":5.9748842555039552},0,25.501480000000001,{"$f":"'Weende v Armidale'!M22/('Weende v Armidale'!R22/1000)","v":0},0.7,15.564480000000001,{"$f":"'Weende v Armidale'!P22/('Weende v Armidale'!R22/1000)","v":2.7006669338919478},1,23.848800000000001,null,15.241448113929792,3.6427935262738509]
["Soybean Meal  (Brazil)",{"$f":"'Weende v Armidale'!H23/('Weende v Armidale'!R23/1000)","v":415.45942783238661},{"$f":"Digestibility!C8/100","v":0.82709572641675622},23.848800000000001,{"$f":"'Weende v Armidale'!I23/('Weende v Armidale'!R23/1000)","v":105.28044021829405},1,16.736000000000001,{"$f":"'Weende v Armidale'!L23/('Weende v Armidale'!R23/1000)","v":3.8992755636405203},0,25.501480000000001,{"$f":"'Weende v Armidale'!M23/('Weende v Armidale'!R23/1000)","v":0},0.7,15.564480000000001,{"$f":"'Weende v Armidale'!P23/('Weende v Armidale'!R23/1000)","v":44.776941038558554},1,23.848800000000001,null,13.260180983265217,3.1692593172240002]
["Soybean Meal (local)",{"$f":"'Weende v Armidale'!H24/('Weende v Armidale'!R24/1000)","v":403.61467752683706},{"$f":"Digestibility!C9/100","v":0.858412877292976},23.848800000000001,{"$f":"'Weende v Armidale'!I24/('Weende v Armidale'!R24/1000)","v":105.14975021561614},1,16.736000000000001,{"$f":"'Weende v Armidale'!L24/('Weende v Armidale'!R24/1000)","v":3.8944351931709678},0,25.501480000000001,{"$f":"'Weende v Armidale'!M24/('Weende v Armidale'!R24/1000)","v":0},0.7,15.564480000000001,{"$f":"'Weende v Armidale'!P24/('Weende v Armidale'!R24/1000)","v":41.227182413116722},1,23.848800000000001,null,13.238770335048423,3.1641420494857608]
["Canola meal (solvent)",{"$f":"'Weende v Armidale'!H25/('Weende v Armidale'!R25/1000)","v":329.43281493620549},{"$f":"Digestibility!C10/100","v":0.76103773471822678},23.848800000000001,{"$f":"'Weende v Armidale'!I25/('Weende v Armidale'!R25/1000)","v":105.93581046570139},1,16.736000000000001,{"$f":"'Weende v Armidale'!L25/('Weende v Armidale'!R25/1000)","v":97.864510620695583},0,25.501480000000001,{"$f":"'Weende v Armidale'!M25/('Weende v Armidale'!R25/1000)","v":0},0.7,15.564480000000001,{"$f":"'Weende v Armidale'!P25/('Weende v Armidale'!R25/1000)","v":39.646287585697358},1,23.848800000000001,null,12.07703121709261,2.8864797363988073]
["Canola meal (pressed)",{"$f":"'Weende v Armidale'!H26/('Weende v Armidale'!R26/1000)","v":298.95081715248773},{"$f":"Digestibility!C11/100","v":0.75185469013067319},23.848800000000001,{"$f":"'Weende v Armidale'!I26/('Weende v Armidale'!R26/1000)","v":96.078075810053619},1,16.736000000000001,{"$f":"'Weende v Armidale'!L26/('Weende v Armidale'!R26/1000)","v":88.757841462620959},0,25.501480000000001,{"$f":"'Weende v Armidale'!M26/('Weende v Armidale'!R26/1000)","v":0},0.7,15.564480000000001,{"$f":"'Weende v Armidale'!P26/('Weende v Armidale'!R26/1000)","v":35.88890228966104},1,23.848800000000001,null,14.443551209639264,3.4520915893019271]
["Lupins",{"$f":"'Weende v Armidale'!H27/('Weende v Armidale'!R27/1000)","v":283.1520480479067},{"$f":"Digestibility!C12/100","v":0.835271324596914},23.848800000000001,{"$f":"'Weende v Armidale'!I27/('Weende v Armidale'!R27/1000)","v":61.394289832137233},1,16.736000000000001,{"$f":"'Weende v Armidale'!L27/('Weende v Armidale'!R27/1000)","v":12.702266861821496},0,25.501480000000001,{"$f":"'Weende v Armidale'!M27/('Weende v Armidale'!R27/1000)","v":91.52833706334826},0.7,15.564480000000001,{"$f":"'Weende v Armidale'!P27/('Weende v Armidale'!R27/1000)","v":55.522142155408936},1,23.848800000000001,null,14.509494659023387,3.4678524519654363]
["Peas",{"$f":"'Weende v Armidale'!H28/('Weende v Armidale'!R28/1000)","v":181.5767037078831},{"$f":"Digestibility!C13/100","v":0.74616878921568286},23.848800000000001,{"$f":"'Weende v Armidale'!I28/('Weende v Armidale'!R28/1000)","v":48.815630232894478},1,16.736000000000001,{"$f":"'Weende v Armidale'!L28/('Weende v Armidale'!R28/1000)","v":3.984949406766896},0,25.501480000000001,{"$f":"'Weende v Armidale'!M28/('Weende v Armidale'!R28/1000)","v":0},0.7,15.564480000000001,{"$f":"'Weende v Armidale'!P28/('Weende v Armidale'!R28/1000)","v":34.905672814728526},1,23.848800000000001,null,14.056085662245277,3.3594851009190432]
["Meat Meal",{"$f":"'Weende v Armidale'!H29/('Weende v Armidale'!R29/1000)","v":446.97796992366341},{"$f":"Digestibility!C14/100","v":0.67976390825291044},23.848800000000001,{"$f":"'Weende v Armidale'!I29/('Weende v Armidale'!R29/1000)","v":0},1,16.736000000000001,{"$f":"'Weende v Armidale'!L29/('Weende v Armidale'!R29/1000)","v":0},0,25.501480000000001,{"$f":"'Weende v Armidale'!M29/('Weende v Armidale'!R29/1000)","v":0},0.7,15.564480000000001,{"$f":"'Weende v Armidale'!P29/('Weende v Armidale'!R29/1000)","v":81.300046628943392},1,23.848800000000001,null,13.846546675867733,3.3094040812303378]
["Meat & Bone Meal",{"$f":"'Weende v Armidale'!H30/('Weende v Armidale'!R30/1000)","v":425.96708451787947},{"$f":"Digestibility!C15/100","v":0.71847825194496284},23.848800000000001,{"$f":"'Weende v Armidale'!I30/('Weende v Armidale'!R30/1000)","v":0},1,16.736000000000001,{"$f":"'Weende v Armidale'!L30/('Weende v Armidale'!R30/1000)","v":0},0,25.501480000000001,{"$f":"'Weende v Armidale'!M30/('Weende v Armidale'!R30/1000)","v":0},0.7,15.564480000000001,{"$f":"'Weende v Armidale'!P30/('Weende v Armidale'!R30/1000)","v":74.34764645616724},1,23.848800000000001,null,12.675046963595145,3.0294089301135623]
["Tallow*",0,{"$f":"Digestibility!C16/100","v":0.78475445681512057},24.848800000000001,0,1,16.736000000000001,0,0,25.501480000000001,0,0.7,15.564480000000001,0,1,23.848800000000001,null,{"$f":"(E16*D16*C16+F16*G16*H16+D34*C34*B34+G34*F34*E34+K16*J16*I16+N16*M16*L16+J34*I34*H34+M34*L34*K34+Q16*P16*O16+T16*S16*R16+P34*O34*N34)/1000","v":38.930028000000007},{"$f":"R34/4.184","v":9.3045000000000009}]
["Fat, Vegetable*",0,{"$f":"Digestibility!C17/100","v":0},25.848800000000001,0,1,16.736000000000001,0,0,25.501480000000001,0,0.7,15.564480000000001,0,1,23.848800000000001,null,{"$f":"(E17*D17*C17+F17*G17*H17+D35*C35*B35+G35*F35*E35+K17*J17*I17+N17*M17*L17+J35*I35*H35+M35*L35*K35+Q17*P17*O17+T17*S17*R17+P35*O35*N35)/1000","v":38.930028000000007},{"$f":"R35/4.184","v":9.3045000000000009}]
["*Moisture includes insolubles and unsaponifiables"]
[]
[null,"ME of Wheat = (E4*D4*C4+F4*G4*H4+D20*C20*B20+G20*F20*E20+K4*J4*I4+N4*M4*L4+J20*I20*H20+M20*L20*K20+Q4*P4*O4+T4*S4*R4+P20*O20*N20)/1000"]

{"sheet":"NE Calc","index":16,"n_rows":53,"n_cols":86,"rows_kept":53,"cut":false,"hidden":false,"merged":[[19,29,19,30],[0,14,0,16],[0,17,0,19],[19,13,19,15],[19,17,20,18],[0,11,0,13],[0,2,0,4],[0,5,0,7],[19,1,19,3],[19,4,19,6],[0,8,0,10],[19,7,19,9],[19,10,19,12]]}
[null,null,"Neutral Lipids",null,null,"Polar Lipids",null,null,"Oligosacchrides",null,null,"Starch",null,null,"Hemi-Cellulose",null,null,"Cellulose"]
[null,"Dry Matter","Content","Digestible","Net Energy","Content","Digestible","Net Energy","Content","Digestible","Net Energy","Content","Digestible","Net Energy","Content","Digestible","Net Energy","Content","Digestible","Net Energy"]
[null,"g/kg","g/kg","/1.00","kj/g","g/kg","/1.00","kj/g","g/kg","/1.00","kj/g","g/kg","/1.00","kj/g","g/kg","/1.00","kj/g","g/kg","/1.00","kj/g"]
["Wheat",{"$f":"'Weende v Armidale'!C3/('Weende v Armidale'!R19/1000)","v":852.54211182318443},{"$f":"'Weende v Armidale'!F19/('Weende v Armidale'!R19/1000)","v":12.261952016392575},1,25.31,{"$f":"'Weende v Armidale'!G19/('Weende v Armidale'!R19/1000)","v":6.7520900649720073},1,20.36,{"$f":"'Weende v Armidale'!J19/('Weende v Armidale'!R19/1000)","v":18.948836385480199},0.9,10.6,{"$f":"'Weende v Armidale'!K19/('Weende v Armidale'!R19/1000)","v":600.84372977112082},1,11.73,{"$f":"'Weende v Armidale'!N19/('Weende v Armidale'!R19/1000)","v":87.939944626311188},0.5,8.2100000000000009,{"$f":"'Weende v Armidale'!O19/('Weende v Armidale'!R19/1000)","v":22.531639866417031},0.1,11.73]
["Sorghum",{"$f":"'Weende v Armidale'!C4/('Weende v Armidale'!R20/1000)","v":859.53828900529254},{"$f":"'Weende v Armidale'!F20/('Weende v Armidale'!R20/1000)","v":28.054024938993098},1,25.31,{"$f":"'Weende v Armidale'!G20/('Weende v Armidale'!R20/1000)","v":6.7776792744655223},1,20.36,{"$f":"'Weende v Armidale'!J20/('Weende v Armidale'!R20/1000)","v":9.1837443966299404},0.9,10.6,{"$f":"'Weende v Armidale'!K20/('Weende v Armidale'!R20/1000)","v":628.71954802033679},1,11.73,{"$f":"'Weende v Armidale'!N20/('Weende v Armidale'!R20/1000)","v":58.101420138488855},0.5,8.2100000000000009,{"$f":"'Weende v Armidale'!O20","v":32.5},0.1,11.73]
["Barley",{"$f":"'Weende v Armidale'!C5/('Weende v Armidale'!R21/1000)","v":910.09942564412643},{"$f":"'Weende v Armidale'!F21/('Weende v Armidale'!R21/1000)","v":21.621065809745797},1,25.31,{"$f":"'Weende v Armidale'!G21/('Weende v Armidale'!R21/1000)","v":4.3866316358185147},1,20.36,{"$f":"'Weende v Armidale'!J21/('Weende v Armidale'!R21/1000)","v":21.363662173737112},0.9,10.6,{"$f":"'Weende v Armidale'!K21/('Weende v Armidale'!R21/1000)","v":511.99467128130527},1,11.73,{"$f":"'Weende v Armidale'!N21/('Weende v Armidale'!R21/1000)","v":129.73251431669729},0.5,8.2100000000000009,{"$f":"'Weende v Armidale'!O21","v":47.1},0.1,11.73,null,null,null,null,null,null,null,null,null,null,null,null,null,null,null,null,null,null,null,null,null,null,null,null,null,null,null,null,null,null,null,null,null,null,null,null,null,null,null,null,null,null,null,null,null,null,null,null,null,null,null,null,null,null,null,null,null,null,null,null,null,null,null,{"$f":"#REF!+#REF!","v":{"$error":"#REF!"}},null,{"$f":"(CH4*CH5)/1000","v":0}]
["Corn",{"$f":"'Weende v Armidale'!C6/('Weende v Armidale'!R22/1000)","v":883.78496279329329},{"$f":"'Weende v Armidale'!F22/('Weende v Armidale'!R22/1000)","v":37.210315311717828},1,25.31,{"$f":"'Weende v Armidale'!G22/('Weende v Armidale'!R22/1000)","v":2.323502178866673},1,20.36,{"$f":"'Weende v Armidale'!J22/('Weende v Armidale'!R22/1000)","v":0.68394744575767064},0.9,10.6,{"$f":"'Weende v Armidale'!K22/('Weende v Armidale'!R22/1000)","v":618.40052044465938},1,11.73,{"$f":"'Weende v Armidale'!N22/('Weende v Armidale'!R22/1000)","v":82.75214693872978},0.5,8.2100000000000009,{"$f":"'Weende v Armidale'!O22","v":24.3},0.1,11.73]
["Soybean Meal  (Brazil)",{"$f":"'Weende v Armidale'!C7/('Weende v Armidale'!R23/1000)","v":873.92513570093161},{"$f":"'Weende v Armidale'!F23/('Weende v Armidale'!R23/1000)","v":0},1,25.31,{"$f":"'Weende v Armidale'!G23/('Weende v Armidale'!R23/1000)","v":18.984597900474782},1,20.36,{"$f":"'Weende v Armidale'!J23/('Weende v Armidale'!R23/1000)","v":76.505323696288059},0.9,10.6,{"$f":"'Weende v Armidale'!K23/('Weende v Armidale'!R23/1000)","v":5.3615039000057152},1,11.73,{"$f":"'Weende v Armidale'!N23/('Weende v Armidale'!R23/1000)","v":0},0.5,8.2100000000000009,{"$f":"'Weende v Armidale'!O23","v":192.1},0.1,11.73]
["Soybean Meal (local)",{"$f":"'Weende v Armidale'!C8/('Weende v Armidale'!R24/1000)","v":856.7757424976129},{"$f":"'Weende v Armidale'!F24/('Weende v Armidale'!R24/1000)","v":0},1,25.31,{"$f":"'Weende v Armidale'!G24/('Weende v Armidale'!R24/1000)","v":18.961031346751149},1,20.36,{"$f":"'Weende v Armidale'!J24/('Weende v Armidale'!R24/1000)","v":76.410353719547743},0.9,10.6,{"$f":"'Weende v Armidale'!K24/('Weende v Armidale'!R24/1000)","v":5.3548483906100808},1,11.73,{"$f":"'Weende v Armidale'!N24/('Weende v Armidale'!R24/1000)","v":0},0.5,8.2100000000000009,{"$f":"'Weende v Armidale'!O24","v":192.1},0.1,11.73]
["Canola meal (solvent)",{"$f":"'Weende v Armidale'!C9/('Weende v Armidale'!R25/1000)","v":916.21864646823883},{"$f":"'Weende v Armidale'!F25/('Weende v Armidale'!R25/1000)","v":0},1,25.31,{"$f":"'Weende v Armidale'!G25/('Weende v Armidale'!R25/1000)","v":28.930565381942731},1,20.36,{"$f":"'Weende v Armidale'!J25/('Weende v Armidale'!R25/1000)","v":22.498748317953726},0.9,10.6,{"$f":"'Weende v Armidale'!K25/('Weende v Armidale'!R25/1000)","v":51.45453651191211},1,11.73,{"$f":"'Weende v Armidale'!N25/('Weende v Armidale'!R25/1000)","v":118.84989021771072},0.5,8.2100000000000009,{"$f":"'Weende v Armidale'!O25","v":74.699999999999989},0.1,11.73]
["Canola meal (pressed)",{"$f":"'Weende v Armidale'!C10/('Weende v Armidale'!R26/1000)","v":844.06877172365682},{"$f":"'Weende v Armidale'!F26/('Weende v Armidale'!R26/1000)","v":110.69828020449927},1,25.31,{"$f":"'Weende v Armidale'!G26/('Weende v Armidale'!R26/1000)","v":3.9548902621647009},1,20.36,{"$f":"'Weende v Armidale'!J26/('Weende v Armidale'!R26/1000)","v":20.405153243468529},0.9,10.6,{"$f":"'Weende v Armidale'!K26/('Weende v Armidale'!R26/1000)","v":46.66649396488318},1,11.73,{"$f":"'Weende v Armidale'!N26/('Weende v Armidale'!R26/1000)","v":104.13033359222955},0.5,8.2100000000000009,{"$f":"'Weende v Armidale'!O26","v":70.800000000000011},0.1,11.73]
["Lupins",{"$f":"'Weende v Armidale'!C11/('Weende v Armidale'!R27/1000)","v":954.25779799433997},{"$f":"'Weende v Armidale'!F27/('Weende v Armidale'!R27/1000)","v":18.993858416817467},1,25.31,{"$f":"'Weende v Armidale'!G27/('Weende v Armidale'!R27/1000)","v":48.539860398533492},1,20.36,{"$f":"'Weende v Armidale'!J27/('Weende v Armidale'!R27/1000)","v":59.437591211723749},0.9,10.6,{"$f":"'Weende v Armidale'!K27/('Weende v Armidale'!R27/1000)","v":85.740301317295106},1,11.73,{"$f":"'Weende v Armidale'!N27/('Weende v Armidale'!R27/1000)","v":50.809067447285983},0.5,8.2100000000000009,{"$f":"'Weende v Armidale'!O27","v":138.69999999999999},0.1,11.73]
["Peas",{"$f":"'Weende v Armidale'!C12/('Weende v Armidale'!R28/1000)","v":888.64371770901789},{"$f":"'Weende v Armidale'!F28/('Weende v Armidale'!R28/1000)","v":10.991652740773407},1,25.31,{"$f":"'Weende v Armidale'!G28/('Weende v Armidale'!R28/1000)","v":8.2357281468768662},1,20.36,{"$f":"'Weende v Armidale'!J28/('Weende v Armidale'!R28/1000)","v":38.597913745321812},0.9,10.6,{"$f":"'Weende v Armidale'!K28/('Weende v Armidale'!R28/1000)","v":411.74489745418958},1,11.73,{"$f":"'Weende v Armidale'!N28/('Weende v Armidale'!R28/1000)","v":60.471607247687636},0.5,8.2100000000000009,{"$f":"'Weende v Armidale'!O28","v":75.400000000000006},0.1,11.73]
["Meat Meal",{"$f":"'Weende v Armidale'!C13/('Weende v Armidale'!R29/1000)","v":937.83260839421018},{"$f":"'Weende v Armidale'!F29/('Weende v Armidale'!R29/1000)","v":106.99785145760085},1,25.31,{"$f":"'Weende v Armidale'!G29/('Weende v Armidale'!R29/1000)","v":11.622514725007488},1,20.36,{"$f":"'Weende v Armidale'!J29/('Weende v Armidale'!R29/1000)","v":0},0.9,10.6,{"$f":"'Weende v Armidale'!K29/('Weende v Armidale'!R29/1000)","v":0},1,11.73,{"$f":"'Weende v Armidale'!N29/('Weende v Armidale'!R29/1000)","v":0},0.5,8.2100000000000009,{"$f":"'Weende v Armidale'!O29","v":0},0.1,11.73]
["Meat & Bone Meal",{"$f":"'Weende v Armidale'!C14/('Weende v Armidale'!R30/1000)","v":950.64398775332199},{"$f":"'Weende v Armidale'!F30/('Weende v Armidale'!R30/1000)","v":89.119508078510535},1,25.31,{"$f":"'Weende v Armidale'!G30/('Weende v Armidale'!R30/1000)","v":1.7283246221093542},1,20.36,{"$f":"'Weende v Armidale'!J30/('Weende v Armidale'!R30/1000)","v":0},0.9,10.6,{"$f":"'Weende v Armidale'!K30/('Weende v Armidale'!R30/1000)","v":0},1,11.73,{"$f":"'Weende v Armidale'!N30/('Weende v Armidale'!R30/1000)","v":0},0.5,8.2100000000000009,{"$f":"'Weende v Armidale'!O30","v":0},0.1,11.73]
["Tallow*",980,975,1,25.31,5,1,20.36,0,0,0,0,0,0,0,0,8.2100000000000009,0,0,0]
["Fat, Vegetable*",980,975,1,25.31,5,1,20.36,0,0,0,0,0,0,0,0,8.2100000000000009,0,0,0]
["*Moisture includes insolubles and unsaponifiables"]
[]
[null,"True Protein",null,null,"Sugars",null,null,"Lignin",null,null,"Pectins",null,null,"NPNC",null,null,null,"Net Energy",null,null,null,null,null,null,null,null,null,null,null,"Compared to Maize"]
[null,"Content","Digestible","Net Energy","Content","Digestible","Net Energy","Content","Digestible","Net Energy","Content","Digestible","Net Energy","Content","Digestible","Net Energy",null,null,null,null,null,null,null,null,null,null,"NE","AMEn","NE:AMEn Ratio","NE","AMEn"]
[null,"g/kg","/1.00","kj/g","g/kg","/1.00","kj/g","g/kg","/1.00","kj/g","g/kg","/1.00","kj/g","g/kg","/1.00","kj/g",null,"kj/g","kcal/g",null,null,null,null,null,null,{"$f":"A23","v":"Wheat"},{"$f":"R23","v":9.4025091701748309},{"$f":"'AMEn Calc'!P4","v":13.285977750000001},{"$f":"AA22/AB22","v":0.70770170981016667},{"$f":"AA22/AA$25*100","v":96.923659852987555},{"$f":"AB22/AB$25*100","v":94.373767983769895}]
[{"$f":"A4","v":"Wheat"},{"$f":"'Weende v Armidale'!H19/('Weende v Armidale'!R19/1000)","v":101.68396293730993},{"$f":"Digestibility!C4/100","v":0.84945702046844362},{"$f":"'AA Energy'!W26","v":11.456179714910865},{"$f":"'Weende v Armidale'!I19/('Weende v Armidale'!R19/1000)","v":30.422467330183331},1,10.56,{"$f":"'Weende v Armidale'!L19/('Weende v Armidale'!R19/1000)","v":10.457723144750521},0,8.1999999999999993,{"$f":"'Weende v Armidale'!M19/('Weende v Armidale'!R19/1000)","v":0},0.7,8.1999999999999993,{"$f":"'Weende v Armidale'!P19/('Weende v Armidale'!R19/1000)","v":4.3906243241027392},1,6.33,null,{"$f":"(C4*D4*E4+F4*G4*H4+I4*J4*K4+L4*M4*N4+O4*P4*Q4+R4*S4*T4+B23*C23*D23+E23*F23*G23+H23*I23*J23+K23*L23*M23+N23*O23*P23)/1000","v":9.4025091701748309},{"$f":"R23/4.184","v":2.2472536257588027},null,null,null,null,null,null,{"$f":"A24","v":"Sorghum"},9.6425243425650944,{"$f":"'AMEn Calc'!P5","v":12.247171758333337},{"$f":"AA23/AB23","v":0.78732661979726348},{"$f":"AA23/AA$25*100","v":99.397802500154739},86.994857866469758]
["Sorghum",{"$f":"'Weende v Armidale'!H20/('Weende v Armidale'!R20/1000)","v":93.984054100033177},{"$f":"Digestibility!C5/100","v":0.78130243001782629},{"$f":"'AA Energy'!W27","v":12.391623362379965},{"$f":"'Weende v Armidale'!I20/('Weende v Armidale'!R20/1000)","v":13.602339162856923},1,10.56,{"$f":"'Weende v Armidale'!L20/('Weende v Armidale'!R20/1000)","v":10.687552199387582},0,8.1999999999999993,{"$f":"'Weende v Armidale'!M20/('Weende v Armidale'!R20/1000)","v":0},0.7,8.1999999999999993,{"$f":"'Weende v Armidale'!P20/('Weende v Armidale'!R20/1000)","v":0.28501427683775588},1,6.33,null,{"$f":"(C5*D5*E5+F5*G5*H5+I5*J5*K5+L5*M5*N5+O5*P5*Q5+R5*S5*T5+B24*C24*D24+E24*F24*G24+H24*I24*J24+K24*L24*M24+N24*O24*P24)/1000","v":9.6425243425650944},2.3046186287201467,null,null,null,null,null,null,{"$f":"A25","v":"Barley"},8.5797568718303481,{"$f":"'AMEn Calc'!P6","v":11.835597999999997},0.72491114279399738,88.442502061516706,84.071342028340425]
["Barley",{"$f":"'Weende v Armidale'!H21/('Weende v Armidale'!R21/1000)","v":91.180327476056178},{"$f":"Digestibility!C6/100","v":0.75709090889812058},{"$f":"'AA Energy'!W28","v":11.860266238058422},{"$f":"'Weende v Armidale'!I21/('Weende v Armidale'!R21/1000)","v":28.557471704933363},1,10.56,{"$f":"'Weende v Armidale'!L21/('Weende v Armidale'!R21/1000)","v":11.219006741223822},0,8.1999999999999993,{"$f":"'Weende v Armidale'!M21/('Weende v Armidale'!R21/1000)","v":0},0.7,8.1999999999999993,{"$f":"'Weende v Armidale'!P21/('Weende v Armidale'!R21/1000)","v":4.0452418638466376},1,6.33,null,8.5797568718303481,2.0506111070340221,null,null,null,null,null,null,"Maize",9.7009431798555941,{"$f":"'AMEn Calc'!P7","v":14.078041000000001},0.68908331634036257,100,100]
["Corn",{"$f":"'Weende v Armidale'!H22/('Weende v Armidale'!R22/1000)","v":82.690387217685412},{"$f":"Digestibility!C7/100","v":0.85111981982795359},{"$f":"'AA Energy'!W29","v":12.011354097831441},{"$f":"'Weende v Armidale'!I22/('Weende v Armidale'!R22/1000)","v":20.912094894263841},1,10.56,{"$f":"'Weende v Armidale'!L22/('Weende v Armidale'!R22/1000)","v":5.9748842555039552},0,8.1999999999999993,{"$f":"'Weende v Armidale'!M22/('Weende v Armidale'!R22/1000)","v":0},0.7,8.1999999999999993,{"$f":"'Weende v Armidale'!P22/('Weende v Armidale'!R22/1000)","v":2.7006669338919478},1,6.33,null,9.7009431798555941,2.3185810659310691,null,null,null,null,null,null,{"$f":"A27","v":"Soybean Meal  (Brazil)"},6.7536536970457304,{"$f":"'AMEn Calc'!P8","v":10.71071255},0.63055129763945816,69.618526485857259,76.080987049263456]
["Soybean Meal  (Brazil)",{"$f":"'Weende v Armidale'!H23/('Weende v Armidale'!R23/1000)","v":415.45942783238661},{"$f":"Digestibility!C8/100","v":0.82709572641675622},{"$f":"'AA Energy'!W30","v":11.506283078335025},{"$f":"'Weende v Armidale'!I23/('Weende v Armidale'!R23/1000)","v":105.28044021829405},1,10.56,{"$f":"'Weende v Armidale'!L23/('Weende v Armidale'!R23/1000)","v":3.8992755636405203},0,8.1999999999999993,{"$f":"'Weende v Armidale'!M23/('Weende v Armidale'!R23/1000)","v":0},0.7,8.1999999999999993,{"$f":"'Weende v Armidale'!P23/('Weende v Armidale'!R23/1000)","v":44.776941038558554},1,6.33,null,6.7536536970457304,1.6141619734812931,null,null,null,null,null,null,"Soybean Meal (local)",6.772328353237997,{"$f":"'AMEn Calc'!P9","v":10.45389275},0.64782837505559809,69.811029996557593,74.256728972447235]
["Soybean Meal (local)",{"$f":"'Weende v Armidale'!H24/('Weende v Armidale'!R24/1000)","v":403.61467752683706},{"$f":"Digestibility!C9/100","v":0.858412877292976},{"$f":"'AA Energy'!W31","v":11.538818762546331},{"$f":"'Weende v Armidale'!I24/('Weende v Armidale'!R24/1000)","v":105.14975021561614},1,10.56,{"$f":"'Weende v Armidale'!L24/('Weende v Armidale'!R24/1000)","v":3.8944351931709678},0,8.1999999999999993,{"$f":"'Weende v Armidale'!M24/('Weende v Armidale'!R24/1000)","v":0},0.7,8.1999999999999993,{"$f":"'Weende v Armidale'!P24/('Weende v Armidale'!R24/1000)","v":41.227182413116722},1,6.33,null,6.772328353237997,1.6186253234316437,null,null,null,null,null,null,"Canola meal (solvent)",6.2121703260584198,{"$f":"'AMEn Calc'!P10","v":6.965246336249999},0.89188092224789484,64.036766434816826,49.475962857687364]
["Canola meal (solvent)",{"$f":"'Weende v Armidale'!H25/('Weende v Armidale'!R25/1000)","v":329.43281493620549},{"$f":"Digestibility!C10/100","v":0.76103773471822678},{"$f":"'AA Energy'!W32","v":11.406764876603043},{"$f":"'Weende v Armidale'!I25/('Weende v Armidale'!R25/1000)","v":105.93581046570139},1,10.56,{"$f":"'Weende v Armidale'!L25/('Weende v Armidale'!R25/1000)","v":97.864510620695583},0,8.1999999999999993,{"$f":"'Weende v Armidale'!M25/('Weende v Armidale'!R25/1000)","v":0},0.7,8.1999999999999993,{"$f":"'Weende v Armidale'!P25/('Weende v Armidale'!R25/1000)","v":39.646287585697358},1,6.33,null,6.2121703260584198,1.4847443417921653,null,null,null,null,null,null,"Canola meal (pressed)",7.9224702897082802,{"$f":"'AMEn Calc'!P11","v":10.370379033333332},0.76395185404923183,81.667010545527305,73.663509243461718]
["Canola meal (pressed)",{"$f":"'Weende v Armidale'!H26/('Weende v Armidale'!R26/1000)","v":298.95081715248773},{"$f":"Digestibility!C11/100","v":0.75185469013067319},{"$f":"'AA Energy'!W33","v":11.326578025273735},{"$f":"'Weende v Armidale'!I26/('Weende v Armidale'!R26/1000)","v":96.078075810053619},1,10.56,{"$f":"'Weende v Armidale'!L26/('Weende v Armidale'!R26/1000)","v":88.757841462620959},0,8.1999999999999993,{"$f":"'Weende v Armidale'!M26/('Weende v Armidale'!R26/1000)","v":0},0.7,8.1999999999999993,{"$f":"'Weende v Armidale'!P26/('Weende v Armidale'!R26/1000)","v":35.88890228966104},1,6.33,null,7.9224702897082802,1.8935158436205257,null,null,null,null,null,null,"Lupins",7.5723949010394325,{"$f":"'AMEn Calc'!P12","v":7.9926169499999986},0.94742372221897031,78.058336809598273,56.773644500680163]
["Lupins",{"$f":"'Weende v Armidale'!H27/('Weende v Armidale'!R27/1000)","v":283.1520480479067},{"$f":"Digestibility!C12/100","v":0.835271324596914},{"$f":"'AA Energy'!W34","v":11.137863573817951},{"$f":"'Weende v Armidale'!I27/('Weende v Armidale'!R27/1000)","v":61.394289832137233},1,10.56,{"$f":"'Weende v Armidale'!L27/('Weende v Armidale'!R27/1000)","v":12.702266861821496},0,8.1999999999999993,{"$f":"'Weende v Armidale'!M27/('Weende v Armidale'!R27/1000)","v":91.52833706334826},0.7,8.1999999999999993,{"$f":"'Weende v Armidale'!P27/('Weende v Armidale'!R27/1000)","v":55.522142155408936},1,6.33,null,7.5723949010394325,1.8098458176480479,null,null,null,null,null,null,"Peas",8.2380468092534453,{"$f":"'AMEn Calc'!P13","v":11.592083580000001},0.71066143997328257,84.920060415981894,82.341595538754291]
["Peas",{"$f":"'Weende v Armidale'!H28/('Weende v Armidale'!R28/1000)","v":181.5767037078831},{"$f":"Digestibility!C13/100","v":0.74616878921568286},{"$f":"'AA Energy'!W35","v":11.226555064698676},{"$f":"'Weende v Armidale'!I28/('Weende v Armidale'!R28/1000)","v":48.815630232894478},1,10.56,{"$f":"'Weende v Armidale'!L28/('Weende v Armidale'!R28/1000)","v":3.984949406766896},0,8.1999999999999993,{"$f":"'Weende v Armidale'!M28/('Weende v Armidale'!R28/1000)","v":0},0.7,8.1999999999999993,{"$f":"'Weende v Armidale'!P28/('Weende v Armidale'!R28/1000)","v":34.905672814728526},1,6.33,null,8.2380468092534453,1.968940441982181,null,null,null,null,null,null,"Meat Meal",6.6615281333899086,{"$f":"'AMEn Calc'!P14","v":10.757325000000002},0.619255078134193,68.668870746741874,76.412087448814788]
["Meat Meal",{"$f":"'Weende v Armidale'!H29/('Weende v Armidale'!R29/1000)","v":446.97796992366341},{"$f":"Digestibility!C14/100","v":0.67976390825291044},{"$f":"'AA Energy'!W36","v":10.538948705173974},{"$f":"'Weende v Armidale'!I29/('Weende v Armidale'!R29/1000)","v":0},1,10.56,{"$f":"'Weende v Armidale'!L29/('Weende v Armidale'!R29/1000)","v":0},0,8.1999999999999993,{"$f":"'Weende v Armidale'!M29/('Weende v Armidale'!R29/1000)","v":0},0.7,8.1999999999999993,{"$f":"'Weende v Armidale'!P29/('Weende v Armidale'!R29/1000)","v":81.300046628943392},1,6.33,null,6.6615281333899086,1.5921434353226358,null,null,null,null,null,null,{"$f":"A34","v":"Meat & Bone Meal"},6.1693198377923073,{"$f":"'AMEn Calc'!P15","v":9.0690825000000004},0.68025843163212008,63.595051773967228,64.420060291058974]
["Meat & Bone Meal",{"$f":"'Weende v Armidale'!H30/('Weende v Armidale'!R30/1000)","v":425.96708451787947},{"$f":"Digestibility!C15/100","v":0.71847825194496284},{"$f":"'AA Energy'!W37","v":11.13516453731221},{"$f":"'Weende v Armidale'!I30/('Weende v Armidale'!R30/1000)","v":0},1,10.56,{"$f":"'Weende v Armidale'!L30/('Weende v Armidale'!R30/1000)","v":0},0,8.1999999999999993,{"$f":"'Weende v Armidale'!M30/('Weende v Armidale'!R30/1000)","v":0},0.7,8.1999999999999993,{"$f":"'Weende v Armidale'!P30/('Weende v Armidale'!R30/1000)","v":74.34764645616724},1,6.33,null,6.1693198377923073,1.4745028293002647,null,null,null,null,null,null,"Tallow",{"$f":"R35","v":24.779049999999998},{"$f":"'AMEn Calc'!P16","v":29.3},{"$f":"AA34/AB34","v":0.84570136518771322},{"$f":"AA34/AA$25*100","v":255.42928703525146},{"$f":"AB34/AB$25*100","v":208.12554814977454}]
["Tallow*",0,0,{"$f":"'AA Energy'!W38","v":0},0,0,10.56,0,0,0,0,0,0,0,0,0,null,24.779049999999998,{"$f":"R35/4.184","v":5.9223350860420645},null,null,null,null,null,null,"Fat, Vegetable",24.779049999999998,{"$f":"'AMEn Calc'!P17","v":36.599999999999994},0.67702322404371584,255.42928703525146,259.97935366149301]
["Fat, Vegetable*",0,0,{"$f":"'AA Energy'!W39","v":0},0,0,10.56,0,0,0,0,0,0,0,0,0,null,24.779049999999998,{"$f":"R36/4.184","v":5.9223350860420645}]
["*Moisture includes insolubles and unsaponifiables"]
[]
[null,"NE of Wheat = (E4*D4*C4+F4*G4*H4+D20*C20*B20+G20*F20*E20+K4*J4*I4+N4*M4*L4+J20*I20*H20+M20*L20*K20+Q4*P4*O4+T4*S4*R4+P20*O20*N20)/1000"]
[]
[]
[null,null,null,null,null,null,null,null,null,null,null,null,null,null,null,null,null,null,null,null,null,null,null,null,null,null,"NE","AMEn"]
[null,null,null,null,null,null,null,null,null,null,null,null,null,null,null,null,null,null,null,null,null,null,null,null,null,{"$f":"Z22","v":"Wheat"},9.4025091701748309,13.285977750000001]
[null,null,null,null,null,null,null,null,null,null,null,null,null,null,null,null,null,null,null,null,null,null,null,null,null,"Sorghum",9.6425243425650944,12.247171758333337]
[null,null,null,null,null,null,null,null,null,null,null,null,null,null,null,null,null,null,null,null,null,null,null,null,null,"Barley",8.5797568718303481,11.835597999999997]
[null,null,null,null,null,null,null,null,null,null,null,null,null,null,null,null,null,null,null,null,null,null,null,null,null,"Maize",9.7009431798555941,14.078041000000001]
[null,null,null,null,null,null,null,null,null,null,null,null,null,null,null,null,null,null,null,null,null,null,null,null,null,{"$f":"Z27","v":"Soybean Meal (local)"},6.772328353237997,10.45389275]
[null,null,null,null,null,null,null,null,null,null,null,null,null,null,null,null,null,null,null,null,null,null,null,null,null,"Canola meal (solvent)",6.2121703260584198,6.965246336249999]
[null,null,null,null,null,null,null,null,null,null,null,null,null,null,null,null,null,null,null,null,null,null,null,null,null,"Canola meal (pressed)",7.9224702897082802,10.370379033333332]
[null,null,null,null,null,null,null,null,null,null,null,null,null,null,null,null,null,null,null,null,null,null,null,null,null,"Lupins",7.5723949010394325,7.9926169499999986]
[null,null,null,null,null,null,null,null,null,null,null,null,null,null,null,null,null,null,null,null,null,null,null,null,null,"Peas",8.2380468092534453,11.592083580000001]
[null,null,null,null,null,null,null,null,null,null,null,null,null,null,null,null,null,null,null,null,null,null,null,null,null,"Meat Meal",6.6615281333899086,10.757325000000002]
[null,null,null,null,null,null,null,null,null,null,null,null,null,null,null,null,null,null,null,null,null,null,null,null,null,"Meat & Bone Meal",6.1693198377923073,9.0690825000000004]

{"sheet":"AA Energy","index":17,"n_rows":37,"n_cols":23,"rows_kept":37,"cut":false,"hidden":false,"merged":[[0,3,0,20],[23,3,23,20]]}
[null,null,null,"DIGESTIBLE AMINO ACIDS (G/KG)"]
[null,null,null,"Alanine","Arginine","ASP / ASN","Cysteine","GLY / GLN","Glycine","Histidine","Isoleucine","Leucine","Lysine","Methionine","Phenyl-alanine","Proline","Serine","Threonine","Tryptophan","Tyrosine","Valine","dTP"]
[null,null,"Wheat",3.8,4.8500000000000005,5,1.9500000000000002,34.6,4.3,2.3833333333333333,3.5833333333333335,7.0166666666666666,2.7166666666666668,1.5333333333333332,5,14,5.4,2.8166666666666664,0.93333333333333346,3.5999999999999996,4.3166666666666673,{"$f":"SUM(D3:U3)","v":107.8}]
[null,null,"Sorghum",5.7,1.9333333333333336,3.7,1.35,13.5,1.6,1.6333333333333335,3.0333333333333332,10.6,1.5666666666666667,1.2333333333333332,3.5999999999999996,8.4,2.9,2.2333333333333334,1,3.5,3.6666666666666665,71.15000000000002]
[null,null,"Barley",2.7,3.8000000000000003,3.4,1.7000000000000002,18.8,2.2999999999999998,1.6333333333333335,2.6666666666666665,5.3666666666666663,2.6999999999999997,1.2666666666666666,3.5,12.8,2.7,2.1999999999999997,0.93333333333333324,3.1,3.6333333333333333,75.200000000000017]
[null,null,"Corn",5.9,3.65,4.5,1.8,14.8,2.6,2.2999999999999998,2.9000000000000004,10.45,2.15,1.5,4.0500000000000007,7.9,3.3,2.5999999999999996,0.5,2.8000000000000003,3.8,77.499999999999986]
[null,null,"Soybean Meal  (Brazil)",16.399999999999999,32.287500000000001,41.6,5.6749999999999998,74.7,15.7,10.675000000000001,19.1875,31.862500000000001,25.824999999999999,5.55,19.3,28.3,22.8,15.4625,5.7374999999999989,17.100000000000001,19.024999999999999,407.18750000000006]
[null,null,"Soybean Meal (local)",15.871135822081015,31.2,40.258490865766483,5.4,72.291088165210482,15.193709293089753,10.9,18.399999999999999,31.3,25.9,5.7,20.9,28.3,22.064749801429706,15.1,5.6,17.100000000000001,19.600000000000001,401.07917394757749]
[null,null,"Canola meal (solvent)",11.1,18.507500000000004,16.399999999999999,5.6049999999999986,50.1,12.7,8.5737500000000004,11.81625,20.096249999999998,15.526249999999999,5.6774999999999993,11,12.5,11.8,11.506249999999998,3.8037500000000009,5.2,14.18375,246.09625000000003]
[null,null,"Canola meal (pressed)",11.1,17.100000000000001,16.399999999999999,5.5,50.1,12.7,7.95,10.55,17.95,15.425000000000001,5.35,11,12.5,11.8,10.525,3.6749999999999998,5.2,12.95,237.77500000000001]
[null,null,"Lupins",9.1,32.85,26.1,3.9,56.7,10.9,7.55,11.2,19.2,14.4,1.75,11.15,14.9,12.2,9.0500000000000007,2.2000000000000002,12.8,10.75,266.70000000000005]
[null,null,"Peas",7,18.45,19.100000000000001,2.1,28.9,7,4.25,6.65,11.35,12.6,1.35,7.65,10.3,7.1,5.8,1.4,7.3,7.45,165.75]
[null,null,"Meat Meal",42.5,26.9,47.4,6.3,75.7,64.900000000000006,6,9.6,21.3,16.899999999999999,4.8,11.7,42.9,21.8,10.199999999999999,1.8,15.600000000000001,14.4,440.70000000000005]
[null,null,"Meat & Bone Meal",28.3,27.566666666666666,23.2,2.0875000000000004,46.1,49.1,6.9833333333333343,10.174999999999999,22.574999999999999,17.516666666666666,5.3166666666666673,11.7,42.199999999999996,13.5,10.924999999999999,2.0249999999999999,13.100000000000001,15.35,347.7208333333333]
[]
[null,null,"Energy Content",10.868902439024392,8.873239436619718,{"$f":"(F17+F18)/2","v":6.2298480146415223},6.0975609756097562,{"$f":"(H17+H18)/2","v":9.0307340662353681},5.679065743944637,8.4024896265560169,18.080357142857142,17.541118421052634,13.999999999999998,8.1725146198830405,12.534818941504179,15.306603773584905,15.398648648648646,10.030581039755353,11.05263157894737,12.388059701492537,15.97826086956522]
[null,null,null,null,null,5.6920903954802267,null,9.5081227436823106]
[null,null,null,null,null,6.767605633802817,null,8.5533453887884257]
[]
[null,null,"g/16g N",5.4,1.71,{"$f":"(F21+F22)/2","v":2.4550000000000001},1.1399999999999999,{"$f":"(H21+H22)/2","v":4.5199999999999996},3.59,2.41,6.08,2.68,4.1399999999999997,4.92,3.55,3.54,5.54,5.53,5.78,5.3,3.7]
[null,null,null,null,null,1.64,null,3.36]
[null,null,null,null,null,3.27,null,5.68]
[]
[null,null,null,"KJ / AMINO ACID",null,null,null,null,null,null,null,null,null,null,null,null,null,null,null,null,null,null,"Protein Energy Multiplier"]
[]
[null,null,{"$f":"C3","v":"Wheat"},{"$f":"(D3/100)*D$16","v":0.41301829268292689},0.43035211267605639,0.31149240073207612,0.11890243902439027,3.1246339869174378,0.24419982698961937,0.20025933609958504,0.6478794642857143,1.2308018092105264,0.3803333333333333,0.12531189083820662,0.626740947075209,{"$f":"(P3/100)*P$16","v":2.142924528301887},0.83152702702702697,0.28252803261977572,0.10315789473684213,0.4459701492537313,0.6897282608695654,{"$f":"SUM(D26:U26)","v":12.349761732673912},{"$f":"(V26/V3)*100","v":11.456179714910865}]
[null,null,{"$f":"C4","v":"Sorghum"},{"$f":"(D4/100)*D$16","v":0.61952743902439034},0.17154929577464789,0.23050437654173636,8.2317073170731725E-2,{"$f":"(H4/100)*H$16","v":1.2191490989417748},{"$f":"(I4/100)*I$16","v":9.0865051903114197E-2},0.13724066390041495,0.54843750000000002,1.859358552631579,0.2193333333333333,0.10079434697855749,{"$f":"(O4/100)*O$16","v":0.45125348189415043},1.2857547169811321,0.44656081081081067,0.22401630988786955,0.11052631578947369,0.43358208955223881,0.58586956521739142,8.8166400223333472,{"$f":"(V27/V4)*100","v":12.391623362379965}]
[null,null,"Barley",0.29346036585365864,0.33718309859154932,0.21181483249781177,0.10365853658536586,{"$f":"(H5/100)*H$16","v":1.6977780044522492},0.13061851211072664,0.13724066390041495,0.4821428571428571,0.94137335526315791,0.37799999999999989,0.10351851851851851,{"$f":"(O5/100)*O$16","v":0.43871866295264633},1.959245283018868,0.41576351351351348,0.22067278287461775,0.10315789473684212,0.38402985074626866,0.58054347826086972,8.9189202110199357,11.860266238058422]
[null,null,"Corn",0.64126524390243922,0.32387323943661966,0.2803431606588685,0.10975609756097562,{"$f":"(H6/100)*H$16","v":1.3365486418028347},0.14765570934256059,0.19325726141078839,0.52433035714285725,1.8330468750000002,0.30099999999999993,0.12258771929824561,{"$f":"(O6/100)*O$16","v":0.50766016713091933},1.2092216981132076,0.50815540540540538,0.26079510703363912,5.5263157894736847E-2,0.34686567164179111,0.60717391304347834,9.308799425819366,12.011354097831441]
[null,null,"Soybean Meal  (Brazil)",1.7825000000000002,2.8649471830985918,2.5916167740908733,0.34603658536585363,{"$f":"(H7/100)*H$16","v":6.7459583474778197},0.89161332179930797,0.89696576763485492,3.469168526785714,5.5890388569078953,3.615499999999999,0.45357456140350877,{"$f":"(O7/100)*O$16","v":2.4192200557103067},4.331768867924529,3.5108918918918914,1.5509785932721716,0.63414473684210526,2.118358208955224,3.0398641304347827,46.852146409595434,11.506283078335025]
[null,null,"Soybean Meal (local)",1.7250182684670374,2.7684507042253519,2.508042793925592,0.3292682926829269,{"$f":"(H8/100)*H$16","v":6.5284159257879075},0.86286073969839294,0.91587136929460589,3.3267857142857142,5.4903700657894747,3.6259999999999994,0.46583333333333332,{"$f":"(O8/100)*O$16","v":2.6197771587743732},4.331768867924529,3.3976732971255603,1.5146177370030582,0.61894736842105269,2.118358208955224,3.1317391304347835,46.279798976128909,11.538818762546331]
[null,null,"Canola meal (solvent)",1.2064481707317076,1.6422147887323948,1.0216950744012094,0.34176829268292674,{"$f":"(H9/100)*H$16","v":4.5243977671839195},0.72124134948096896,0.72040845435684653,2.1364202008928572,3.5251070106907898,2.1736749999999998,0.46399451754385956,{"$f":"(O9/100)*O$16","v":1.3788300835654597},1.9133254716981132,1.8170405405405403,1.1541437308868501,0.4204144736842107,0.64417910447761195,2.266316576086957,28.071620607637222,11.406764876603043]
[null,null,"Canola meal (pressed)",1.2064481707317076,1.5173239436619719,1.0216950744012094,0.33536585365853661,{"$f":"(H10/100)*H$16","v":4.5243977671839195},0.72124134948096896,0.66799792531120339,1.9074776785714287,3.1486307565789478,2.1594999999999995,0.43722953216374266,{"$f":"(O10/100)*O$16","v":1.3788300835654597},1.9133254716981132,1.8170405405405403,1.0557186544342509,0.40618421052631581,0.64417910447761195,2.069184782608696,26.931770899594625,11.326578025273735]
[null,null,"Lupins",0.98907012195121968,2.9148591549295775,1.6259903318214373,0.23780487804878048,{"$f":"(H11/100)*H$16","v":5.1204262155554545},0.6190181660899654,0.63438796680497922,2.0249999999999999,3.3678947368421057,2.016,0.14301900584795321,{"$f":"(O11/100)*O$16","v":1.3976323119777161},2.2806839622641508,1.8786351351351347,0.90776758409785951,0.24315789473684216,1.5856716417910448,1.7176630434782612,29.704682151372481,11.137863573817951]
[null,null,"Peas",0.76082317073170758,1.6371126760563379,1.1899009707965307,0.12804878048780488,{"$f":"(H12/100)*H$16","v":2.6098821451420213},0.39753460207612462,0.35710580912863077,1.20234375,1.9909169407894738,1.7639999999999998,0.11032894736842105,{"$f":"(O12/100)*O$16","v":0.9589136490250697},1.5765801886792454,1.0933040540540537,0.58177370030581044,0.15473684210526317,0.90432835820895519,1.1903804347826088,18.608015019738055,11.226555064698676]
[null,null,"Meat Meal",4.6192835365853666,2.3869014084507039,2.9529479589400816,0.38414634146341464,{"$f":"(H13/100)*H$16","v":6.8362656881401733},3.6857136678200697,0.50414937759336098,1.7357142857142858,3.736258223684211,2.3659999999999997,0.39228070175438595,{"$f":"(O13/100)*O$16","v":1.4665738161559889},6.5665330188679247,3.3569054054054046,1.0231192660550459,0.19894736842105268,1.9325373134328361,2.3008695652173921,46.445146943701708,10.538948705173974]
[null,null,"Meat & Bone Meal",3.0758993902439031,2.446056338028169,1.4453247393968331,0.12728658536585369,{"$f":"(H14/100)*H$16","v":4.1631684045345052},2.7884212802768169,0.58677385892116196,1.8396763392857141,3.959907483552632,2.4523333333333328,0.4345053606237817,{"$f":"(O14/100)*O$16","v":1.4665738161559889},6.459386792452829,2.0788175675675671,1.0958409785932721,0.22381578947368425,1.6228358208955225,2.4526630434782613,38.719286922179826,11.13516453731221]

{"sheet":"Phospholipids","index":18,"n_rows":95,"n_cols":26,"rows_kept":95,"cut":false,"hidden":false,"merged":[[5,17,5,22]]}
[null,null,null,null,null,null,null,"Mol. Wt.",null,314.25,299.20999999999998,455.4,811,613,552.70000000000005]
[null,null,"From ","Phospholipids in Foods",null,null,"Mol. Wt.","Nitrogen",null,14,14,14,0,14,14]
[null,null,null,"Weihrarch, JL & Y-S Son",null,null,null,"%N",null,{"$f":"(J2/J1)*100","v":4.4550517104216389},4.6789880017379106,3.0742204655248138,0,2.2838499184339316,2.5330197213678303]
[null,null,null,"JOACS 60:1971-1978",null,null,null,"GE",null,8.4,8.4,8.4,8.4,8.4,8.4]
[]
[null,null,null,null,null,null,null,{"$f":"AVERAGE(H9:H11)","v":5.8772522522522523},null,null,null,null,null,null,null,null,null,"Nitrogen content"]
[null,null,null,null,null,"Total Lipid","Total P-lipid","%PL",null,"PC","PE","PS","PI","SPH","LPC","P-Lipid Sum",null,"PC","PE","PS","PI","SPH","LPC","N Sum","%N"]
[null,null,"Barley, whole grin",null,null,3,506,{"$f":"((G8/1000)/F8)*100","v":16.866666666666667},null,258,45,29,8,null,145,{"$f":"SUM(J8:O8)","v":485},null,{"$f":"J8*J$3/100","v":11.494033412887829},{"$f":"K8*K$3/100","v":2.1055446007820597},0.89152393500219607,0,0,3.6728785959833541,{"$f":"SUM(R8:W8)","v":18.163980544655438},{"$f":"X8/P8","v":3.745150627764008E-2}]
[null,null,"Corn, whole grain",null,"Hybrid",3.7,213,{"$f":"((G9/1000)/F9)*100","v":5.7567567567567561},null,139,15,null,26,null,10,{"$f":"SUM(J9:O9)","v":190},null,{"$f":"J9*J$3/100","v":6.1925218774860786},0.70184820026068662,0,0,0,0.25330197213678302,{"$f":"SUM(R9:W9)","v":7.147672049883548},{"$f":"X9/P9","v":3.7619326578334465E-2}]
[null,null,null,null,"Amylomaize",8,350,4.375,null,70,28,null,36,null,127,261,null,3.1185361972951471,1.3101166404866149,0,0,0,3.2169350461371442,7.645587883918906,2.9293440168271671E-2]
[null,null,null,null,"Lg-11",4.2,315,7.5,{"$f":"AVERAGE(H9:H11)","v":5.8772522522522523},58,15,null,21,null,178,272,null,2.5839299920445509,0.70184820026068662,0,0,0,4.5087751040347372,7.7945532963399753,2.8656445942426379E-2]
[null,null,"Corn, Endosperm",null,"Amylomaize",1.8,195,10.833333333333334,null,21,5,null,6,null,130,162,null,0.93556085918854426,0.23394940008689552,0,0,0,3.292925637778179,4.4624358970536191,2.7545900599096413E-2]
[null,null,null,null,"Lg-11",1.2,253,21.083333333333336,null,3,1,null,3,null,216,223,null,0.13365155131264916,4.6789880017379104E-2,0,0,0,5.4713225981545133,5.6517640294845419,2.5344233316074178E-2]
[null,null,"Corn, Germ",null,"Amylomaize",41.6,1044,2.5096153846153846,null,331,153,null,201,null,8,693,null,14.746221161495626,7.1588516426590036,0,0,0,0.20264157770942642,22.107714381864053,3.1901463754493584E-2]
[null,null,null,null,"Lg-11",38.299999999999997,1029,2.6866840731070494,null,658,171,null,217,null,20,1066,null,29.314240254574383,8.0010694829718272,0,0,0,0.50660394427356603,37.821913681819773,3.5480219213714609E-2]
[null,null,"Corn, Starch",null,"Amylomaize",0.9,187,20.777777777777779,null,null,null,null,null,null,161,161,null,0,0,0,0,0,4.0781617514022068,4.0781617514022068,2.5330197213678303E-2]
[null,null,null,null,"Lg-11",0.6,226,37.666666666666671,null,null,null,null,null,null,199,199,null,0,0,0,0,0,5.040709245521982,5.040709245521982,2.5330197213678303E-2]
[null,null,"Oats, dehullled (groats)",null,null,5.8,1439,24.81034482758621,null,430,213,46,null,null,294,983,null,19.156722354813049,9.9662444437017488,1.4141414141414144,0,0,7.4470779808214207,37.984186193477633,3.8641084632225466E-2]
[null,null,"Rice","Brown",null,2.1,85,4.0476190476190474,null,29,33,3,null,null,2,67,null,1.2919649960222754,1.5440660405735105,9.2226613965744414E-2,0,0,5.0660394427356606E-2,2.9789180449888875,4.4461463358043095E-2]
[null,null,null,"Bran",null,17.899999999999999,365,2.039106145251397,null,153,148,23,null,null,null,324,null,6.8162291169451077,6.9249022425721076,0.70707070707070718,0,0,0,14.448202066587923,4.4593216254900994E-2]
[null,null,null,"Endosperm",null,0.4,57,14.249999999999998,null,17,22,1,null,null,2,42,null,0.75735879077167867,1.0293773603823404,3.0742204655248139E-2,0,0,5.0660394427356606E-2,1.8681387502366238,4.4479494053252945E-2]
[null,null,null,"Starch","Nonglutinous",0.9,272,30.222222222222221,null,69,60,9,null,null,106,244,null,3.0739856801909311,2.8073928010427465,0.27667984189723321,0,0,2.6850009046499004,8.8430592277808113,3.6242046015495126E-2]
[null,null,null,null,"Glutinous",0.8,118,14.75,null,7,5,null,4,null,99,115,null,0.31185361972951475,0.23394940008689552,0,0,0,2.5076895241541517,3.0534925439705622,2.6552109078004888E-2]
[null,null,"Rye","Whole grain Flour",null,3.1,743,23.967741935483868,null,273,90,184,null,null,196,743,null,12.162291169451075,{"$f":"K24*K$3/100","v":4.2110892015641195},{"$f":"L24*L$3/100","v":5.6565656565656575},{"$f":"M24*M$3/100","v":0},{"$f":"N24*N$3/100","v":0},{"$f":"O24*O$3/100","v":4.9647186538809471},26.994664681461799,3.6331984766435801E-2]
[null,null,null,"Endosperm flour",null,1.2,192,16,null,37,60,38,null,null,57,192,null,1.6483691328560064,2.8073928010427465,1.1682037768994291,0,0,1.4438212411796634,7.0677869519778458,3.6811390374884616E-2]
[null,null,null,"Germ",null,16.5,1071,6.4909090909090903,null,346,132,230,null,null,0,708,null,15.414478918058871,6.176264162294042,7.0707070707070718,0,0,0,28.661450151059984,4.0482274224660997E-2]
[null,null,"Triticale","Whole grain Flour",null,3.4,938,27.588235294117645,null,321,186,206,null,null,225,938,null,14.300715990453462,8.7029176832325135,6.3328941589811167,0,0,5.6992943730776178,35.035822205744708,3.7351622820623355E-2]
[null,null,null,"Light (Endosperm) flour",null,1.7,493,28.999999999999996,null,135,125,78,null,null,155,493,null,6.014319809069212,5.848735002172389,2.3978919631093545,0,0,3.9261805681201372,18.187127342471094,3.6890724832598566E-2]
[null,null,"Wheat","Whole grain","Soft",2.5,667,26.680000000000003,null,49,19,null,null,null,476,544,null,2.182975338106603,0.88900772033020303,0,0,0,12.057173873710871,15.129156932147676,2.7810950242918523E-2]
[null,null,null,null,"Hard",2.5,1060,42.400000000000006,null,164,56,null,null,null,408,628,null,7.3062848050914875,2.6202332809732298,0,0,0,10.334720463180748,20.261238549245466,3.2263118708989597E-2]
[null,null,null,null,"Hard red spring",2.6,949,36.5,null,179,50,null,69,null,458,756,null,7.974542561654733,2.3394940008689553,0,0,0,11.601230323864662,21.915266886388352,2.8988448262418455E-2]
[null,null,null,null,"Durham",2.8,1021,36.464285714285715,null,173,35,null,63,null,545,816,null,7.7072394590294353,1.6376458006082686,0,0,0,13.804957481454675,23.149842741092378,2.8369905319966148E-2]
[null,null,"Wheat flour","High-grade winter",null,1,251,25.1,null,47,10,null,null,null,78,135,null,2.0938743038981702,0.46789880017379104,0,0,0,1.9757553826669076,4.5375284867388688,3.3611322123991622E-2]
[null,null,null,"High-grade spring",null,1.1000000000000001,307,27.909090909090907,null,76,13,null,null,null,102,191,null,3.3858392999204456,0.60826844022592841,0,0,0,2.583680115795187,6.577787855941561,3.4438679874039584E-2]
[null,null,null,"Low-grade winter",null,1.4,253,18.071428571428573,null,65,13,null,null,null,68,146,null,2.8957836117740654,0.60826844022592841,0,0,0,1.7224534105301246,5.2265054625301186,3.5797982620069307E-2]
[null,null,null,"Low-grade spring",null,1.5,300,20,null,84,16,null,null,null,88,188,null,3.742243436754177,0.74863808027806567,0,0,0,2.2290573548036905,6.7199388718359332,3.5744355701254962E-2]
[null,null,"Starch",null,null,0.7,677,96.714285714285737,null,null,null,null,null,null,548,548,null,0,0,0,0,0,13.880948073095711,13.880948073095711,2.5330197213678303E-2]
[null,null,"Beef","Brain","Brain",12.1,5433,44.900826446280988,null,1307,1948,871,242,944,null,5312,null,58.227525855210821,91.146686273854499,26.77646025472113,0,21.559543230016317,0,197.71021561380277,3.7219543601996002E-2]
[null,null,null,"Muscle: Psoas Major",null,4.0999999999999996,660,16.09756097560976,null,407,207,null,null,46,null,660,null,18.132060461416071,9.6855051635974743,0,0,1.0505709624796085,0,28.868136587493151,4.3739600890141138E-2]
[null,null,null,"Extensor","radialis",1.5,590,39.333333333333329,null,368,171,null,null,51,null,590,null,16.39459029435163,8.0010694829718272,0,0,1.1647634584013051,0,25.560423235724762,4.3322751246991122E-2]
[null,null,null,"Biceps femoris","Fattened",7.4,827,11.175675675675674,null,385,148,75,38,63,null,709,null,17.151949085123309,6.9249022425721076,2.3056653491436103,0,1.4388254486133769,0,27.8213421254524,3.9240256876519608E-2]
[null,null,null,null,"Lean",2.2999999999999998,853,37.086956521739133,null,365,161,64,37,99,null,726,null,16.260938743038981,7.533170682798036,1.9675010979358809,0,2.2610114192495923,0,28.022621943022489,3.8598652814080564E-2]
[null,null,null,"L. dorsi:","Fattened",12.4,690,5.564516129032258,null,340,124,96,32,44,null,636,null,15.147175815433572,5.8019451221550096,2.9512516469038212,0,1.00489396411093,0,24.905266548603333,3.9159224133024105E-2]
[null,null,null,null,"Lean",1.7,597,35.117647058823529,null,260,106,48,44,69,null,527,null,11.583134447096262,4.9597272818421851,1.4756258234519106,0,1.5758564437194127,0,19.594343996109771,3.7180918398690269E-2]
[null,null,null,"Massetter:","Fattened",3.8,1163,30.60526315789474,null,589,286,141,41,46,null,1103,null,26.240254574383453,13.381905684970425,4.3346508563899873,0,1.0505709624796085,0,45.007382078223472,4.0804516843357633E-2]
[null,null,null,null,"Lean",4.5999999999999996,1120,24.347826086956527,null,439,279,123,68,70,null,979,null,19.557677008750996,13.054376524848772,3.7812911725955214,0,1.598694942903752,0,37.992039649099048,3.8806986362716088E-2]
[null,null,"Calf:","Muscle","Masseter",1.33,867,65.187969924812023,null,333,168,96,40,39,null,676,null,14.835322195704057,7.8606998429196899,2.9512516469038212,0,0.89070146818923335,0,26.5379751537168,3.9257359694847338E-2]
[null,null,null,null,"L. dorsi",1.1299999999999999,853,75.486725663716825,null,318,197,95,49,60,null,719,null,14.167064439140811,9.217606363423684,2.9205094422485729,0,1.3703099510603591,0,27.675490195873426,3.8491641440714083E-2]
[null,null,null,null,"Biceps femoris",1.05,897,85.428571428571431,null,348,178,95,46,44,null,711,null,15.503579952267303,8.3285986430934802,2.9205094422485729,0,1.00489396411093,0,27.757582001720287,3.9040199721125581E-2]
[null,null,"Pork","Muscle","L. Ddorsi",2.58,596,23.100775193798448,null,304,167,57,null,34,29,591,null,13.543357199681783,7.8139099629023114,1.7523056653491438,0,0.77650897226753668,0.73457571919667075,24.620657519397444,4.1659318983752018E-2]
[null,null,null,"Semitendinosus","Light",7.2,727,10.097222222222221,null,451,198,null,null,78,null,727,null,20.09228321400159,9.2643962434410625,0,0,1.7814029363784667,0,31.138082393821119,4.2830924888337167E-2]
[null,null,null,null,"Dark",4.4000000000000004,810,18.409090909090907,null,469,257,null,null,83,null,809,null,20.894192521877486,12.024999164466431,0,0,1.8955954323001631,0,34.814787118644077,4.303434748905325E-2]
[null,null,"Organ",null,"Kidney",2.9,2340,80.689655172413794,null,842,398,164,70,328,null,1802,null,37.511535401750194,18.622372246916886,5.0417215634606949,0,7.4910277324632952,0,68.666656944591068,3.8105802965921788E-2]
[null,null,null,null,"Liver",3.7,2901,78.405405405405389,null,1688,618,38,209,131,61,2745,null,75.201272871917269,28.916145850740286,1.1682037768994291,0,2.9918433931484505,1.5451420300343763,109.82260792273982,4.0008236037427987E-2]
[null,null,null,null,"Lung",2,1590,79.5,null,795,191,127,80,191,null,1384,null,35.417661097852026,8.9368670833194095,3.9042599912165135,0,4.3621533442088092,0,52.620941516596751,3.802091150043118E-2]
[null,null,null,null,"Spleen",2.4500000000000002,1240,50.612244897959179,null,409,174,161,25,236,null,1005,null,18.221161495624504,8.1414391230239644,4.9494949494949507,0,5.3898858075040792,0,36.701981375647499,3.6519384453380599E-2]
[null,null,"Rabbit:",null,"Skeletal Muscle",2.2599999999999998,510,22.56637168141593,null,276,122,null,null,null,null,398,null,12.295942720763724,5.7083653621202508,0,0,0,0,18.004308082883973,4.5236954982120534E-2]
[null,null,"Peanut",null,null,48.5,620,1.2783505154639174,null,270,50,null,150,null,null,470,null,12.028639618138424,2.3394940008689553,0,0,0,0,14.368133619007379,3.0570497061717827E-2]
[null,null,"Rapeseed",null,null,44.5,1535,3.4494382022471912,null,747,127,null,282,null,null,1156,null,33.279236276849645,5.9423147622071459,0,0,0,0,39.221551039056791,3.3928677369426292E-2]
[null,null,"Peas",null,null,0.8,575,71.874999999999986,null,575,357,103,116,null,null,1151,null,25.616547334924427,16.703987166204339,{"$f":"L60*L$3/100","v":3.1664470794905584},0,0,0,{"$f":"SUM(R60:W60)","v":45.486981580619322},{"$f":"X60/P60","v":3.9519532216002885E-2}]
[null,null,"Lupins",null,null,1.5,{"$f":"SUM(J61:M61)","v":642.5},42.833333333333329,null,{"$f":"(320+577)/2","v":448.5},94,null,100,null,null,642.5,null,{"$f":"J61*J$3/100","v":19.980906921241051},{"$f":"K61*K$3/100","v":4.3982487216336361},0,0,0,0,{"$f":"SUM(R61:W61)","v":24.379155642874686},{"$f":"X61/P61","v":3.7944211117314684E-2}]
[null,null,"Soybeans, mature",null,null,20.8,2038,9.7980769230769216,null,917,536,null,287,null,null,1740,null,40.85282418456643,25.079375689315203,0,0,0,0,65.932199873881629,3.7892068893035417E-2]
[null,null,"Sunflower seed",null,null,57.4,1092,1.9024390243902443,null,385,142,null,265,null,null,792,null,17.151949085123309,6.6441629624678331,0,0,0,0,23.796112047591144,3.0045596019685789E-2]
[]
[null,null,null,null,null,null,null,null,null,null,null,null,null,null,null,null,null,null,null,null,null,null,null,"min =",{"$f":"MIN(Y8:Y63)","v":2.5330197213678303E-2}]
[null,null,null,null,null,null,null,null,null,null,null,null,null,null,null,null,null,null,null,null,null,null,null,"max =",{"$f":"MAX(Y8:Y63)","v":4.5236954982120534E-2}]
[null,null,null,null,null,null,null,null,null,null,null,null,null,null,null,null,null,null,null,null,null,null,null,"mean =",{"$f":"AVERAGE(Y8:Y63)","v":3.6059346727815564E-2},"Use this for any ingredient not known"]
[]
[]
[null,null,null,null,null,null,null,null,null,null,null,null,null,null,null,null,null,"pc","pe"]
[]
[null,null,null,null,null,null,null,null,null,null,null,null,null,null,null,null,null,314.25,299.20999999999998]
[null,null,null,null,null,null,null,null,null,null,null,null,null,null,null,null,null,14,14]
[]
[null,null,null,null,null,null,null,null,null,null,null,null,null,null,null,null,null,{"$f":"R73/R72","v":4.455051710421639E-2},{"$f":"S73/S72","v":4.6789880017379104E-2}]
[]
[null,null,null,null,null,null,null,null,null,null,null,null,null,null,null,null,null,0.02]
[null,null,null,null,null,null,null,null,null,null,null,null,null,null,null,null,null,{"$f":"R77*R75","v":8.9101034208432779E-4}]
[null,null,null,null,null,null,null,null,null,null,null,null,null,null,null,null,null,6.25]
[null,null,null,null,null,null,null,null,null,null,null,null,null,null,null,null,null,{"$f":"R79*R78","v":5.5688146380270488E-3},"One half of the crudeprotein in SBM comes from phospholipids, not protein"]
[]
[]
[]
[]
[]
[]
[null,null,null,null,null,null,null,null,null,null,null,null,null,null,null,null,null,null,null,null,null,{"$f":"1/6.25","v":0.16}]
[null,null,null,null,null,null,null,null,null,null,null,null,null,null,null,null,null,null,null,null,null,0.04]
[]
[]
[]
[]
[]
[null,null,null,null,null,null,null,null,null,null,null,null,null,null,null,null,null,null,null,"plipid in wheat","%n in PL of wheat","n in PL of wheat","% CP from PL of wheat","% CP inm wheat"]
[null,null,null,null,null,null,null,null,null,null,null,null,null,null,null,null,null,{"$f":"AVERAGE(F29:F32)","v":2.5999999999999996},{"$f":"AVERAGE(H29:H32)","v":35.511071428571434},{"$f":"R95*S95*0.01","v":0.92328785714285722},{"$f":"R75","v":4.455051710421639E-2},{"$f":"T95*U95","v":4.1132951471758161E-2},{"$f":"V95/0.16","v":0.25708094669848852},11.6,{"$f":"(W95/X95)*100","v":2.2162150577455906}]

{"sheet":"Sheet1","index":19,"n_rows":0,"n_cols":0,"rows_kept":0,"cut":false,"hidden":false,"merged":[]}